{"text_format":"3","workbook":"xlsx","n_sheets":5,"sheets":["Ruta","Resumen","Promociones","Hoja1","Encuesta"],"not_rendered":{"defined_names":4,"comments":2,"pivot_tables":1},"read":"whole","date_system":"1900"}

{"sheet":"Ruta","index":0,"n_rows":184,"n_cols":27,"rows_kept":184,"merged":[[1,1,1,26]]}
[]
[null,"Aliados Red de la Alegría"]
[null,"Activo","#","Ciudad","Canal ","Responsable","Cliente","Línea Domicilio","Promoción","Dirección","Nit","Uds Sem 1","Uds Sem 2","Uds Sem 3","Uds Sem 4","Uds Sem 5","Uds Sem 6","Uds Sem 7","Uds Sem 8","Uds Sem 9","Uds Sem 10","Uds Sem 11","Uds Sem 12","Uds Sem 13","Uds Sem 14","Uds Sem 15","Observación"]
[null,"SI",1,"La Unión ","Supermercado","Jhenny Romero","Supermercado MercaPlaza",2023491,"Marques 3años Botella + Can Agte ","Calle 14 # 15 - 13",null,null,8,6,8,7,6,6,8,12,4,3,2,4,3]
[null,"SI",{"$f":"+C4+1","v":2},"Rozo","Licorera","Katherine Rengifo","Estanco Blanco del Valle",3122475697,"Marques 3años Botella + Can Agte ","Calle 10 # 9A- 29",null,{"$f":"4*12","v":48},48,60,180,360,480,360,480,600,360,480,420,144,360]
[null,"SI",{"$f":"+C5+1","v":3},"Guacarí","Mayorista ","Katherine Rengifo","Licores Los Paisas",3216537169,"Marques 3años Botella + Can Agte ","Carrera 7 # 4 - 80",null,0,36,120,360,360,540,600,720,900,600,600,480,252,336]
[null,"NO",4,"Valle ","Supermercado","Miriam Mejia","SurtiFamiliar",4873041,"Marques 3años Botella + Can Agte  - Marques 3años Botella  + Can Marques 3años -Marques Bot 3años P2 x 3 - Marques Can P2 X3 -",{"$nulls":3},90]
[null,"NO",5,"Cali ","Supermercado","Miriam Mejia","Supermercados Galerías Plaza",3041365780,null,"Cl. 19 Oe. #4 A 11",null,null,70]
[null,"NO",6,"Valle ","Supermercado","Miriam Mejia","Confandi",3176365583,"Marques 3años Botella + Can Agte  - Marques 3años Botella  + Can Marques 3años -Marques Bot 3años P2 x 3 - Marques Can P2 X3 -",{"$nulls":3},113]
[null,"SI",7,"Cali","Mayorista ","Edwin Polanco","Los Paisas de la 44","4415918 - 3113078334","Marques 3años Botella + Can Agte  - Marques 3años Botella  + Can Marques 3años","calle 44 # 14-62",null,360,420,396,600,540,480,720,660,600,780,2280,420,480,600]
[null,"SI",8,"Cali","Mayorista ","Edwin Polanco","Brisas de Juanchito","6560777 - 3153158897","Marques 3años Botella + Can Agte  - Marques 3años Botella  + Can Marques 3años -Marques Bot 3años P2 x 3 - Marques Can P2 X3","Carrera 8 #72-04",null,480,504,528,1320,1200,1200,1320,1380,1200,1620,1320,504,1320,1320]
[null,"SI",9,"Cali","Mayorista ","Edwin Polanco","La 66","3314763 - 3176095207","Marques 3años Botella + Can Agte  - Marques 3años Botella  + Can Marques 3años -Marques Bot 3años P2 x 3 - Marques Can P2 X3 - Marques 8años + Can 3 años - shot x Bot s,a - 2shock por Garrafa","Carrera 66 #10-12",null,540,552,576,1440,1200,1080,1140,1200,1080,960,600,552,1140,960]
[null,"SI",10,"Cali","Mayorista ","Edwin Polanco","Villa del Lago",6627676,"Marques 3años Botella + Can Agte  - Marques 3años Botella  + Can Marques 3años","Diagonal 70 # 25e-10",null,300,324,336,780,720,780,840,780,780,1200,1440,324,780,1200]
[null,"SI",11,"Cali","Mayorista ","Edwin Polanco","Los Panchos",6629305,"Marques 3años Botella + Can Agte  - Marques 3años Botella  + Can Marques 3años","calle 73 # 7tbII2-38",null,{"$f":"26*12","v":312},348,360,1440,1200,1104,1200,1104,1104,2760,2400,348,1104,2400]
[null,"SI",12,"Cali","Mayorista ","Edwin Polanco","La Mayorista",4416350,"Marques 3años Botella + Can Agte  - Marques 3años Botella  + Can Marques 3años","Carera 27 dg 28b -93",null,384,396,408,660,480,540,600,540,660,780,600,396,660,660]
[null,"SI",13,"Cali","Mayorista ","Edwin Polanco","El Poblado",4263073,"Marques 3años Botella + Can Agte  - Marques 3años Botella + Can Marques 3años - Marques Can P2 X3","Calle 72u # 28-47",null,{"$f":"26*12","v":312},348,348,1440,1080,1080,1140,1080,1440,1680,1440,348,1440,1440]
[null,"SI",14,"Cali","Mayorista ","Edwin Polanco","Licores La Amistad",4471825,"Marques 3años Botella + Can Agte  - Marques 3años Botella  + Can Marques 3años -Marques Bot 3años P2 x 3 - Marques Can P2 X3 - Marques 8años + Can 3 años - shot x Bot s,a - 2shot por Garrafa","Calle 46c # 5-01",null,1200,1248,1320,2160,2280,2040,2280,2280,2040,1800,2160,1152,2160,2160]
[null,"SI",15,"Cali","Mayorista ","Edwin Polanco","Los Gemelos ",4489216,"Marques 3años Botella + Can Agte  - Marques 3años Botella + Can Marques 3años - Marques Can P2 X3","Calle 44 # 6n-57",null,720,744,756,1260,1320,1200,1260,1320,1320,2400,1260,780,1200,2400]
[null,"SI",16,"Cali ","Mayorista ","Edwin Polanco","El amigo de la Noche","App","Marques 3años Botella + Can Agte  - Marques 3años Botella  + Can Marques 3años -Marques Bot 3años P2 x 3 - Marques Can P2 X3 - Marques 8años + Can 3 años - shot x Bot s,a - 2shock por Garrafa","App",null,144,144,144,600,600,480,480,480,480,1080,480,1200,480,1200]
[null,"SI",17,"Cali ","Mayorista ","Edwin Polanco","La Rebaja","App","Marques 3años Botella + Can Agte  - Marques 3años Botella + Can Marques 3años - Marques Can P2 X3 - shock x Bot s,a - 2shot por Garrafa","Carrera 15 #33b-30",null,264,264,276,1200,1440,1200,1440,1440,1200,840,840,288,1200,840]
[null,"SI",18,"Buenaventura","Mayorista ","Edwin Polanco","Casablanca",2433412,"Marques 3años Botella + Can Agte  - Marques 3años Botella  + Can Marques 3años -Marques Bot 3años P2 x 3 - Marques Can P2 X3 - Marques 8años + Can 3 años","calle 3 # 18-42",null,576,576,744,2244,2400,2040,2400,3600,2700,3000,2400,660,2040,2040]
[null,"SI",19,"Buenaventura","Mayorista ","Edwin Polanco","La Rebajona",2416300,"Marques 3años Botella + Can Agte  - Marques 3años Botella  + Can Marques 3años","carrera 6 # 4a-54",null,144,144,168,480,600,540,168,780,540,660,480,144,540,540]
[null,"SI",20,"Tuluá","Supermercado","Lina Colonia","Autoservicio Mi Barrio","312 806 22 21",null,"Carrera 24 # 36 - 04",null,12,14,14,36,30,27,36,32,36,21,39,48,40,36]
[null,"SI",21,"Tuluá","Mayorista ","Lina Colonia","Bodega La Esperanza","316 253 5816","Marques 3años Botella + Can Agte   -Marques Bot 3años P2 x 3 ","Carrera 23 # 29-04",null,72,312,{"$f":"25*12","v":300},{"$f":"22*12","v":264},250,225,230,192,312,228,264,168,230,324]
[null,"SI",22,"Tuluá","Mayorista ","Lina Colonia","Distribuidora Farallón","311 334 1151","Marques 3años Botella + Can Agte ","Carrera 22 Calle 28",null,100,1560,{"$f":"260*12","v":3120},{"$f":"265*12","v":3180},3000,2700,3000,3200,3600,2640,3060,2430,2700,2160]
[null,"SI",23,"Tuluá","Licorera","Lina Colonia","Licores Junior La 28",2320073,null,"Calle 28 # 22-56",null,36,108,250,250,250,225,240,262,264,245,324,300,360,384]
[null,"SI",24,"Tuluá","Mayorista ","Lina Colonia","Distribuidora La Madeja","317 789 75 09","Marques 3años Botella + Can Agte ","Calle 29 # 22-36",null,{"$f":"9*12","v":108},144,{"$f":"14*12","v":168},168,170,153,165,192,312,228,336,252,384,336]
[null,"SI",25,"Buga","Mayorista ","Lina Colonia","Distribuidora El Madejón","310 413 95 50","Marques 3años Botella + Can Agte  - Marques 3años Botella  + Can Marques 3años - Marques Can P2 X3","Calle 9 # 12 - 10",null,{"$f":"15*12","v":180},216,{"$f":"90*12","v":1080},{"$f":"80*12","v":960},500,450,500,620,2040,1800,1560,1560,1500,1620]
[null,"SI",26,"Andalucía","Mayorista ","Lina Colonia","Distribuidora Central de Andalucía","314 761 70 13","Marques 3años Botella + Can Agte  - Marques 3años Botella  + Can Marques 3años - Marques Can P2 X3","Carrera 5 # 12 - 67",null,{"$f":"3*12","v":36},600,{"$f":"70*12","v":840},{"$f":"72*12","v":864},700,630,750,936,1980,1740,1800,1620,1920,1704]
[null,"SI",27,"Tuluá","Mayorista ","Lina Colonia","Autoservicio El Campesino","224 4272","Marques 3años Botella + Can Agte ","Carrera 22 Calle 29",null,{"$f":"5*12","v":60},180,{"$f":"18*12","v":216},{"$f":"20*12","v":240},250,225,230,420,468,384,504,300,576,420]
[null,"NO",28,"Tuluá","Licorera","Lina Colonia","Licorera del Parque","317 550 3193","Marques 3años Botella + Can Agte ","Calle 25 # 26-15",null,0,0]
[null,"SI",29,"Trujillo","Licorera","Lina Colonia","Licorera El Alambique","312 736 9212","Marques 3años Botella + Can Agte ","Carrera 19 # 19-22",null,{"$f":"5*12","v":60},96,{"$f":"13*12","v":156},{"$f":"15*12","v":180},160,144,155,204,240,240,216,264,240,252]
[null,"SI",30,"San Pedro","Mayorista ","Lina Colonia","Distribuidora San Pedro","311 393 5295","Marques 3años Botella + Can Agte ","Calle 5 Parque Principal",null,{"$f":"2*12","v":24},36,40,40,180,162,175,156,180,144,108,108,132,120]
[null,"SI",31,"Tuluá","Supermercado","Lina Colonia","Mauro Market","323 423 8848","Botella $36.000, Marques 3años Botella + Can Agte ","Calle 34 Carrera 34",null,6,12,12,12,12,10,12,16,16,12,8,16,10,17]
[null,"SI",32,"Tuluá","Licorera","Lina Colonia","Licores El Estanco","305 372 46 39",null,"Transv 12 # 24-46",null,{"$f":"4*12","v":48},144,{"$f":"14*12","v":168},{"$f":"15*12","v":180},170,153,175,192,216,180,192,228,240,264]
[null,"SI",33,"Buga","Licorera","Lina Colonia","Licores La 4ta Avenida",3167142019,"Marques 3años Botella + Can Agte   -Marques Bot 3años P2 x 3  - Marques 8años + Can 3 años","Calle 4 # 6 - 06",null,{"$f":"30*12","v":360},840,{"$f":"90*12","v":1080},{"$f":"100*12","v":1200},1200,1080,1200,840,1440,1320,1560,1700,1440,1500]
[null,"SI",34,"Cali","TAT","Ana Rosa Lopera","Supermercado Tarzan",3143874179,"Marques 3años Botella + Can Agte ","Carrera 82 #5-97",901235591,0,20,11,15,21,14,18,20,94,123,120,97,103,103]
[null,"NO",35,"Cali","TAT","Ana Rosa Lopera","Miscelanea Viejo Willi",3298558,"Marques 3años Botella + Can Agte ","Sector alabama la buitrera",16587698,0,0,5,0,0,0,0]
[null,"SI",36,"Cali","TAT","Ana Rosa Lopera","Licores La Perla",5216031,"Marques 3años Botella + Can Agte ","Polvorines vía ppal",1032363617,0,20,25,30,21,28,30,36,41,85,104,123,278,278]
[null,"NO",37,"Cali","TAT","Ana Rosa Lopera","Licores Martha",1130669277,"Marques 3años Botella + Can Agte ","Carrera 39 #46-10",1130669277,0,0,0]
[null,"SI",38,"Cali","TAT","Ana Rosa Lopera","Licores Helen",3022491892,"Marques 3años Botella + Can Agte "," Carrera 25 #19-02",31971928,20,0,18,50,35,35,38,48,123,188,225,195,240,310]
[null,"SI",39,"Cali","TAT","Ana Rosa Lopera","Mini Market 7",3134661206,"Marques 3años Botella + Can Agte ","Calle 7 #31-09",1088006300,0,0,17,21,14,7,10,14,135,83,90,70,95,95]
[null,"SI",40,"Cali","TAT","Ana Rosa Lopera","Alvaro Prado",4207110,"Marques 3años Botella + Can Agte ","Carrera 26 u #122=94",94300252,0,0,20,21,28,21,26,50,54,125,96,113,135,135]
[null,"SI",41,"Cali","TAT","Ana Rosa Lopera","Carlos Lopez",4201897,"Marques 3años Botella + Can Agte "," Carrera 25 c # 123-01",70829838,0,0,21,30,28,28,26,44,177,60,66,46,115,230]
[null,"NO",42,"Cali","TAT","Ana Rosa Lopera","Licores El Calidoso",4056996,"Marques 3años Botella + Can Agte "," Carrera 26L 123 06",16833231,0,0,0]
[null,"SI",43,"Cali","TAT","Ana Rosa Lopera","Granero y Estanco Martinez",4306553,"Marques 3años Botella + Can Agte ","Carrera 4 A #60 - 82",42116594,10,0,9,21,21,14,18,51,80,75,81,88,80,80]
[null,"NO",44,"Cali","TAT","Ana Rosa Lopera","Grupo Empresarial JF",5529929,"Marques 3años Botella + Can Agte "," Carrera 95 # 3-20",901133087,0,0,0]
[null,"NO",45,"Cali","TAT","Ana Rosa Lopera","Giovanny Molina",4035308,"Marques 3años Botella + Can Agte ","Carrera 94 A  # 2 A 102",4722270,0,0,0]
[null,"SI",46,"Cali","TAT","Ana Rosa Lopera","Supertienda Carvajal",3015493138,"Marques 3años Botella + Can Agte ","Calle 13 # 34 - 33",1144040229,0,0,5,7,14,7,8,12,95,105,116,72,145,145]
[null,"SI",47,"Cali","TAT","Ana Rosa Lopera","Licores La Sucursal",4482670,"Marques 3años Botella + Can Agte ","Calle 44 #5-26",1107103712,0,0,9,15,21,28,25,38,24,90,88,133,320,320]
[null,"NO",48,"Cali","TAT","Ana Rosa Lopera","Richard Cundar Benavides",3153399094,null,"Cll54#47-05",1082657940,0,0,0]
[null,"SI",49,"Cali","TAT","Ana Rosa Lopera","Mercaplaza Mariano",374330575,"Marques 3años Botella + Can Agte ","CLL 46 # 49-03",1143836583,0,0,0,0,0,0,14,12,12,4,6,0,0,0]
[null,"NO",50,"Cali","TAT","Ana Rosa Lopera","Licores Yeya",3178465387,"Marques 3años Botella + Can Agte ","CR 49A # 43-85",51693168,0,0,0]
[null,"NO",51,"Cali","TAT","Ana Rosa Lopera","supermercado Marce",3113684406,"Marques 3años Botella + Can Agte ","CLL 83C # 20-74",44007376,0,0,0]
[null,"NO",52,"Cali","TAT","Ana Rosa Lopera","Granero Rey",3750248,"Marques 3años Botella + Can Agte ","CLL 81A # 22-134",94399540,0,0,0]
[null,"SI",53,"Cali","TAT","Ana Rosa Lopera","supermercado Nuevo Progreso",3760861,"Marques 3años Botella + Can Agte ","CR 34 # 26A-03",15905205,0,0,12,15,21,14,14,14,9,8,4,8,0,6]
[null,"SI",54,"Cali","TAT","Ana Rosa Lopera","Rapitienda Caldas",3137974910,"Marques 3años Botella + Can Agte ","CLL 26A # 38-09",79887872,0,0,10,15,0,14,14,14,12,8,6,12,0,10]
[null,"NO",55,"Cali","TAT","Ana Rosa Lopera","Supermercado El Oasis",4469845,"Marques 3años Botella + Can Agte ","CR 7N # 67N-42",4485384,0,0,0]
[null,"SI",56,"Cali","TAT","Ana Rosa Lopera","Nicolas Elias",6662306,"Marques 3años Botella + Can Agte ","AV 3 E # 47C-20",71371926,0,20,10,15,21,0,7,7,8,6,6,6,6,0]
[null,"SI",57,"Cali","TAT","Ana Rosa Lopera","Minarket 1000 y Mas",3178814634,"Marques 3años Botella + Can Agte ","CLL 44N # 3-111",16943799,0,0,10,15,21,14,14,14,10,5,5,8,8,0]
[null,"SI",58,"Cali","TAT","Ana Rosa Lopera","Brandon Carvajal",3136372746,"Marques 3años Botella + Can Agte ","CLL 27 # 41C-37",1107074996,0,0,10,0,0,0,0,null,15,15,18,10,0,8]
[null,"SI",59,"Cali","TAT","Ana Rosa Lopera","Carolina Espinosa",3132614285,"Marques 3años Botella + Can Agte ","CR 67 # 1A 0STE 07",38644553,0,20,7,0,0,0,0,null,4,5,12,0,0,3]
[null,"SI",60,"Cali","TAT","Ana Rosa Lopera","Licores Los Cerros",3204796646,"Marques 3años Botella + Can Agte ","CLL1 #69-44",94543390,0,20,11,0,0,0,21,21,2,20,15,20,0,48]
[null,"SI",61,"Cali","TAT","Ana Rosa Lopera","La Rebajona",3734192,"Marques 3años Botella + Can Agte ","CL 14A 53 03",9855053,0,2,2,3,7,7,7,4,12,5,6,6,6,6]
[null,"NO",62,"Cali","TAT","Ana Rosa Lopera","Willian Urrea",3776919,"Marques 3años Botella + Can Agte ","Kra 44 # 18 32",10115498,0,2,0,0]
[null,"SI",63,"Cali","TAT","Ana Rosa Lopera","Licores El Baratisimo",4339595,"Marques 3años Botella + Can Agte ","Kra 1 kn # 80 74",1118296911,2,0,12,3,7,7,14,14,12,12,10,0,8,12]
[null,"NO",64,"Cali","TAT","Ana Rosa Lopera","Licores El Progreso",3185227444,"Marques 3años Botella + Can Agte ","Kra 1D  # 74  25",null,0,0,0,0,0]
[null,"SI",65,"Cali","TAT","Ana Rosa Lopera","Marco Tulio Giraldo",4333355,"Marques 3años Botella + Can Agte ","Cl 76A # 1D 03",70830067,0,0,9,3,7,7,7,7,10,12,12,6,10,6]
[null,"SI",66,"Cali","TAT","Ana Rosa Lopera","Licores Sanchez",3184662902,"Marques 3años Botella + Can Agte ","Kra 27 # 33 E 39",66818508,0,0,12,3,7,7,0,7,20,10,6,6,0,20]
[null,"SI",67,"Cali","TAT","Ana Rosa Lopera","Granero El Buen Precio",4412666,"Marques 3años Botella + Can Agte ","CLL 34 # 25A-03",6162317,0,0,9,3,7,7,5,7,5,6,6,6,2,0]
[null,"NO",68,"Cali","TAT","Ana Rosa Lopera","Clara Esperanza Ardila",4441530,"Marques 3años Botella + Can Agte ","Kra 24# 43 65",31272995,0,0,0,null,0]
[null,"NO",69,"Cali","TAT","Ana Rosa Lopera","Licores Las Morochas",4454407,"Marques 3años Botella + Can Agte ","CL 50# 28 A 28",41474010,0,0,0,null,0]
[null,"SI",70,"Cali","TAT","Ana Rosa Lopera","Licores La Abundancia",3154673318,"Marques 3años Botella + Can Agte ","CL 72B# 28D3- 123",31988790,0,0,12,3,7,0,7,5,8,12,5,4,5,6]
[null,"NO",71,"Cali","TAT","Ana Rosa Lopera","Campo Alegre",3174705696,"Marques 3años Botella + Can Agte ","CL 12 OESTE #36-42",967023320,0,2,0]
[null,"SI",72,"Cali","TAT","Ana Rosa Lopera","Tienda Rojo y Verde",3113630033,"Marques 3años Botella + Can Agte ","oeste santa teresita, Av. 2 Oe",16713789,0,0,11,0,0,0,7,7,12,6,8,2,0,0]
[null,"SI",73,"Poblado Campestre","TAT","Ana Rosa Lopera","Tienda y Licores Mas Barato",3006673631,"Marques 3años Botella + Can Agte ","MANZANA 28 CASA 22-05",1130679015,0,2,5,3,7,0,7,3,16,0,3,16,0,12]
[null,"SI",74,"Poblado Campestre","TAT","Ana Rosa Lopera","Minimarket El Majo",3174559610,"Marques 3años Botella + Can Agte ","Calle 22 con carrera 41 oeste, manzana 30 casa 24,",66993437,0,4,2,3,7,0,3,3,0,0,6,12,0,10]
[null,"SI",{"$f":"+C77+1","v":75},"Poblado Campestre","TAT","Ana Rosa Lopera","Rendimercado Las 2 Palmas",3122879341,"Marques 3años Botella + Can Agte ","Carrera 4 #9-09 ",10389034,0,0,4,3,7,0,0,7,8,0,2,15,0,14]
[null,"NO",76,"Cali","TAT","Ana Rosa Lopera","Rapitienda Leonardo",3122765236,"Marques 3años Botella + Can Agte ","Cll 1oeste #52-380 ",67013451,0,0,0]
[null,"NO",77,"Cali","TAT","Ana Rosa Lopera","Rancho y Llicores El Regalon",5528043,"Marques 3años Botella + Can Agte ","Dg 51 #4oeste 47",94507583,0,0,0]
[null,"NO",78,"Cali","TAT","Ana Rosa Lopera","Rapitienda Rivera Express",3153169323,"Marques 3años Botella + Can Agte ","Cra 54  cll1d esquina",66983025,0,0,3,0,0,0,0]
[null,"NO",79,"Cali","TAT","Ana Rosa Lopera","Mercatoño",5523530,"Marques 3años Botella + Can Agte ","Dg 50 oeste 5 119",1130591583,0,4,3,0,0,0,3,0,null,0,0]
[null,"NO",80,"Cali","TAT","Ana Rosa Lopera","Rapitienda El Sol",5524171,"Marques 3años Botella + Can Agte ","Cra 39 2 37",94517200,0,4,2,0,0,0,0]
[null,"NO",81,"Cali","TAT","Ana Rosa Lopera","Rapiexpress",5132654,"Marques 3años Botella + Can Agte ","Cra 55 6a09",31220703,0,0,0]
[null,"SI",82,"Cali","TAT","Ana Rosa Lopera","Autoservicio y Panadería Caribe",5136160,"Marques 3años Botella + Can Agte ","Cra 56 1.ª 16 oeste ",6102380,0,0,2,3,7,0,0,3,0,5,6,5,3,0]
[null,"NO",83,"Cali","TAT","Ana Rosa Lopera","Autoservicio El Único",3157691554,"Marques 3años Botella + Can Agte ","Mz D casa 24 sector  la sirena",1117016699,0,0,0]
[null,"NO",84,"Cali","TAT","Ana Rosa Lopera","Merca Bien",3122226944,"Marques 3años Botella + Can Agte ","Mz D casa 24 sector  la sirena",1117016699,0,0,0]
[null,"SI",85,"Cali","TAT","Ana Rosa Lopera","Supermercado La Ganguita",4468365,"Marques 3años Botella + Can Agte ","Cra 1c4  64A 14  bloque 15",12985122,0,0,3,3,7,0,0,3,5,5,7,5,3,3]
[null,"NO",86,"Cali","TAT","Ana Rosa Lopera","Supermercado Mega Líder",3726226,"Marques 3años Botella + Can Agte ","Cll 66 1bis 70",6548730,0,0,0]
[null,"NO",87,"Cali","TAT","Ana Rosa Lopera","Megalider Veracruz",3217340706,"Marques 3años Botella + Can Agte ","Cra 1b1 58.ª 09",1130656816,4,0,0]
[null,"NO",88,"Cali","TAT","Ana Rosa Lopera","Autoservicio El Vencedor",3780230,"Marques 3años Botella + Can Agte ","CR 25b 25 05",31987561,0,0,4,0,0,0,0]
[null,"SI",89,"Cali","TAT","Ana Rosa Lopera","Rapitienda La Esperanza",3137849701,"Marques 3años Botella + Can Agte ","Cll 27 29b 18",38671009,0,0,4,7,14,0,0,3,5,3,3,5,3,3]
[null,"NO",90,"Cali","TAT","Ana Rosa Lopera","Granero el Progreso",3348473,"Marques 3años Botella + Can Agte ","CR 31.ª 34 02",15903476,0,0,0]
[null,"NO",91,"Cali","TAT","Ana Rosa Lopera","Estanco Medallo",3937543,"Marques 3años Botella + Can Agte ","Cll 112 27g 24",16759330,0,0,0]
[null,"NO",92,"Cali","TAT","Ana Rosa Lopera","Autoservicio Monterrey",4205905,"Marques 3años Botella + Can Agte ","CR 43.ª 56b07",94192456,0,0,0]
[null,"SI",93,"Cali","TAT","Ana Rosa Lopera","El Rebajon",5579626,"Marques 3años Botella + Can Agte ","Cll 9e 22a12",9850773,0,2,6,3,0,3,0,8,5,5,0,6,5,0]
[null,"NO",94,"Cali","TAT","Ana Rosa Lopera","Minimarket La Fortuna",3207002704,"Marques 3años Botella + Can Agte ","CL 10 # 18-61",16712936,0,0,0]
[null,"SI",95,"Cali","TAT","Ana Rosa Lopera","Minimarket Matecaña",5582197,"Marques 3años Botella + Can Agte ","CR 23 12.ª 03",98391364,0,0,0,0,0,{"$nulls":3},3,3,2,12,3,0]
[null,"NO",96,"Tulua ","Supermercado","Lina Colonia","Tulua Centro Surtifamiliar ",3108461826,"Marques 3años Botella + Can Agte  - Marques 3años Botella  + Can Marques 3años -Marques Bot 3años P2 x 3 - Marques Can P2 X3 -","CRA 21N° 25 – 76 ",null,null,30]
[null,"NO",97,"Tulua ","Supermercado","Lina Colonia","Tulua Porveir Surtifamiliar ",3207178634,"Marques 3años Botella + Can Agte  - Marques 3años Botella  + Can Marques 3años -Marques Bot 3años P2 x 3 - Marques Can P2 X3 -","DIAG. 23N° 9 – 28 ",null,null,18]
[null,"NO",98,"Buga ","Supermercado","Lina Colonia","Buga Centro Surtifamiliar ",3108461821,"Marques 3años Botella + Can Agte  - Marques 3años Botella  + Can Marques 3años -Marques Bot 3años P2 x 3 - Marques Can P2 X3 -","CRA 12N° 8 – 34 ",null,null,24]
[null,"NO",99,"Buga ","Supermercado","Lina Colonia","Buga Valle real Surtifamiliar ",3108497538,"Marques 3años Botella + Can Agte  - Marques 3años Botella  + Can Marques 3años -Marques Bot 3años P2 x 3 - Marques Can P2 X3 -","CRA 30N° 12 – 64 ",null,null,24]
[null,"NO",100,"Guacarí","Supermercado","Lina Colonia","Guacari Surtifamiliar ",3202545256,"Marques 3años Botella + Can Agte  - Marques 3años Botella  + Can Marques 3años -Marques Bot 3años P2 x 3 - Marques Can P2 X3 -","CRA 7 N° 6 – 52"]
[null,"NO",101,"Cerrito","Supermercado","Katherine Rengifo","SurtiFamiliar",3113580948,"Marques 3años Botella + Can Agte  - Marques 3años Botella  + Can Marques 3años -Marques Bot 3años P2 x 3 - Marques Can P2 X3 -","CALLE 8N° 13 – 52",null,null,24]
[null,"NO",102,"Vijes ","Supermercado","Miriam Mejia","SurtiFamiliar",3207162674,"Marques 3años Botella + Can Agte  - Marques 3años Botella  + Can Marques 3años -Marques Bot 3años P2 x 3 - Marques Can P2 X3 -","CALLE 7 N°4 – 80 ESQUINA"]
[null,"NO",103,"Acopi ","Supermercado","Miriam Mejia","SurtiFamiliar",3136709023,"Marques 3años Botella + Can Agte  - Marques 3años Botella  + Can Marques 3años -Marques Bot 3años P2 x 3 - Marques Can P2 X3 -","CRA 40N° 12A – 237"]
[null,"NO",104,"Alcazres","Supermercado","Miriam Mejia","SurtiFamiliar",3206931192,"Marques 3años Botella + Can Agte  - Marques 3años Botella  + Can Marques 3años -Marques Bot 3años P2 x 3 - Marques Can P2 X3 -","CRA 1A5N° 71 – 46"]
[null,"NO",105,"Alameda","Supermercado","Miriam Mejia","SurtiFamiliar",3217007997,"Marques 3años Botella + Can Agte  - Marques 3años Botella  + Can Marques 3años -Marques Bot 3años P2 x 3 - Marques Can P2 X3 -","CL 9 B 23 C 65"]
[null,"NO",106,"Caney ","Supermercado","Miriam Mejia","SurtiFamiliar",3216249142,"Marques 3años Botella + Can Agte  - Marques 3años Botella  + Can Marques 3años -Marques Bot 3años P2 x 3 - Marques Can P2 X3 -","CALLE 48N° – 83E ESQUINA"]
[null,"NO",107,"Cali","Supermercado","Miriam Mejia","comfandi Guadalupe ",3176365583,"Marques 3años Botella + Can Agte  - Marques 3años Botella  + Can Marques 3años -Marques Bot 3años P2 x 3 - Marques Can P2 X3 -","Cl. 10 ##56,"]
[null,"NO",108,"Cali","Supermercado","Miriam Mejia","comfandi torres ",3184153685,"Marques 3años Botella + Can Agte  - Marques 3años Botella  + Can Marques 3años -Marques Bot 3años P2 x 3 - Marques Can P2 X3 -","Cra. 1 #56-20"]
[null,"NO",109,"Cali","Supermercado","Miriam Mejia","comfandi san fernando ",3174284930,"Marques 3años Botella + Can Agte  - Marques 3años Botella  + Can Marques 3años -Marques Bot 3años P2 x 3 - Marques Can P2 X3 -","Cra. 36 #68"]
[null,"NO",110,"Cali","Supermercado","Miriam Mejia","super A ",3172930374,null,"oeste santa teresita, Av. 2 Oe"]
[null,"SI",111,"Cartago ","Mayorista ","Jhenny Romero"," Garces",2133333,null,"Carrera 4 # 19-38",null,36,38,20,30,46,66,60,96,136,100,90,90,100,100]
[null,"SI",112,"Zarzal","Mayorista ","Jhenny Romero","Cigarrería La Andina",3152228870,"Marques 3años Botella + Can Agte ","Calle 9 # 8 - 76",null,50,60,10,50,66,75,66,120,200,120,120,110,36,50]
[null,"SI",113,"Cartago ","Mayorista ","Jhenny Romero","Licores Raulette",2125411,"Marques 3años Botella + Can Agte ","Carrera 4 # 11-30",null,120,90,60,75,80,90,86,120,200,115,120,120,100,90]
[null,"SI",114,"La Unión ","Licorera","Jhenny Romero","Estanquillo La 16",2292935,"Marques 3años Botella + Can Agte ","Carrera 16 # 17 - 44",null,36,40,45,36,48,60,70,92,145,100,96,90,80,80]
[null,"SI",115,"Roldanillo","Mayorista ","Jhenny Romero","Estanquillo Muñoz",2297172,"Marques 3años Botella + Can Agte  - Marques 3años Botella  + Can Marques 3años -Marques Bot 3años P2 x 3 - Marques Can P2 X3 - Marques 8años + Can 3 años","Calle 8 # 7 - 67",null,24,35,36,24,60,84,68,136,180,110,120,120,120,100]
[null,"SI",116,"Cartago ","Mayorista ","Jhenny Romero","Comercializadora Don Jimmy",2139099,"Marques 3años Botella + Can Agte  - Marques 3años Botella  + Can Marques 3años -Marques Bot 3años P2 x 3 - Marques Can P2 X3 - Marques 8años + Can 3 años","Carrera / # 11-51",null,60,80,300,250,300,400,280,480,600,420,400,500,480,500]
[null,"NO",117,"Alcalá","Licorera","Jhenny Romero","Distribuciones El Imán",3113183498,"Marques 3años Botella + Can Agte ","Calle 5 # 8-36",null,10,18,20,10,12,20,3]
[null,"SI",118,"Cartago ","Mayorista ","Jhenny Romero","Saloon Licores",3175131166,"Marques 3años Botella + Can Agte ","Calle 10 # 15 - 20",null,120,120,80,60,90,100,75,90,120,120,120,120,135,120]
[null,"SI",119,"Palmira","Mayorista ","Katherine Rengifo","Licores Palmira ","2859975-3218677680","Marques 3años Botella + Can Agte  - Marques 3años Botella  + Can Marques 3años -Marques Bot 3años P2 x 3 - Marques Can P2 X3 - Marques 8años + Can 3 años","Calle 31 # 37 - 56",null,{"$f":"15*12","v":180},204,300,600,720,960,1200,1800,3000,2400,3000,2400,1200,3600]
[null,"SI",120,"El Placer","Mayorista ","Katherine Rengifo","Granero Los Paisas","3173171258-2548145","Marques 3años Botella + Can Agte ","Carrera 8 # 6 -12",null,{"$f":"6*12","v":72},84,80,144,240,300,300,360,540,360,360,300,180,300]
[null,"SI",121,"Cerrito","Licorera","Katherine Rengifo","Estanco Punto Blanco",3146620834,"Marques 3años Botella + Can Agte ","Calle 7 # 12 - 08",null,{"$f":"4*12","v":48},72,84,120,240,240,300,300,420,300,420,360,120,360]
[null,"SI",122,"Pradera","Licorera","Katherine Rengifo","El Barril de la 6","3163471484-2670572-3187944106","Marques 3años Botella + Can Agte ","Calle 6 # 11-03",null,{"$f":"10*12","v":120},156,156,480,600,840,840,1080,1320,600,420,840,300,432]
[null,"SI",123,"Pradera","Supermercado","Katherine Rengifo","Mercapava",2834030,"Marques 3años Botella + Can Agte ","Calle 7 # 9-59",null,null,120,115,180,120,300,420,600,720,480,300,360,96,360]
[null,"SI",124,"Candelaria ","Mayorista ","Katherine Rengifo","Estanco y Dulcería Los Paisas",3136518541,"Marques 3años Botella + Can Agte ","Carrera 7 # 4-80",null,{"$f":"8*12","v":96},100,120,240,276,240,240,360,540,360,360,300,144,348]
[null,"SI",125,"Florida","Mayorista ","Katherine Rengifo","Distribuidora Cordillera Central",3117666820,null,"Carrera 14 # 8 - 61",null,0,36,48,72,72,120,180,180,240,180,180,240,72,120]
[null,"SI",126,"Palmira","Supermercado","Katherine Rengifo","Supermercado La Gran Colombia",3004377555,"Marques 3años Botella + Can Agte ","Carrera 28 # 66A - 86",null,null,36,70,156,24,24,24,24,72,24,24,12,12,24]
[null,"SI",127,"Palmira","Supermercado","Katherine Rengifo","SuperInter La Cometa",3113775927,"Marques 3años Botella + Can Agte ","Carrera 19 # 42A - 23",null,null,48,72,120,72,120,120,120,180,120,180,120,120,144]
[null,"NO",128,"Palmira","Supermercado","Katherine Rengifo","SuperInter Centro",3215638563,"Marques 3años Botella + Can Agte ","Calle31 #  27 - 37",null,null,48,60,120,72,120,0,0,0]
[null,"SI",129,"Palmira","Supermercado","Katherine Rengifo","Olimpica Versalles ",2896657,"Marques 3años Botella + Can Agte ","Calle 42 # 28 Esquina",null,null,36,48,204,60,180,120,180,240,180,180,120,120,144]
[null,"SI",130,"Tuluá","Mayorista ","Lina Colonia","Distri Jota SAS","(2) 224 9488","Marques 3años Botella + Can Agte ","Calle 29 # 22-23",null,null,96,{"$f":"7*12","v":84},{"$f":"8*12","v":96},85,77,80,84,132,108,132,96,108,120]
[null,"SI",131,"Tuluá","Mayorista ","Lina Colonia","Depósito La Ganga","(2) 225 7742","Marques 3años Botella + Can Agte ","Carrera 22 # 28 - 49",null,{"$f":"8*12","v":96},480,{"$f":"22*12","v":264},{"$f":"25*12","v":300},250,225,270,384,372,300,336,228,360,336]
[null,"SI",132,"Tuluá","Mayorista ","Lina Colonia","Cacharrería yDist. JM ","318 369 2722","Marques 3años Botella + Can Agte ",{"$nulls":3},72,{"$f":"4*12","v":48},{"$f":"5*12","v":60},40,36,36,32,47,32,60,18,12,0]
[null,"SI",133,"Tuluá","Mayorista ","Lina Colonia","Almacén Ossa","317 513 4129","Marques 3años Botella + Can Agte ","Carrera 22 # 29A - 04",null,null,108,{"$f":"12*12","v":144},144,180,168,170,192,216,204,180,144,220,228]
[null,"NO",134,"Buga","Mayorista ","Lina Colonia","Licores La Cuarta","316 714 2019","Marques 3años Botella + Can Agte ","Calle 4 # 6-06"]
[null,"SI",135,"Restrepo","Mayorista ","Lina Colonia","Los Paisas  ","321 482 7231","Marques 3años Botella + Can Agte ","Carrera 10 # 9-50 Plaza de mercado",null,null,156,160,160,{"$f":"20*12","v":240},226,220,204,240,228,264,192,288,240]
[null,"SI",136,"Buga","Mayorista ","Lina Colonia","Depóstito El Triunfo ","(2) 227 1824","Marques 3años Botella + Can Agte ","Calle 21 # 12-59",null,null,204,{"$f":"20*12","v":240},{"$f":"22*12","v":264},264,240,260,252,336,264,236,288,360,300]
[null,"SI",137,"Palmira","Mayorista ","Katherine Rengifo","Miscelanea La Unión ","3157030966 - 2836460","Marques 3años Botella + Can Agte ","cra 25 #27-44",{"$nulls":5},360,420,360,720,720,480,504,420,240,300]
[null,"SI",138,"Cali","TAT","Ana Rosa Lopera","Luz marina zuluaga",3207412307,"Marques 3años Botella + Can Agte ","AV 15 OESTE # 7 03",31523227,{"$nulls":3},7,7,7,0,0,12,5,5,6,7,12]
[null,"SI",{"$f":"+C141+1","v":139},"Cali","TAT","Ana Rosa Lopera","Ramon giraldo",3113754878,"Marques 3años Botella + Can Agte ","CLL 12 OESTE # 39-06",94422261,{"$nulls":3},3,7,7,5,10,2,2,0,0,0,0]
[null,"NO",140,"Cali","TAT","Ana Rosa Lopera","Victor mosquera",6622328,"Marques 3años Botella + Can Agte ","CL 72A # 7B BIS 09",166659803,{"$nulls":3},0,0,0,6,0,0,0,0]
[null,"SI",141,"Cali","TAT","Ana Rosa Lopera","Doly hortencia",5514843,"Marques 3años Botella + Can Agte ","CR 40A # 9C 20",66814208,{"$nulls":3},3,0,3,7,3,4,0,5,15,0,5]
[null,"SI",142,"Cali","TAT","Ana Rosa Lopera","Jonny salazar giraldo",3117636936,"Marques 3años Botella + Can Agte ","CLL 13 # 47 04",1038405574,{"$nulls":3},3,7,3,3,7,8,6,7,9,0,8]
[null,"SI",143,"Cali","TAT","Ana Rosa Lopera","Carlos alberto lopez",5531616,"Marques 3años Botella + Can Agte ","CR 47A # 10-83",15429690,{"$nulls":3},7,0,7,7,3,8,4,8,19,0,12]
[null,"SI",144,"Cali","TAT","Ana Rosa Lopera","Yakeline ospina",3053624703,"Marques 3años Botella + Can Agte ","CLL 52A # 29B 17",1144176021,{"$nulls":3},3,3,3,0,0,5,8,8,5,0,7]
[null,"SI",145,"Cali","TAT","Ana Rosa Lopera","Jaime ocampo valencia",3103953082,"Marques 3años Botella + Can Agte ","CLL 51 # 29A 118",1058844991,{"$nulls":3},3,0,3,7,5,8,9,6,8,0,6]
[null,"SI",146,"Cali","TAT","Ana Rosa Lopera","Jesus antonio barles",3931110,"Marques 3años Botella + Can Agte ","CR 32A # 51A 20",3493913,{"$nulls":3},7,3,0,3,6,9,8,3,5,0,9]
[null,"SI",147,"Cali","TAT","Ana Rosa Lopera","Ciro solis",3217534183,"Marques 3años Botella + Can Agte ","CR 29B # 46 00",1144137846,{"$nulls":3},3,3,0,3,4,4,4,7,6,0,4]
[null,"SI",148,"Cali","TAT","Ana Rosa Lopera","Jaime jaramillo",3146940159,"Marques 3años Botella + Can Agte ","CR 29 B # 40 99",1107514677,{"$nulls":3},7,0,0,3,4,0,6,3,7,0,5]
[null,"SI",149,"Cali","TAT","Ana Rosa Lopera","Carlos alberto lopez",3137671699,"Marques 3años Botella + Can Agte ","CLL 49# 8A 23",16681943,{"$nulls":3},14,21,0,3,0,3,0,1,2,2,0]
[null,"SI",150,"Cali","TAT","Ana Rosa Lopera","Olga pelaez",4337053,"Marques 3años Botella + Can Agte ","CLL 71C # 3BN 70",29185357,{"$nulls":3},14,21,0,0,0,10,5,6,4,3,0]
[null,"SI",151,"Cali","TAT","Ana Rosa Lopera","Alba nora",3207552888,"Marques 3años Botella + Can Agte ","CLL 45 # 98A 28",66978222,{"$nulls":3},14,21,0,6,7,12,0,0,3,3,0]
[null,"SI",152,"Cali","TAT","Ana Rosa Lopera","Diliana españa",3162451945,"Marques 3años Botella + Can Agte ","CR 83C # 48 223",1144084729,{"$nulls":3},14,21,0,3,7,8,0,3,5,3,0]
[null,"SI",153,"Cali","TAT","Ana Rosa Lopera","Supermercado aranjuez",3722002,"Marques 3años Botella + Can Agte ","CR 23 15B 44",1130598374,{"$nulls":3},0,3,0,7,5,6,0,3,0,2,0]
[null,"SI",154,"Cali","TAT","Ana Rosa Lopera","Licores sarasty",3104156267,"Marques 3años Botella + Can Agte ","CLL 58A 1B 06",16796483,{"$nulls":3},3,7,0,5,8,10,5,8,5,36,0]
[null,"SI",155,"Cali","TAT","Ana Rosa Lopera","Licores  baratillo",3187914323,"Marques 3años Botella + Can Agte ","CR 26U # 122 94",94300252,{"$nulls":3},21,28,21,6,21,56,125,68,60,135,135]
[null,"SI",156,"Cali","TAT","Ana Rosa Lopera","Giovanny duque",3153471142,"Marques 3años Botella + Can Agte ","CR 23 12.ª 03",98391364,{"$nulls":3},0,0,0,3,5,8,3,0,12,3,0]
[null,"SI",157,"Cali","TAT","Ana Rosa Lopera","Dulceria y licores JL",3218729505,"Marques 3años Botella + Can Agte ","CLL 11 # 8 19",1113522977,{"$nulls":3},0,0,21,25,23,25,0,8,15,0,50]
[null,"SI",158,"Palmira","Mayorista ","Katherine Rengifo","miscelanea San Agustin",2734001,"Marques 3 años + caneca agte-marques botella pague 2 lleve 3 - marques caneca 3 años pague 2 lleve 3","Cra 28 # 35 - 43",{"$nulls":3},60,120,216,240,300,360,600,360,360,348,120,480]
[null,"SI",159,"Ginebra","Mayorista ","Katherine Rengifo","Estanco Luz ",2561280,"Marques 3 años + caneca agte-marques botella pague 2 lleve 3 - marques caneca 3 años pague 2 lleve 3","Calle 4 # 3 - 58",{"$nulls":3},12,120,120,180,192,240,360,276,348,288,120,180]
[null,"SI",160,"Villagorgona","Mayorista ","Katherine Rengifo","Comercializadora La Berraquera",2607952,"oferta ron marques 3 años + caneca de aguardiente","Calle 16 # 10 - 16",{"$nulls":4},120,180,300,360,420,600,420,480,540,264,480]
[null,"SI",161,"Buga","Mayorista ","Lina Colonia","Licores La 21","316 7156198",null,"Calle 21 # 13 - 04",{"$nulls":4},24,24,24,24,21,28,24,26,24,24,28]
[null,"SI",162,"Buga","Mayorista ","Lina Colonia","Licores Estambul","316 6154526",null,"Calle 11 # 11-18",{"$nulls":7},90,114,132,120,88,96,72,60]
[null,"SI",163,"Buga","Mayorista ","Lina Colonia","Distrikopas",{"$nulls":11},84,108,84,96,72,144,132]
[null,"SI",164,"La Paila ","Mayorista ","Jhenny Romero","Miscelanea Melany",3022880752,null,"Carrera 4 # 12-61",{"$nulls":9},60,60,45,50,20,24]
[null,"SI",165,"Alcalá","Mayorista ","Jhenny Romero","Rapitienda Ruta del Café",3147628822,null,"Carrera 8 # 5-17",{"$nulls":9},60,45,40,48,50,45]
[null,"SI",166,"Cali","TAT","Ana Rosa Lopera","Autoservicio Monterrey ",4205905,null,"Carrera 27 # 96- 259",17673977,{"$nulls":12},0,0,null,"NUEVO"]
[null,"SI",167,"Cali","TAT","Ana Rosa Lopera","Tienda y Licores Alejo ",3178187438,null,"Cra 1a5 - # 76 -05",16535715,{"$nulls":12},0,0,null,"NUEVO"]
[null,"SI",168,"Cali","TAT","Ana Rosa Lopera","Arnaldo Monte. Super Tienda la sorpresa ",4412223,null,"cra 15 # 35 -19 ",94489212,{"$nulls":12},0,0,null,"NUEVO"]
[null,"SI",169,"Cali","TAT","Ana Rosa Lopera","Carlos Gonzales Supermerke valle del lili ",3480941,null,"cra 91 # 42 - 111 ",1144097848,{"$nulls":12},5,0,null,"NUEVO"]
[null,"SI",170,"Cali","TAT","Ana Rosa Lopera","comercialziadora el gangazo ",8895541,null,"calle 23 # 11- 03 ",901295269,{"$nulls":12},0,10,null,"NUEVO"]
[null,"SI",171,"Cali","TAT","Ana Rosa Lopera","Duque Garcia alirio - Tienda Mixta ",3122232832,null,"cra 42 # 26 b 68",70353049,{"$nulls":12},0,0,null,"NUEVO"]
[null,"SI",172,"Cali","TAT","Ana Rosa Lopera","Edgar Andres Bedoya cano - Licores la 22",3167405422,null,"cra 22 # 1 - 44",94486415,{"$nulls":12},0,0,null,"NUEVO"]
[null,"SI",173,"Cali","TAT","Ana Rosa Lopera","Torres jirafa alonso de jesus - Tienda la 75",3238702,null,"cra 75 # 1bis 45oeste ",16738410,{"$nulls":12},0,0,null,"NUEVO"]
[null,"SI",174,"Cali","TAT","Ana Rosa Lopera","Lopez Yepes Juan franciso - Miscelanea Yepes ",3073246,null,"cra 70  # 2b - 06 ",94251074,{"$nulls":12},0,0,null,"NUEVO"]
[null,"SI",175,"Cali","TAT","Ana Rosa Lopera","Daza Mercado eviliana - Tienda mixta ",3174386915,null,"Av 7 n # 53 -01 ",1130676973,{"$nulls":12},0,0,null,"NUEVO"]
[null,"SI",176,"Cali","TAT","Ana Rosa Lopera","Cocha Aide - Licores Dila ",3104254005,null,"calle 102g - # 23 - 100",48570066,{"$nulls":12},0,0,null,"NUEVO"]
[null,"SI",177,"Cali","TAT","Ana Rosa Lopera","Jurado Guzman Carlos Andres - Tienda la Mona ",3005082848,null,"calle 10 oeste #2a - 16",94064783,{"$nulls":12},0,0,null,"NUEVO"]
[null,"SI",178,"Cali","TAT","Ana Rosa Lopera","Widelmar mafla - Tienda la Familia ",3116092604,null,"cra 3a 0este # 9- 270 ",94453297,{"$nulls":12},0,0,null,"NUEVO"]
[null,"SI",179,"Cali","TAT","Ana Rosa Lopera","Robledo Garcia Lina Maria Licores JM",3182222546,null,"CRA 13 #5-23 ",66914653,{"$nulls":12},0,0,null,"NUEVO"]
[null,"SI",180,"Cali","TAT","Ana Rosa Lopera","Nlfy Fonseca Polo ",3206540970,null,"cra 6 N 42 a  03 ",40772818,{"$nulls":12},90,90,null,"NUEVO"]
[null,"SI",181,"Tuluá","Licorera","Lina Colonia","Licores VIP",3216605343,null,"Calle 40 # 24 - 78",{"$nulls":16},"NUEVO"]

{"sheet":"Resumen","index":1,"n_rows":25,"n_cols":22,"rows_kept":25,"merged":[[2,1,2,21]]}
[]
[null,"Volumen en unidades de 750cc"]
[null,"Red Aliados de la Alegría"]
[null,"Equipo ","Responsable","Celuar","Zona","Canal ","# Aliados","Vol Sem 1","Vol Sem 2","Vol Sem 3","Vol Sem 4","Vol Sem 5","Vol Sem 6","Vol Sem 7","Vol Sem 8","Vol Sem 9","Vol Sem 10","Vol Sem 11","Vol Sem 12","Vol Sem 13","Vol Sem 14","Vol Sem 15"]
[null,"Lider Cadenas ","Ana Rosa Lopera",3223929958,"Valle ","Supermercado",4,null,{"$f":"+Ruta!M7+Ruta!M8+Ruta!M9","v":273},{"$f":"+Ruta!N7+Ruta!N8+Ruta!N9","v":0},{"$f":"+Ruta!O7+Ruta!O8+Ruta!O9","v":0},{"$f":"+Ruta!P7+Ruta!P8+Ruta!P9","v":0},{"$f":"+Ruta!Q7+Ruta!Q8+Ruta!Q9","v":0},{"$f":"+Ruta!R7+Ruta!R8+Ruta!R9","v":0},{"$f":"+Ruta!S7+Ruta!S8+Ruta!S9","v":0},{"$f":"+Ruta!T7+Ruta!T8+Ruta!T9","v":0},{"$f":"+Ruta!U7+Ruta!U8+Ruta!U9","v":0},{"$f":"+Ruta!V7+Ruta!V8+Ruta!V9","v":0},{"$f":"+Ruta!W7+Ruta!W8+Ruta!W9","v":0},{"$f":"+Ruta!X7+Ruta!X8+Ruta!X9","v":0},{"$f":"+Ruta!Y7+Ruta!Y8+Ruta!Y9","v":0},{"$f":"+Ruta!AA7+Ruta!AA8+Ruta!AA9","v":0}]
[null,"Lider Mayorista","Edwin Polanco",3234918326,"Cali","Mayoristas",13,{"v":2916,"d":"2,916"},{"$f":"+Ruta!M10+Ruta!M11+Ruta!M12+Ruta!M13+Ruta!M14+Ruta!M15+Ruta!M16+Ruta!M17+Ruta!M18+Ruta!M19+Ruta!M20","v":{"v":5292,"d":"5,292"}},{"$f":"+Ruta!N10+Ruta!N11+Ruta!N12+Ruta!N13+Ruta!N14+Ruta!N15+Ruta!N16+Ruta!N17+Ruta!N18+Ruta!N19+Ruta!N20","v":{"v":5448,"d":"5,448"}},{"$f":"+Ruta!O10+Ruta!O11+Ruta!O12+Ruta!O13+Ruta!O14+Ruta!O15+Ruta!O16+Ruta!O17+Ruta!O18+Ruta!O19+Ruta!O20","v":{"v":12900,"d":"12,900"}},{"$f":"+Ruta!P10+Ruta!P11+Ruta!P12+Ruta!P13+Ruta!P14+Ruta!P15+Ruta!P16+Ruta!P17+Ruta!P18+Ruta!P19+Ruta!P20","v":{"v":12060,"d":"12,060"}},{"$f":"+Ruta!Q10+Ruta!Q11+Ruta!Q12+Ruta!Q13+Ruta!Q14+Ruta!Q15+Ruta!Q16+Ruta!Q17+Ruta!Q18+Ruta!Q19+Ruta!Q20","v":{"v":11184,"d":"11,184"}},{"$f":"+Ruta!R10+Ruta!R11+Ruta!R12+Ruta!R13+Ruta!R14+Ruta!R15+Ruta!R16+Ruta!R17+Ruta!R18+Ruta!R19+Ruta!R20","v":{"v":12420,"d":"12,420"}},{"$f":"+Ruta!S10+Ruta!S11+Ruta!S12+Ruta!S13+Ruta!S14+Ruta!S15+Ruta!S16+Ruta!S17+Ruta!S18+Ruta!S19+Ruta!S20","v":{"v":12264,"d":"12,264"}},{"$f":"+Ruta!T10+Ruta!T11+Ruta!T12+Ruta!T13+Ruta!T14+Ruta!T15+Ruta!T16+Ruta!T17+Ruta!T18+Ruta!T19+Ruta!T20","v":{"v":11904,"d":"11,904"}},{"$f":"+Ruta!U10+Ruta!U11+Ruta!U12+Ruta!U13+Ruta!U14+Ruta!U15+Ruta!U16+Ruta!U17+Ruta!U18+Ruta!U19+Ruta!U20","v":{"v":15900,"d":"15,900"}},{"$f":"+Ruta!V10+Ruta!V11+Ruta!V12+Ruta!V13+Ruta!V14+Ruta!V15+Ruta!V16+Ruta!V17+Ruta!V18+Ruta!V19+Ruta!V20","v":{"v":14820,"d":"14,820"}},{"$f":"+Ruta!W10+Ruta!W11+Ruta!W12+Ruta!W13+Ruta!W14+Ruta!W15+Ruta!W16+Ruta!W17+Ruta!W18+Ruta!W19+Ruta!W20","v":{"v":6312,"d":"6,312"}},{"$f":"+Ruta!X10+Ruta!X11+Ruta!X12+Ruta!X13+Ruta!X14+Ruta!X15+Ruta!X16+Ruta!X17+Ruta!X18+Ruta!X19+Ruta!X20","v":{"v":11964,"d":"11,964"}},{"$f":"+Ruta!Y10+Ruta!Y11+Ruta!Y12+Ruta!Y13+Ruta!Y14+Ruta!Y15+Ruta!Y16+Ruta!Y17+Ruta!Y18+Ruta!Y19+Ruta!Y20","v":{"v":15180,"d":"15,180"}},{"$f":"+Ruta!AA10+Ruta!AA11+Ruta!AA12+Ruta!AA13+Ruta!AA14+Ruta!AA15+Ruta!AA16+Ruta!AA17+Ruta!AA18+Ruta!AA19+Ruta!AA20","v":0}]
[null,"Lider Zona","Henry Arbelaez",3152536672,"BuenaVentura","Mayoristas ",2,204,{"$f":"+Ruta!M21+Ruta!M22","v":720},{"$f":"+Ruta!N21+Ruta!N22","v":912},{"$f":"+Ruta!O21+Ruta!O22","v":{"v":2724,"d":"2,724"}},{"$f":"+Ruta!P21+Ruta!P22","v":{"v":3000,"d":"3,000"}},{"$f":"+Ruta!Q21+Ruta!Q22","v":{"v":2580,"d":"2,580"}},{"$f":"+Ruta!R21+Ruta!R22","v":{"v":2568,"d":"2,568"}},{"$f":"+Ruta!S21+Ruta!S22","v":{"v":4380,"d":"4,380"}},{"$f":"+Ruta!T21+Ruta!T22","v":{"v":3240,"d":"3,240"}},{"$f":"+Ruta!U21+Ruta!U22","v":{"v":3660,"d":"3,660"}},{"$f":"+Ruta!V21+Ruta!V22","v":{"v":2880,"d":"2,880"}},{"$f":"+Ruta!W21+Ruta!W22","v":804},{"$f":"+Ruta!X21+Ruta!X22","v":{"v":2580,"d":"2,580"}},{"$f":"+Ruta!Y21+Ruta!Y22","v":{"v":2580,"d":"2,580"}},{"$f":"+Ruta!AA21+Ruta!AA22","v":0}]
[null,"Líder Zona","Jhenny Romero",3147936241,"Norte","Licorera",2,46,{"$f":"+Ruta!M117+Ruta!M120","v":58},{"$f":"+Ruta!N117+Ruta!N120","v":65},{"$f":"+Ruta!O117+Ruta!O120","v":46},{"$f":"+Ruta!P117+Ruta!P120","v":60},{"$f":"+Ruta!Q117+Ruta!Q120","v":80},{"$f":"+Ruta!R117+Ruta!R120","v":73},{"$f":"+Ruta!S117+Ruta!S120","v":92},{"$f":"+Ruta!T117+Ruta!T120","v":145},{"$f":"+Ruta!U117+Ruta!U120","v":100},{"$f":"+Ruta!V117+Ruta!V120","v":96},{"$f":"+Ruta!W117+Ruta!W120","v":90},{"$f":"+Ruta!X117+Ruta!X120","v":80},{"$f":"+Ruta!Y117+Ruta!Y120","v":80},{"$f":"+Ruta!AA117+Ruta!AA120","v":0}]
[null,"Líder Zona","Jhenny Romero",3147936241,"Norte","Mayorista",8,410,{"$f":"+Ruta!M114+Ruta!M115+Ruta!M116+Ruta!M118+Ruta!M119+Ruta!M121","v":423},{"$f":"+Ruta!N114+Ruta!N115+Ruta!N116+Ruta!N118+Ruta!N119+Ruta!N121","v":506},{"$f":"+Ruta!O114+Ruta!O115+Ruta!O116+Ruta!O118+Ruta!O119+Ruta!O121","v":489},{"$f":"+Ruta!P114+Ruta!P115+Ruta!P116+Ruta!P118+Ruta!P119+Ruta!P121","v":642},{"$f":"+Ruta!Q114+Ruta!Q115+Ruta!Q116+Ruta!Q118+Ruta!Q119+Ruta!Q121","v":815},{"$f":"+Ruta!R114+Ruta!R115+Ruta!R116+Ruta!R118+Ruta!R119+Ruta!R121","v":635},{"$f":"+Ruta!S114+Ruta!S115+Ruta!S116+Ruta!S118+Ruta!S119+Ruta!S121","v":{"v":1042,"d":"1,042"}},{"$f":"+Ruta!T114+Ruta!T115+Ruta!T116+Ruta!T118+Ruta!T119+Ruta!T121+Ruta!T167+Ruta!T168","v":{"v":1556,"d":"1,556"}},{"$f":"+Ruta!U114+Ruta!U115+Ruta!U116+Ruta!U118+Ruta!U119+Ruta!U121+Ruta!U167+Ruta!U168","v":{"v":1090,"d":"1,090"}},{"$f":"+Ruta!V114+Ruta!V115+Ruta!V116+Ruta!V118+Ruta!V119+Ruta!V121+Ruta!V167+Ruta!V168","v":{"v":1055,"d":"1,055"}},{"$f":"+Ruta!W114+Ruta!W115+Ruta!W116+Ruta!W118+Ruta!W119+Ruta!W121+Ruta!W167+Ruta!W168","v":{"v":1158,"d":"1,158"}},{"$f":"+Ruta!X114+Ruta!X115+Ruta!X116+Ruta!X118+Ruta!X119+Ruta!X121+Ruta!X167+Ruta!X168","v":{"v":1041,"d":"1,041"}},{"$f":"+Ruta!Y114+Ruta!Y115+Ruta!Y116+Ruta!Y118+Ruta!Y119+Ruta!Y121+Ruta!Y167+Ruta!Y168","v":{"v":1029,"d":"1,029"}},{"$f":"+Ruta!AA114+Ruta!AA115+Ruta!AA116+Ruta!AA118+Ruta!AA119+Ruta!AA121+Ruta!AA167+Ruta!AA168","v":0}]
[null,"Líder Zona","Jhenny Romero",3147936241,"Norte","Supermercado",1,null,{"$f":"+Ruta!M4","v":8},{"$f":"+Ruta!N4","v":6},{"$f":"+Ruta!O4","v":8},{"$f":"+Ruta!P4","v":7},{"$f":"+Ruta!Q4","v":6},{"$f":"+Ruta!R4","v":6},{"$f":"+Ruta!S4","v":8},{"$f":"+Ruta!T4","v":12},{"$f":"+Ruta!U4","v":4},{"$f":"+Ruta!V4","v":3},{"$f":"+Ruta!W4","v":2},{"$f":"+Ruta!X4","v":4},{"$f":"+Ruta!Y4","v":3},{"$f":"+Ruta!AA4","v":0}]
[null,"Líder Zona","Lina Colonia",3176672375,"Centro","Licorera ",4,504,{"$f":"+Ruta!M26+Ruta!M31+Ruta!M32+Ruta!M35+Ruta!M36","v":{"v":1188,"d":"1,188"}},{"$f":"+Ruta!N26+Ruta!N31+Ruta!N32+Ruta!N35+Ruta!N36","v":{"v":1654,"d":"1,654"}},{"$f":"+Ruta!O26+Ruta!O31+Ruta!O32+Ruta!O35+Ruta!O36","v":{"v":1810,"d":"1,810"}},{"$f":"+Ruta!P26+Ruta!P31+Ruta!P32+Ruta!P35+Ruta!P36","v":{"v":1780,"d":"1,780"}},{"$f":"+Ruta!Q26+Ruta!Q31+Ruta!Q32+Ruta!Q35+Ruta!Q36","v":{"v":1602,"d":"1,602"}},{"$f":"+Ruta!R26+Ruta!R31+Ruta!R32+Ruta!R35+Ruta!R36","v":{"v":1770,"d":"1,770"}},{"$f":"+Ruta!S26+Ruta!S31+Ruta!S32+Ruta!S35+Ruta!S36","v":{"v":1498,"d":"1,498"}},{"$f":"+Ruta!T26+Ruta!T31+Ruta!T32+Ruta!T35+Ruta!T36","v":{"v":2160,"d":"2,160"}},{"$f":"+Ruta!U26+Ruta!U31+Ruta!U32+Ruta!U35+Ruta!U36","v":{"v":1985,"d":"1,985"}},{"$f":"+Ruta!V26+Ruta!V31+Ruta!V32+Ruta!V35+Ruta!V36","v":{"v":2292,"d":"2,292"}},{"$f":"+Ruta!W26+Ruta!W31+Ruta!W32+Ruta!W35+Ruta!W36","v":{"v":2492,"d":"2,492"}},{"$f":"+Ruta!X26+Ruta!X31+Ruta!X32+Ruta!X35+Ruta!X36","v":{"v":2280,"d":"2,280"}},{"$f":"+Ruta!Y26+Ruta!Y31+Ruta!Y32+Ruta!Y35+Ruta!Y36+Ruta!Y184","v":{"v":2400,"d":"2,400"}},{"$f":"+Ruta!Z26+Ruta!Z31+Ruta!Z32+Ruta!Z35+Ruta!Z36+Ruta!Z184","v":0}]
[null,"Líder Zona","Lina Colonia",3176672375,"Centro","Mayorista ",16,580,{"$f":"+Ruta!M24+Ruta!M25+Ruta!M27+Ruta!M28+Ruta!M29+Ruta!M30+Ruta!M33+Ruta!M133+Ruta!M134+Ruta!M135+Ruta!M136+Ruta!M137+Ruta!M138+Ruta!M139","v":{"v":4164,"d":"4,164"}},{"$f":"+Ruta!N24+Ruta!N25+Ruta!N27+Ruta!N28+Ruta!N29+Ruta!N30+Ruta!N33+Ruta!N133+Ruta!N134+Ruta!N135+Ruta!N136+Ruta!N137+Ruta!N138+Ruta!N139","v":{"v":6704,"d":"6,704"}},{"$f":"+Ruta!O24+Ruta!O25+Ruta!O27+Ruta!O28+Ruta!O29+Ruta!O30+Ruta!O33+Ruta!O133+Ruta!O134+Ruta!O135+Ruta!O136+Ruta!O137+Ruta!O138+Ruta!O139","v":{"v":6740,"d":"6,740"}},{"$f":"+Ruta!P24+Ruta!P25+Ruta!P27+Ruta!P28+Ruta!P29+Ruta!P30+Ruta!P33+Ruta!P133+Ruta!P134+Ruta!P135+Ruta!P136+Ruta!P137+Ruta!P138+Ruta!P139","v":{"v":6109,"d":"6,109"}},{"$f":"+Ruta!Q24+Ruta!Q25+Ruta!Q27+Ruta!Q28+Ruta!Q29+Ruta!Q30+Ruta!Q33+Ruta!Q133+Ruta!Q134+Ruta!Q135+Ruta!Q136+Ruta!Q137+Ruta!Q138+Ruta!Q139","v":{"v":5517,"d":"5,517"}},{"$f":"+Ruta!R24+Ruta!R25+Ruta!R27+Ruta!R28+Ruta!R29+Ruta!R30+Ruta!R33+Ruta!R133+Ruta!R134+Ruta!R135+Ruta!R136+Ruta!R137+Ruta!R138+Ruta!R139+Ruta!R164+Ruta!R165","v":{"v":6200,"d":"6,200"}},{"$f":"+Ruta!S24+Ruta!S25+Ruta!S27+Ruta!S28+Ruta!S29+Ruta!S30+Ruta!S33+Ruta!S133+Ruta!S134+Ruta!S135+Ruta!S136+Ruta!S137+Ruta!S138+Ruta!S139+Ruta!S164+Ruta!S165","v":{"v":6999,"d":"6,999"}},{"$f":"+Ruta!T24+Ruta!T25+Ruta!T27+Ruta!T28+Ruta!T29+Ruta!T30+Ruta!T33+Ruta!T133+Ruta!T134+Ruta!T135+Ruta!T136+Ruta!T137+Ruta!T138+Ruta!T139+Ruta!T164+Ruta!T165+Ruta!T166","v":{"v":10503,"d":"10,503"}},{"$f":"+Ruta!U24+Ruta!U25+Ruta!U27+Ruta!U28+Ruta!U29+Ruta!U30+Ruta!U33+Ruta!U133+Ruta!U134+Ruta!U135+Ruta!U136+Ruta!U137+Ruta!U138+Ruta!U139+Ruta!U164+Ruta!U165+Ruta!U166","v":{"v":8528,"d":"8,528"}},{"$f":"+Ruta!V24+Ruta!V25+Ruta!V27+Ruta!V28+Ruta!V29+Ruta!V30+Ruta!V33+Ruta!V133+Ruta!V134+Ruta!V135+Ruta!V136+Ruta!V137+Ruta!V138+Ruta!V139+Ruta!V164+Ruta!V165+Ruta!V166","v":{"v":9050,"d":"9,050"}},{"$f":"+Ruta!W24+Ruta!W25+Ruta!W27+Ruta!W28+Ruta!W29+Ruta!W30+Ruta!W33+Ruta!W133+Ruta!W134+Ruta!W135+Ruta!W136+Ruta!W137+Ruta!W138+Ruta!W139+Ruta!W164+Ruta!W165+Ruta!W166","v":{"v":7596,"d":"7,596"}},{"$f":"+Ruta!X24+Ruta!X25+Ruta!X27+Ruta!X28+Ruta!X29+Ruta!X30+Ruta!X33+Ruta!X133+Ruta!X134+Ruta!X135+Ruta!X136+Ruta!X137+Ruta!X138+Ruta!X139+Ruta!X164+Ruta!X165+Ruta!X166","v":{"v":9030,"d":"9,030"}},{"$f":"+Ruta!Y24+Ruta!Y25+Ruta!Y27+Ruta!Y28+Ruta!Y29+Ruta!Y30+Ruta!Y33+Ruta!Y133+Ruta!Y134+Ruta!Y135+Ruta!Y136+Ruta!Y137+Ruta!Y138+Ruta!Y139+Ruta!Y164+Ruta!Y165+Ruta!Y166","v":{"v":8128,"d":"8,128"}},{"$f":"+Ruta!AA24+Ruta!AA25+Ruta!AA27+Ruta!AA28+Ruta!AA29+Ruta!AA30+Ruta!AA33+Ruta!AA133+Ruta!AA134+Ruta!AA135+Ruta!AA136+Ruta!AA137+Ruta!AA138+Ruta!AA139+Ruta!AA164+Ruta!AA165+Ruta!AA166","v":0}]
[null,"Líder Zona","Lina Colonia",3176672375,"Centro","Supermercado",2,null,{"$f":"+Ruta!M23+Ruta!M34+Ruta!M99+Ruta!M100+Ruta!M101+Ruta!M102+Ruta!M103","v":122},{"$f":"+Ruta!N23+Ruta!N34+Ruta!N99+Ruta!N100+Ruta!N101+Ruta!N102+Ruta!N103","v":26},{"$f":"+Ruta!O23+Ruta!O34+Ruta!O99+Ruta!O100+Ruta!O101+Ruta!O102+Ruta!O103","v":48},{"$f":"+Ruta!P23+Ruta!P34+Ruta!P99+Ruta!P100+Ruta!P101+Ruta!P102+Ruta!P103","v":42},{"$f":"+Ruta!Q23+Ruta!Q34+Ruta!Q99+Ruta!Q100+Ruta!Q101+Ruta!Q102+Ruta!Q103","v":37},{"$f":"+Ruta!R23+Ruta!R34+Ruta!R99+Ruta!R100+Ruta!R101+Ruta!R102+Ruta!R103","v":48},{"$f":"+Ruta!S23+Ruta!S34+Ruta!S99+Ruta!S100+Ruta!S101+Ruta!S102+Ruta!S103","v":48},{"$f":"+Ruta!T23+Ruta!T34+Ruta!T99+Ruta!T100+Ruta!T101+Ruta!T102+Ruta!T103","v":52},{"$f":"+Ruta!U23+Ruta!U34+Ruta!U99+Ruta!U100+Ruta!U101+Ruta!U102+Ruta!U103","v":33},{"$f":"+Ruta!V23+Ruta!V34+Ruta!V99+Ruta!V100+Ruta!V101+Ruta!V102+Ruta!V103","v":47},{"$f":"+Ruta!W23+Ruta!W34+Ruta!W99+Ruta!W100+Ruta!W101+Ruta!W102+Ruta!W103","v":64},{"$f":"+Ruta!X23+Ruta!X34+Ruta!X99+Ruta!X100+Ruta!X101+Ruta!X102+Ruta!X103","v":50},{"$f":"+Ruta!Y23+Ruta!Y34+Ruta!Y99+Ruta!Y100+Ruta!Y101+Ruta!Y102+Ruta!Y103","v":53},{"$f":"+Ruta!AA23+Ruta!AA34+Ruta!AA99+Ruta!AA100+Ruta!AA101+Ruta!AA102+Ruta!AA103","v":0}]
[null,"Lider TAT","Jhon Jairo Ortiz",3234918301,"Cali","TAT",66,{"$f":"+Ruta!L37+Ruta!L38+Ruta!L39+Ruta!L40+Ruta!L41+Ruta!L42+Ruta!L43+Ruta!L44+Ruta!L45+Ruta!L46+Ruta!L47+Ruta!L48+Ruta!L49+Ruta!L50+Ruta!L51+Ruta!L53+Ruta!L52+Ruta!L54+Ruta!L55+Ruta!L56+Ruta!L57+Ruta!L58+Ruta!L59+Ruta!L60+Ruta!L61+Ruta!L62+Ruta!L63+Ruta!L64+Ruta!L65+Ruta!L66+Ruta!L67+Ruta!L68+Ruta!L69+Ruta!L70+Ruta!L71+Ruta!L72+Ruta!L73+Ruta!L74+Ruta!L75+Ruta!L76+Ruta!L77+Ruta!L78+Ruta!L79+Ruta!L80+Ruta!L81+Ruta!L82+Ruta!L83+Ruta!L84+Ruta!L85+Ruta!L86+Ruta!L87+Ruta!L88+Ruta!L89+Ruta!L90+Ruta!L91+Ruta!L92+Ruta!L93+Ruta!L94+Ruta!L95+Ruta!L96+Ruta!L97+Ruta!L98","v":36},{"$f":"+Ruta!M37+Ruta!M38+Ruta!M39+Ruta!M40+Ruta!M41+Ruta!M42+Ruta!M43+Ruta!M44+Ruta!M45+Ruta!M46+Ruta!M47+Ruta!M48+Ruta!M49+Ruta!M50+Ruta!M51+Ruta!M53+Ruta!M52+Ruta!M54+Ruta!M55+Ruta!M56+Ruta!M57+Ruta!M58+Ruta!M59+Ruta!M60+Ruta!M61+Ruta!M62+Ruta!M63+Ruta!M64+Ruta!M65+Ruta!M66+Ruta!M67+Ruta!M68+Ruta!M69+Ruta!M70+Ruta!M71+Ruta!M72+Ruta!M73+Ruta!M74+Ruta!M75+Ruta!M76+Ruta!M77+Ruta!M78+Ruta!M79+Ruta!M80+Ruta!M81+Ruta!M82+Ruta!M83+Ruta!M84+Ruta!M85+Ruta!M86+Ruta!M87+Ruta!M88+Ruta!M89+Ruta!M90+Ruta!M91+Ruta!M92+Ruta!M93+Ruta!M94+Ruta!M95+Ruta!M96+Ruta!M97+Ruta!M98","v":122},{"$f":"+Ruta!N37+Ruta!N38+Ruta!N39+Ruta!N40+Ruta!N41+Ruta!N42+Ruta!N43+Ruta!N44+Ruta!N45+Ruta!N46+Ruta!N47+Ruta!N48+Ruta!N49+Ruta!N50+Ruta!N51+Ruta!N53+Ruta!N52+Ruta!N54+Ruta!N55+Ruta!N56+Ruta!N57+Ruta!N58+Ruta!N59+Ruta!N60+Ruta!N61+Ruta!N62+Ruta!N63+Ruta!N64+Ruta!N65+Ruta!N66+Ruta!N67+Ruta!N68+Ruta!N69+Ruta!N70+Ruta!N71+Ruta!N72+Ruta!N73+Ruta!N74+Ruta!N75+Ruta!N76+Ruta!N77+Ruta!N78+Ruta!N79+Ruta!N80+Ruta!N81+Ruta!N82+Ruta!N83+Ruta!N84+Ruta!N85+Ruta!N86+Ruta!N87+Ruta!N88+Ruta!N89+Ruta!N90+Ruta!N91+Ruta!N92+Ruta!N93+Ruta!N94+Ruta!N95+Ruta!N96+Ruta!N97+Ruta!N98+SUM(Ruta!N141:N160)","v":315},{"$f":"+Ruta!O37+Ruta!O38+Ruta!O39+Ruta!O40+Ruta!O41+Ruta!O42+Ruta!O43+Ruta!O44+Ruta!O45+Ruta!O46+Ruta!O47+Ruta!O48+Ruta!O49+Ruta!O50+Ruta!O51+Ruta!O53+Ruta!O52+Ruta!O54+Ruta!O55+Ruta!O56+Ruta!O57+Ruta!O58+Ruta!O59+Ruta!O60+Ruta!O61+Ruta!O62+Ruta!O63+Ruta!O64+Ruta!O65+Ruta!O66+Ruta!O67+Ruta!O68+Ruta!O69+Ruta!O70+Ruta!O71+Ruta!O72+Ruta!O73+Ruta!O74+Ruta!O75+Ruta!O76+Ruta!O77+Ruta!O78+Ruta!O79+Ruta!O80+Ruta!O81+Ruta!O82+Ruta!O83+Ruta!O84+Ruta!O85+Ruta!O86+Ruta!O87+Ruta!O88+Ruta!O89+Ruta!O90+Ruta!O91+Ruta!O92+Ruta!O93+Ruta!O94+Ruta!O95+Ruta!O96+Ruta!O97+Ruta!O98+SUM(Ruta!O141:O160)","v":439},{"$f":"+Ruta!P37+Ruta!P38+Ruta!P39+Ruta!P40+Ruta!P41+Ruta!P42+Ruta!P43+Ruta!P44+Ruta!P45+Ruta!P46+Ruta!P47+Ruta!P48+Ruta!P49+Ruta!P50+Ruta!P51+Ruta!P53+Ruta!P52+Ruta!P54+Ruta!P55+Ruta!P56+Ruta!P57+Ruta!P58+Ruta!P59+Ruta!P60+Ruta!P61+Ruta!P62+Ruta!P63+Ruta!P64+Ruta!P65+Ruta!P66+Ruta!P67+Ruta!P68+Ruta!P69+Ruta!P70+Ruta!P71+Ruta!P72+Ruta!P73+Ruta!P74+Ruta!P75+Ruta!P76+Ruta!P77+Ruta!P78+Ruta!P79+Ruta!P80+Ruta!P81+Ruta!P82+Ruta!P83+Ruta!P84+Ruta!P85+Ruta!P86+Ruta!P87+Ruta!P88+Ruta!P89+Ruta!P90+Ruta!P91+Ruta!P92+Ruta!P93+Ruta!P94+Ruta!P95+Ruta!P96+Ruta!P97+Ruta!P98+SUM(Ruta!P141:P160)","v":509},{"$f":"+Ruta!Q37+Ruta!Q38+Ruta!Q39+Ruta!Q40+Ruta!Q41+Ruta!Q42+Ruta!Q43+Ruta!Q44+Ruta!Q45+Ruta!Q46+Ruta!Q47+Ruta!Q48+Ruta!Q49+Ruta!Q50+Ruta!Q51+Ruta!Q53+Ruta!Q52+Ruta!Q54+Ruta!Q55+Ruta!Q56+Ruta!Q57+Ruta!Q58+Ruta!Q59+Ruta!Q60+Ruta!Q61+Ruta!Q62+Ruta!Q63+Ruta!Q64+Ruta!Q65+Ruta!Q66+Ruta!Q67+Ruta!Q68+Ruta!Q69+Ruta!Q70+Ruta!Q71+Ruta!Q72+Ruta!Q73+Ruta!Q74+Ruta!Q75+Ruta!Q76+Ruta!Q77+Ruta!Q78+Ruta!Q79+Ruta!Q80+Ruta!Q81+Ruta!Q82+Ruta!Q83+Ruta!Q84+Ruta!Q85+Ruta!Q86+Ruta!Q87+Ruta!Q88+Ruta!Q89+Ruta!Q90+Ruta!Q91+Ruta!Q92+Ruta!Q93+Ruta!Q94+Ruta!Q95+Ruta!Q96+Ruta!Q97+Ruta!Q98+SUM(Ruta!Q141:Q160)","v":337},{"$f":"+Ruta!R37+Ruta!R38+Ruta!R39+Ruta!R40+Ruta!R41+Ruta!R42+Ruta!R43+Ruta!R44+Ruta!R45+Ruta!R46+Ruta!R47+Ruta!R48+Ruta!R49+Ruta!R50+Ruta!R51+Ruta!R53+Ruta!R52+Ruta!R54+Ruta!R55+Ruta!R56+Ruta!R57+Ruta!R58+Ruta!R59+Ruta!R60+Ruta!R61+Ruta!R62+Ruta!R63+Ruta!R64+Ruta!R65+Ruta!R66+Ruta!R67+Ruta!R68+Ruta!R69+Ruta!R70+Ruta!R71+Ruta!R72+Ruta!R73+Ruta!R74+Ruta!R75+Ruta!R76+Ruta!R77+Ruta!R78+Ruta!R79+Ruta!R80+Ruta!R81+Ruta!R82+Ruta!R83+Ruta!R84+Ruta!R85+Ruta!R86+Ruta!R87+Ruta!R88+Ruta!R89+Ruta!R90+Ruta!R91+Ruta!R92+Ruta!R93+Ruta!R94+Ruta!R95+Ruta!R96+Ruta!R97+Ruta!R98+SUM(Ruta!R141:R160)","v":445},{"$f":"+Ruta!S37+Ruta!S38+Ruta!S39+Ruta!S40+Ruta!S41+Ruta!S42+Ruta!S43+Ruta!S44+Ruta!S45+Ruta!S46+Ruta!S47+Ruta!S48+Ruta!S49+Ruta!S50+Ruta!S51+Ruta!S53+Ruta!S52+Ruta!S54+Ruta!S55+Ruta!S56+Ruta!S57+Ruta!S58+Ruta!S59+Ruta!S60+Ruta!S61+Ruta!S62+Ruta!S63+Ruta!S64+Ruta!S65+Ruta!S66+Ruta!S67+Ruta!S68+Ruta!S69+Ruta!S70+Ruta!S71+Ruta!S72+Ruta!S73+Ruta!S74+Ruta!S75+Ruta!S76+Ruta!S77+Ruta!S78+Ruta!S79+Ruta!S80+Ruta!S81+Ruta!S82+Ruta!S83+Ruta!S84+Ruta!S85+Ruta!S86+Ruta!S87+Ruta!S88+Ruta!S89+Ruta!S90+Ruta!S91+Ruta!S92+Ruta!S93+Ruta!S94+Ruta!S95+Ruta!S96+Ruta!S97+Ruta!S98+SUM(Ruta!S141:S160)","v":594},{"$f":"+Ruta!T37+Ruta!T38+Ruta!T39+Ruta!T40+Ruta!T41+Ruta!T42+Ruta!T43+Ruta!T44+Ruta!T45+Ruta!T46+Ruta!T47+Ruta!T48+Ruta!T49+Ruta!T50+Ruta!T51+Ruta!T53+Ruta!T52+Ruta!T54+Ruta!T55+Ruta!T56+Ruta!T57+Ruta!T58+Ruta!T59+Ruta!T60+Ruta!T61+Ruta!T62+Ruta!T63+Ruta!T64+Ruta!T65+Ruta!T66+Ruta!T67+Ruta!T68+Ruta!T69+Ruta!T70+Ruta!T71+Ruta!T72+Ruta!T73+Ruta!T74+Ruta!T75+Ruta!T76+Ruta!T77+Ruta!T78+Ruta!T79+Ruta!T80+Ruta!T81+Ruta!T82+Ruta!T83+Ruta!T84+Ruta!T85+Ruta!T86+Ruta!T87+Ruta!T88+Ruta!T89+Ruta!T90+Ruta!T91+Ruta!T92+Ruta!T93+Ruta!T94+Ruta!T95+Ruta!T96+Ruta!T97+Ruta!T98+SUM(Ruta!T141:T160)","v":{"v":1214,"d":"1,214"}},{"$f":"+Ruta!U37+Ruta!U38+Ruta!U39+Ruta!U40+Ruta!U41+Ruta!U42+Ruta!U43+Ruta!U44+Ruta!U45+Ruta!U46+Ruta!U47+Ruta!U48+Ruta!U49+Ruta!U50+Ruta!U51+Ruta!U53+Ruta!U52+Ruta!U54+Ruta!U55+Ruta!U56+Ruta!U57+Ruta!U58+Ruta!U59+Ruta!U60+Ruta!U61+Ruta!U62+Ruta!U63+Ruta!U64+Ruta!U65+Ruta!U66+Ruta!U67+Ruta!U68+Ruta!U69+Ruta!U70+Ruta!U71+Ruta!U72+Ruta!U73+Ruta!U74+Ruta!U75+Ruta!U76+Ruta!U77+Ruta!U78+Ruta!U79+Ruta!U80+Ruta!U81+Ruta!U82+Ruta!U83+Ruta!U84+Ruta!U85+Ruta!U86+Ruta!U87+Ruta!U88+Ruta!U89+Ruta!U90+Ruta!U91+Ruta!U92+Ruta!U93+Ruta!U94+Ruta!U95+Ruta!U96+Ruta!U97+Ruta!U98+SUM(Ruta!U141:U160)","v":{"v":1279,"d":"1,279"}},{"$f":"+Ruta!V37+Ruta!V38+Ruta!V39+Ruta!V40+Ruta!V41+Ruta!V42+Ruta!V43+Ruta!V44+Ruta!V45+Ruta!V46+Ruta!V47+Ruta!V48+Ruta!V49+Ruta!V50+Ruta!V51+Ruta!V53+Ruta!V52+Ruta!V54+Ruta!V55+Ruta!V56+Ruta!V57+Ruta!V58+Ruta!V59+Ruta!V60+Ruta!V61+Ruta!V62+Ruta!V63+Ruta!V64+Ruta!V65+Ruta!V66+Ruta!V67+Ruta!V68+Ruta!V69+Ruta!V70+Ruta!V71+Ruta!V72+Ruta!V73+Ruta!V74+Ruta!V75+Ruta!V76+Ruta!V77+Ruta!V78+Ruta!V79+Ruta!V80+Ruta!V81+Ruta!V82+Ruta!V83+Ruta!V84+Ruta!V85+Ruta!V86+Ruta!V87+Ruta!V88+Ruta!V89+Ruta!V90+Ruta!V91+Ruta!V92+Ruta!V93+Ruta!V94+Ruta!V95+Ruta!V96+Ruta!V97+Ruta!V98+SUM(Ruta!V141:V160)","v":{"v":1289,"d":"1,289"}},{"$f":"+Ruta!W37+Ruta!W38+Ruta!W39+Ruta!W40+Ruta!W41+Ruta!W42+Ruta!W43+Ruta!W44+Ruta!W45+Ruta!W46+Ruta!W47+Ruta!W48+Ruta!W49+Ruta!W50+Ruta!W51+Ruta!W53+Ruta!W52+Ruta!W54+Ruta!W55+Ruta!W56+Ruta!W57+Ruta!W58+Ruta!W59+Ruta!W60+Ruta!W61+Ruta!W62+Ruta!W63+Ruta!W64+Ruta!W65+Ruta!W66+Ruta!W67+Ruta!W68+Ruta!W69+Ruta!W70+Ruta!W71+Ruta!W72+Ruta!W73+Ruta!W74+Ruta!W75+Ruta!W76+Ruta!W77+Ruta!W78+Ruta!W79+Ruta!W80+Ruta!W81+Ruta!W82+Ruta!W83+Ruta!W84+Ruta!W85+Ruta!W86+Ruta!W87+Ruta!W88+Ruta!W89+Ruta!W90+Ruta!W91+Ruta!W92+Ruta!W93+Ruta!W94+Ruta!W95+Ruta!W96+Ruta!W97+Ruta!W98+SUM(Ruta!W141:W160)","v":{"v":1293,"d":"1,293"}},{"$f":"+Ruta!X37+Ruta!X38+Ruta!X39+Ruta!X40+Ruta!X41+Ruta!X42+Ruta!X43+Ruta!X44+Ruta!X45+Ruta!X46+Ruta!X47+Ruta!X48+Ruta!X49+Ruta!X50+Ruta!X51+Ruta!X53+Ruta!X52+Ruta!X54+Ruta!X55+Ruta!X56+Ruta!X57+Ruta!X58+Ruta!X59+Ruta!X60+Ruta!X61+Ruta!X62+Ruta!X63+Ruta!X64+Ruta!X65+Ruta!X66+Ruta!X67+Ruta!X68+Ruta!X69+Ruta!X70+Ruta!X71+Ruta!X72+Ruta!X73+Ruta!X74+Ruta!X75+Ruta!X76+Ruta!X77+Ruta!X78+Ruta!X79+Ruta!X80+Ruta!X81+Ruta!X82+Ruta!X83+Ruta!X84+Ruta!X85+Ruta!X86+Ruta!X87+Ruta!X88+Ruta!X89+Ruta!X90+Ruta!X91+Ruta!X92+Ruta!X93+Ruta!X94+Ruta!X95+Ruta!X96+Ruta!X97+Ruta!X98+SUM(Ruta!X141:X160)+SUM(Ruta!X169:X183)","v":{"v":1862,"d":"1,862"}},{"$f":"+Ruta!Y37+Ruta!Y38+Ruta!Y39+Ruta!Y40+Ruta!Y41+Ruta!Y42+Ruta!Y43+Ruta!Y44+Ruta!Y45+Ruta!Y46+Ruta!Y47+Ruta!Y48+Ruta!Y49+Ruta!Y50+Ruta!Y51+Ruta!Y53+Ruta!Y52+Ruta!Y54+Ruta!Y55+Ruta!Y56+Ruta!Y57+Ruta!Y58+Ruta!Y59+Ruta!Y60+Ruta!Y61+Ruta!Y62+Ruta!Y63+Ruta!Y64+Ruta!Y65+Ruta!Y66+Ruta!Y67+Ruta!Y68+Ruta!Y69+Ruta!Y70+Ruta!Y71+Ruta!Y72+Ruta!Y73+Ruta!Y74+Ruta!Y75+Ruta!Y76+Ruta!Y77+Ruta!Y78+Ruta!Y79+Ruta!Y80+Ruta!Y81+Ruta!Y82+Ruta!Y83+Ruta!Y84+Ruta!Y85+Ruta!Y86+Ruta!Y87+Ruta!Y88+Ruta!Y89+Ruta!Y90+Ruta!Y91+Ruta!Y92+Ruta!Y93+Ruta!Y94+Ruta!Y95+Ruta!Y96+Ruta!Y97+Ruta!Y98+SUM(Ruta!Y141:Y160)+SUM(Ruta!Y169:Y183)","v":{"v":2216,"d":"2,216"}},{"$f":"+Ruta!AA37+Ruta!AA38+Ruta!AA39+Ruta!AA40+Ruta!AA41+Ruta!AA42+Ruta!AA43+Ruta!AA44+Ruta!AA45+Ruta!AA46+Ruta!AA47+Ruta!AA48+Ruta!AA49+Ruta!AA50+Ruta!AA51+Ruta!AA53+Ruta!AA52+Ruta!AA54+Ruta!AA55+Ruta!AA56+Ruta!AA57+Ruta!AA58+Ruta!AA59+Ruta!AA60+Ruta!AA61+Ruta!AA62+Ruta!AA63+Ruta!AA64+Ruta!AA65+Ruta!AA66+Ruta!AA67+Ruta!AA68+Ruta!AA69+Ruta!AA70+Ruta!AA71+Ruta!AA72+Ruta!AA73+Ruta!AA74+Ruta!AA75+Ruta!AA76+Ruta!AA77+Ruta!AA78+Ruta!AA79+Ruta!AA80+Ruta!AA81+Ruta!AA82+Ruta!AA83+Ruta!AA84+Ruta!AA85+Ruta!AA86+Ruta!AA87+Ruta!AA88+Ruta!AA89+Ruta!AA90+Ruta!AA91+Ruta!AA92+Ruta!AA93+Ruta!AA94+Ruta!AA95+Ruta!AA96+Ruta!AA97+Ruta!AA98+SUM(Ruta!AA141:AA160)+SUM(Ruta!AA169:AA183)","v":0}]
[null,"Líder Zona","Katherine Rengifo",3234918324,"Palmira","Licorera",3,216,{"$f":"+Ruta!M5+Ruta!M124+Ruta!M125","v":276},{"$f":"+Ruta!N5+Ruta!N124+Ruta!N125","v":300},{"$f":"+Ruta!O5+Ruta!O124+Ruta!O125","v":780},{"$f":"+Ruta!P5+Ruta!P124+Ruta!P125","v":{"v":1200,"d":"1,200"}},{"$f":"+Ruta!Q5+Ruta!Q124+Ruta!Q125","v":{"v":1560,"d":"1,560"}},{"$f":"+Ruta!R5+Ruta!R124+Ruta!R125","v":{"v":1500,"d":"1,500"}},{"$f":"+Ruta!S5+Ruta!S124+Ruta!S125","v":{"v":1860,"d":"1,860"}},{"$f":"+Ruta!T5+Ruta!T124+Ruta!T125","v":{"v":2340,"d":"2,340"}},{"$f":"+Ruta!U5+Ruta!U124+Ruta!U125","v":{"v":1260,"d":"1,260"}},{"$f":"+Ruta!V5+Ruta!V124+Ruta!V125","v":{"v":1320,"d":"1,320"}},{"$f":"+Ruta!W5+Ruta!W124+Ruta!W125","v":{"v":1620,"d":"1,620"}},{"$f":"+Ruta!X5+Ruta!X124+Ruta!X125","v":564},{"$f":"+Ruta!Y5+Ruta!Y124+Ruta!Y125","v":{"v":1152,"d":"1,152"}},{"$f":"+Ruta!AA5+Ruta!AA124+Ruta!AA125","v":0}]
[null,"Líder Zona","Katherine Rengifo",3234918324,"Palmira","Mayorista",9,348,{"$f":"+Ruta!M6+Ruta!M122+Ruta!M123+Ruta!M127+Ruta!M128+Ruta!M140","v":460},{"$f":"+Ruta!N6+Ruta!N122+Ruta!N123+Ruta!N127+Ruta!N128+Ruta!N140+Ruta!N161+Ruta!N162+Ruta!N163","v":740},{"$f":"+Ruta!O6+Ruta!O122+Ruta!O123+Ruta!O127+Ruta!O128+Ruta!O140+Ruta!O161+Ruta!O162+Ruta!O163","v":{"v":1776,"d":"1,776"}},{"$f":"+Ruta!P6+Ruta!P122+Ruta!P123+Ruta!P127+Ruta!P128+Ruta!P140+Ruta!P161+Ruta!P162+Ruta!P163","v":{"v":2544,"d":"2,544"}},{"$f":"+Ruta!Q6+Ruta!Q122+Ruta!Q123+Ruta!Q127+Ruta!Q128+Ruta!Q140+Ruta!Q161+Ruta!Q162+Ruta!Q163","v":{"v":3300,"d":"3,300"}},{"$f":"+Ruta!R6+Ruta!R122+Ruta!R123+Ruta!R127+Ruta!R128+Ruta!R140+Ruta!R161+Ruta!R162+Ruta!R163","v":{"v":3732,"d":"3,732"}},{"$f":"+Ruta!S6+Ruta!S122+Ruta!S123+Ruta!S127+Ruta!S128+Ruta!S140+Ruta!S161+Ruta!S162+Ruta!S163","v":{"v":5160,"d":"5,160"}},{"$f":"+Ruta!T6+Ruta!T122+Ruta!T123+Ruta!T127+Ruta!T128+Ruta!T140+Ruta!T161+Ruta!T162+Ruta!T163","v":{"v":7500,"d":"7,500"}},{"$f":"+Ruta!U6+Ruta!U122+Ruta!U123+Ruta!U127+Ruta!U128+Ruta!U140+Ruta!U161+Ruta!U162+Ruta!U163","v":{"v":5436,"d":"5,436"}},{"$f":"+Ruta!V6+Ruta!V122+Ruta!V123+Ruta!V127+Ruta!V128+Ruta!V140+Ruta!V161+Ruta!V162+Ruta!V163","v":{"v":6192,"d":"6,192"}},{"$f":"+Ruta!W6+Ruta!W122+Ruta!W123+Ruta!W127+Ruta!W128+Ruta!W140+Ruta!W161+Ruta!W162+Ruta!W163","v":{"v":5316,"d":"5,316"}},{"$f":"+Ruta!X6+Ruta!X122+Ruta!X123+Ruta!X127+Ruta!X128+Ruta!X140+Ruta!X161+Ruta!X162+Ruta!X163","v":{"v":2592,"d":"2,592"}},{"$f":"+Ruta!Y6+Ruta!Y122+Ruta!Y123+Ruta!Y127+Ruta!Y128+Ruta!Y140+Ruta!Y161+Ruta!Y162+Ruta!Y163","v":{"v":6144,"d":"6,144"}},{"$f":"+Ruta!AA6+Ruta!AA122+Ruta!AA123+Ruta!AA127+Ruta!AA128+Ruta!AA140+Ruta!AA161+Ruta!AA162+Ruta!AA163","v":0}]
[null,"Líder Zona","Katherine Rengifo",3234918324,"Palmira","Supermercado",4,null,{"$f":"+Ruta!M104+Ruta!M126+Ruta!M129+Ruta!M130+Ruta!M131+Ruta!M132","v":312},{"$f":"+Ruta!N104+Ruta!N126+Ruta!N129+Ruta!N130+Ruta!N131+Ruta!N132","v":365},{"$f":"+Ruta!O104+Ruta!O126+Ruta!O129+Ruta!O130+Ruta!O131+Ruta!O132","v":780},{"$f":"+Ruta!P104+Ruta!P126+Ruta!P129+Ruta!P130+Ruta!P131+Ruta!P132","v":348},{"$f":"+Ruta!Q104+Ruta!Q126+Ruta!Q129+Ruta!Q130+Ruta!Q131+Ruta!Q132","v":744},{"$f":"+Ruta!R104+Ruta!R126+Ruta!R129+Ruta!R130+Ruta!R131+Ruta!R132","v":684},{"$f":"+Ruta!S104+Ruta!S126+Ruta!S129+Ruta!S130+Ruta!S131+Ruta!S132","v":924},{"$f":"+Ruta!T104+Ruta!T126+Ruta!T129+Ruta!T130+Ruta!T131+Ruta!T132","v":{"v":1212,"d":"1,212"}},{"$f":"+Ruta!U104+Ruta!U126+Ruta!U129+Ruta!U130+Ruta!U131+Ruta!U132","v":804},{"$f":"+Ruta!V104+Ruta!V126+Ruta!V129+Ruta!V130+Ruta!V131+Ruta!V132","v":684},{"$f":"+Ruta!W104+Ruta!W126+Ruta!W129+Ruta!W130+Ruta!W131+Ruta!W132","v":612},{"$f":"+Ruta!X104+Ruta!X126+Ruta!X129+Ruta!X130+Ruta!X131+Ruta!X132","v":348},{"$f":"+Ruta!Y104+Ruta!Y126+Ruta!Y129+Ruta!Y130+Ruta!Y131+Ruta!Y132","v":672},{"$f":"+Ruta!AA104+Ruta!AA126+Ruta!AA129+Ruta!AA130+Ruta!AA131+Ruta!AA132","v":0}]
[{"$nulls":5},"Total",{"$f":"SUM(G5:G17)","v":134},{"v":5260,"d":"5,260"},{"v":13418,"d":"13,418"},{"v":17041,"d":"17,041"},{"v":28540,"d":"28,540"},{"v":28301,"d":"28,301"},{"v":27762,"d":"27,762"},{"v":30081,"d":"30,081"},{"$f":"SUM(O5:O17)","v":{"v":34869,"d":"34,869"}},{"v":41838,"d":"41,838"},{"$f":"SUM(Q5:Q17)","v":{"v":40079,"d":"40,079"}},{"v":39728,"d":"39,728"},{"$f":"SUM(S5:S17)","v":{"v":27359,"d":"27,359"}},{"v":32395,"d":"32,395"},{"$f":"SUM(U5:U17)","v":{"v":39637,"d":"39,637"}},0]
[]
[{"$nulls":5},"Canal ","Aliados","Uds  750cc S1","Uds  750cc S2","Uds  750cc S3","Uds  750cc S4","Uds  750cc S5","Uds  750cc S6","Uds  750cc S7","Uds  750cc S8","Uds  750cc S9","Uds  750cc S10","Uds  750cc S11","Uds  750cc S12","Uds  750cc S13","Uds  750cc S14","Uds  750cc S15"]
[{"$nulls":5},"Supermercados ",{"$f":"+G5+G10+G13+G17","v":11},0,715,397,836,397,{"$f":"+M5+M10+M13+M17","v":787},738,{"$f":"+O5+O10+O13+O17","v":980},{"v":1276,"d":"1,276"},{"$f":"+Q5+Q10+Q13+Q17","v":841},734,{"$f":"+S5+S10+S13+S17","v":678},402,{"$f":"+U5+U10+U13+U17","v":728},0]
[{"$nulls":5},"Mayoristas",{"$f":"+G6+G9+G12+G16+G7","v":48},{"v":4458,"d":"4,458"},{"v":11059,"d":"11,059"},{"v":14310,"d":"14,310"},{"v":24629,"d":"24,629"},{"v":24355,"d":"24,355"},{"$f":"+M6+M9+M12+M16+M7","v":{"v":23396,"d":"23,396"}},{"v":25555,"d":"25,555"},{"$f":"+O6+O9+O12+O16+O7","v":{"v":29845,"d":"29,845"}},{"v":34703,"d":"34,703"},{"$f":"+Q6+Q9+Q12+Q16+Q7","v":{"v":34614,"d":"34,614"}},{"v":33997,"d":"33,997"},{"$f":"+S6+S9+S12+S16+S7","v":{"v":21186,"d":"21,186"}},{"v":27207,"d":"27,207"},{"$f":"+U6+U9+U12+U16+U7","v":{"v":33061,"d":"33,061"}},0]
[{"$nulls":5},"Licoreras",{"$f":"+G8+G11+G15","v":9},766,{"v":1522,"d":"1,522"},{"v":2019,"d":"2,019"},{"v":2636,"d":"2,636"},{"v":3040,"d":"3,040"},{"$f":"+M8+M11+M15","v":{"v":3242,"d":"3,242"}},{"v":3343,"d":"3,343"},{"$f":"+O8+O11+O15","v":{"v":3450,"d":"3,450"}},{"v":4645,"d":"4,645"},{"$f":"+Q8+Q11+Q15","v":{"v":3345,"d":"3,345"}},{"v":3708,"d":"3,708"},{"$f":"+S8+S11+S15","v":{"v":4202,"d":"4,202"}},{"v":2924,"d":"2,924"},{"$f":"+U8+U11+U15","v":{"v":3632,"d":"3,632"}},0]
[{"$nulls":5},"TAT",{"$f":"+G14","v":66},36,122,315,439,509,{"$f":"+M14","v":337},445,{"$f":"+O14","v":594},{"v":1214,"d":"1,214"},{"$f":"+Q14","v":{"v":1279,"d":"1,279"}},{"v":1289,"d":"1,289"},{"$f":"+S14","v":{"v":1293,"d":"1,293"}},{"v":1862,"d":"1,862"},{"$f":"+U14","v":{"v":2216,"d":"2,216"}},0]
[{"$nulls":5},"Total",{"$f":"SUM(G21:G24)","v":134},{"v":5260,"d":"5,260"},{"v":13418,"d":"13,418"},{"v":17041,"d":"17,041"},{"v":28540,"d":"28,540"},{"v":28301,"d":"28,301"},{"v":27762,"d":"27,762"},{"v":30081,"d":"30,081"},{"$f":"SUM(O21:O24)","v":{"v":34869,"d":"34,869"}},{"v":41838,"d":"41,838"},{"$f":"SUM(Q21:Q24)","v":{"v":40079,"d":"40,079"}},{"v":39728,"d":"39,728"},{"$f":"SUM(S21:S24)","v":{"v":27359,"d":"27,359"}},{"v":32395,"d":"32,395"},{"$f":"SUM(U21:U24)","v":{"v":39637,"d":"39,637"}},0]

{"sheet":"Promociones","index":2,"n_rows":173,"n_cols":23,"rows_kept":173,"merged":[[1,1,1,12]]}
[{"$nulls":14},"Unidades","Unidades","Unidades","Unidades","Unidades","Unidades","Unidades","Unidades"]
[null,"Aliados Red de la Alegría",{"$nulls":11},"Participacion","Parques","Parques","Escalera","Pirinola","Pirinola","Shots","Shot","Vasos RMV 8 años"]
[null,"Activo","#","Ciudad","Canal ","Responsable","Cliente","Línea Domicilio","Promoción","Dirección","Nit","Uds Sem 1","Uds Sem 7","Partiipación ",1000,"Asignación ",{"$f":"+P3","v":"Asignación "},3000,"Asignación",10000,"Asignación","Asignación"]
[null,{"$f":"+Ruta!B4","v":"SI"},{"$f":"+Ruta!C4","v":1},{"$f":"+Ruta!D4","v":"La Unión "},{"$f":"+Ruta!E4","v":"Supermercado"},{"$f":"+Ruta!F4","v":"Jhenny Romero"},{"$f":"+Ruta!G4","v":"Supermercado MercaPlaza"},{"$f":"+Ruta!H4","v":2023491},{"$f":"+Ruta!I4","v":"Marques 3años Botella + Can Agte "},{"$f":"+Ruta!J4","v":"Calle 14 # 15 - 13"},{"$f":"+Ruta!K4","v":0},null,{"$f":"+Ruta!R4","v":6},{"v":1.994614540740002E-4,"d":"0.02%"},{"$f":"+O$3*N4","v":{"v":0.1994614540740002,"d":"0"}},3,3,{"$f":"+R$3*N4","v":{"v":0.5983843622220005,"d":"1"}},{"$f":"+P4*3","v":9},{"$f":"+T$3*N4","v":{"v":1.994614540740002,"d":"2"}},{"$f":"+Q4*10","v":30},{"$f":"+S4","v":9}]
[null,{"$f":"+Ruta!B5","v":"SI"},{"$f":"+Ruta!C5","v":2},{"$f":"+Ruta!D5","v":"Rozo"},{"$f":"+Ruta!E5","v":"Licorera"},{"$f":"+Ruta!F5","v":"Katherine Rengifo"},{"$f":"+Ruta!G5","v":"Estanco Blanco del Valle"},{"$f":"+Ruta!H5","v":3122475697},{"$f":"+Ruta!I5","v":"Marques 3años Botella + Can Agte "},{"$f":"+Ruta!J5","v":"Calle 10 # 9A- 29"},{"$f":"+Ruta!K5","v":0},{"$f":"4*12","v":48},{"$f":"+Ruta!R5","v":360},{"v":0.011967687244440013,"d":"1.20%"},{"$f":"+O$3*N5","v":{"v":11.967687244440013,"d":"12"}},10,10,{"$f":"+R$3*N5","v":{"v":35.90306173332004,"d":"36"}},{"$f":"+P5*3","v":30},{"$f":"+T$3*N5","v":{"v":119.67687244440013,"d":"120"}},{"$f":"+Q5*10","v":100},{"$f":"+S5","v":30}]
[null,{"$f":"+Ruta!B6","v":"SI"},{"$f":"+Ruta!C6","v":3},{"$f":"+Ruta!D6","v":"Guacarí"},{"$f":"+Ruta!E6","v":"Mayorista "},{"$f":"+Ruta!F6","v":"Katherine Rengifo"},{"$f":"+Ruta!G6","v":"Licores Los Paisas"},{"$f":"+Ruta!H6","v":3216537169},{"$f":"+Ruta!I6","v":"Marques 3años Botella + Can Agte "},{"$f":"+Ruta!J6","v":"Carrera 7 # 4 - 80"},{"$f":"+Ruta!K6","v":0},0,{"$f":"+Ruta!R6","v":600},{"v":0.01994614540740002,"d":"1.99%"},{"v":19.946145407400017,"d":"20"},10,10,{"v":59.83843622220005,"d":"60"},60,{"v":199.4614540740002,"d":"199"},180,60]
[null,{"$f":"+Ruta!B7","v":"NO"},{"$f":"+Ruta!C7","v":4},{"$f":"+Ruta!D7","v":"Valle "},{"$f":"+Ruta!E7","v":"Supermercado"},{"$f":"+Ruta!F7","v":"Miriam Mejia"},{"$f":"+Ruta!G7","v":"SurtiFamiliar"},{"$f":"+Ruta!H7","v":4873041},{"$f":"+Ruta!I7","v":"Marques 3años Botella + Can Agte  - Marques 3años Botella  + Can Marques 3años -Marques Bot 3años P2 x 3 - Marques Can P2 X3 -"},{"$f":"+Ruta!J7","v":0},{"$f":"+Ruta!K7","v":0},null,{"$f":"+Ruta!R7","v":0},{"v":0,"d":"0.00%"},0,null,0,0,0,0,{"$f":"+Q7*10","v":0},0]
[null,{"$f":"+Ruta!B8","v":"NO"},{"$f":"+Ruta!C8","v":5},{"$f":"+Ruta!D8","v":"Cali "},{"$f":"+Ruta!E8","v":"Supermercado"},{"$f":"+Ruta!F8","v":"Miriam Mejia"},{"$f":"+Ruta!G8","v":"Supermercados Galerías Plaza"},{"$f":"+Ruta!H8","v":3041365780},{"$f":"+Ruta!I8","v":0},{"$f":"+Ruta!J8","v":"Cl. 19 Oe. #4 A 11"},{"$f":"+Ruta!K8","v":0},null,{"$f":"+Ruta!R8","v":0},{"v":0,"d":"0.00%"},0,null,0,0,0,0,0,0]
[null,{"$f":"+Ruta!B9","v":"NO"},{"$f":"+Ruta!C9","v":6},{"$f":"+Ruta!D9","v":"Valle "},{"$f":"+Ruta!E9","v":"Supermercado"},{"$f":"+Ruta!F9","v":"Miriam Mejia"},{"$f":"+Ruta!G9","v":"Confandi"},{"$f":"+Ruta!H9","v":3176365583},{"$f":"+Ruta!I9","v":"Marques 3años Botella + Can Agte  - Marques 3años Botella  + Can Marques 3años -Marques Bot 3años P2 x 3 - Marques Can P2 X3 -"},{"$f":"+Ruta!J9","v":0},{"$f":"+Ruta!K9","v":0},null,{"$f":"+Ruta!R9","v":0},{"v":0,"d":"0.00%"},0,null,0,0,0,0,0,0]
[null,{"$f":"+Ruta!B10","v":"SI"},{"$f":"+Ruta!C10","v":7},{"$f":"+Ruta!D10","v":"Cali"},{"$f":"+Ruta!E10","v":"Mayorista "},{"$f":"+Ruta!F10","v":"Edwin Polanco"},{"$f":"+Ruta!G10","v":"Los Paisas de la 44"},{"$f":"+Ruta!H10","v":"4415918 - 3113078334"},{"$f":"+Ruta!I10","v":"Marques 3años Botella + Can Agte  - Marques 3años Botella  + Can Marques 3años"},{"$f":"+Ruta!J10","v":"calle 44 # 14-62"},{"$f":"+Ruta!K10","v":0},360,{"$f":"+Ruta!R10","v":720},{"v":0.023935374488880026,"d":"2.39%"},{"v":23.935374488880026,"d":"24"},20,20,{"v":71.80612346664007,"d":"72"},65,{"v":239.35374488880026,"d":"239"},200,65]
[null,{"$f":"+Ruta!B11","v":"SI"},{"$f":"+Ruta!C11","v":8},{"$f":"+Ruta!D11","v":"Cali"},{"$f":"+Ruta!E11","v":"Mayorista "},{"$f":"+Ruta!F11","v":"Edwin Polanco"},{"$f":"+Ruta!G11","v":"Brisas de Juanchito"},{"$f":"+Ruta!H11","v":"6560777 - 3153158897"},{"$f":"+Ruta!I11","v":"Marques 3años Botella + Can Agte  - Marques 3años Botella  + Can Marques 3años -Marques Bot 3años P2 x 3 - Marques Can P2 X3"},{"$f":"+Ruta!J11","v":"Carrera 8 #72-04"},{"$f":"+Ruta!K11","v":0},480,{"$f":"+Ruta!R11","v":1320},{"v":0.043881519896280044,"d":"4.39%"},{"v":43.88151989628005,"d":"44"},35,35,{"v":131.64455968884013,"d":"132"},100,{"v":438.8151989628004,"d":"439"},330,100]
[null,{"$f":"+Ruta!B12","v":"SI"},{"$f":"+Ruta!C12","v":9},{"$f":"+Ruta!D12","v":"Cali"},{"$f":"+Ruta!E12","v":"Mayorista "},{"$f":"+Ruta!F12","v":"Edwin Polanco"},{"$f":"+Ruta!G12","v":"La 66"},{"$f":"+Ruta!H12","v":"3314763 - 3176095207"},{"$f":"+Ruta!I12","v":"Marques 3años Botella + Can Agte  - Marques 3años Botella  + Can Marques 3años -Marques Bot 3años P2 x 3 - Marques Can P2 X3 - Marques 8años + Can 3 años - shot x Bot s,a - 2shock por Garrafa"},{"$f":"+Ruta!J12","v":"Carrera 66 #10-12"},{"$f":"+Ruta!K12","v":0},540,{"$f":"+Ruta!R12","v":1140},{"v":0.03789767627406004,"d":"3.79%"},{"v":37.89767627406004,"d":"38"},35,35,{"v":113.69302882218011,"d":"114"},100,{"v":378.97676274060035,"d":"379"},330,100]
[null,{"$f":"+Ruta!B13","v":"SI"},{"$f":"+Ruta!C13","v":10},{"$f":"+Ruta!D13","v":"Cali"},{"$f":"+Ruta!E13","v":"Mayorista "},{"$f":"+Ruta!F13","v":"Edwin Polanco"},{"$f":"+Ruta!G13","v":"Villa del Lago"},{"$f":"+Ruta!H13","v":6627676},{"$f":"+Ruta!I13","v":"Marques 3años Botella + Can Agte  - Marques 3años Botella  + Can Marques 3años"},{"$f":"+Ruta!J13","v":"Diagonal 70 # 25e-10"},{"$f":"+Ruta!K13","v":0},300,{"$f":"+Ruta!R13","v":840},{"v":0.02792460357036003,"d":"2.79%"},{"v":27.92460357036003,"d":"28"},20,20,{"v":83.77381071108009,"d":"84"},60,{"v":279.2460357036003,"d":"279"},200,60]
[null,{"$f":"+Ruta!B14","v":"SI"},{"$f":"+Ruta!C14","v":11},{"$f":"+Ruta!D14","v":"Cali"},{"$f":"+Ruta!E14","v":"Mayorista "},{"$f":"+Ruta!F14","v":"Edwin Polanco"},{"$f":"+Ruta!G14","v":"Los Panchos"},{"$f":"+Ruta!H14","v":6629305},{"$f":"+Ruta!I14","v":"Marques 3años Botella + Can Agte  - Marques 3años Botella  + Can Marques 3años"},{"$f":"+Ruta!J14","v":"calle 73 # 7tbII2-38"},{"$f":"+Ruta!K14","v":0},{"$f":"26*12","v":312},{"$f":"+Ruta!R14","v":1200},{"v":0.03989229081480004,"d":"3.99%"},{"v":39.892290814800035,"d":"40"},35,35,{"v":119.6768724444001,"d":"120"},95,{"v":398.9229081480004,"d":"399"},320,95]
[null,{"$f":"+Ruta!B15","v":"SI"},{"$f":"+Ruta!C15","v":12},{"$f":"+Ruta!D15","v":"Cali"},{"$f":"+Ruta!E15","v":"Mayorista "},{"$f":"+Ruta!F15","v":"Edwin Polanco"},{"$f":"+Ruta!G15","v":"La Mayorista"},{"$f":"+Ruta!H15","v":4416350},{"$f":"+Ruta!I15","v":"Marques 3años Botella + Can Agte  - Marques 3años Botella  + Can Marques 3años"},{"$f":"+Ruta!J15","v":"Carera 27 dg 28b -93"},{"$f":"+Ruta!K15","v":0},384,{"$f":"+Ruta!R15","v":600},{"v":0.01994614540740002,"d":"1.99%"},{"v":19.946145407400017,"d":"20"},16,16,{"v":59.83843622220005,"d":"60"},45,{"v":199.4614540740002,"d":"199"},160,45]
[null,{"$f":"+Ruta!B16","v":"SI"},{"$f":"+Ruta!C16","v":13},{"$f":"+Ruta!D16","v":"Cali"},{"$f":"+Ruta!E16","v":"Mayorista "},{"$f":"+Ruta!F16","v":"Edwin Polanco"},{"$f":"+Ruta!G16","v":"El Poblado"},{"$f":"+Ruta!H16","v":4263073},{"$f":"+Ruta!I16","v":"Marques 3años Botella + Can Agte  - Marques 3años Botella + Can Marques 3años - Marques Can P2 X3"},{"$f":"+Ruta!J16","v":"Calle 72u # 28-47"},{"$f":"+Ruta!K16","v":0},{"$f":"26*12","v":312},{"$f":"+Ruta!R16","v":1140},{"v":0.03789767627406004,"d":"3.79%"},{"v":37.89767627406004,"d":"38"},35,35,{"v":113.69302882218011,"d":"114"},90,{"v":378.97676274060035,"d":"379"},300,90]
[null,{"$f":"+Ruta!B17","v":"SI"},{"$f":"+Ruta!C17","v":14},{"$f":"+Ruta!D17","v":"Cali"},{"$f":"+Ruta!E17","v":"Mayorista "},{"$f":"+Ruta!F17","v":"Edwin Polanco"},{"$f":"+Ruta!G17","v":"Licores La Amistad"},{"$f":"+Ruta!H17","v":4471825},{"$f":"+Ruta!I17","v":"Marques 3años Botella + Can Agte  - Marques 3años Botella  + Can Marques 3años -Marques Bot 3años P2 x 3 - Marques Can P2 X3 - Marques 8años + Can 3 años - shot x Bot s,a - 2shot por Garrafa"},{"$f":"+Ruta!J17","v":"Calle 46c # 5-01"},{"$f":"+Ruta!K17","v":0},1200,{"$f":"+Ruta!R17","v":2280},{"v":0.07579535254812007,"d":"7.58%"},{"v":75.79535254812008,"d":"76"},64,64,{"v":227.38605764436022,"d":"227"},150,{"v":757.9535254812007,"d":"758"},565,150]
[null,{"$f":"+Ruta!B18","v":"SI"},{"$f":"+Ruta!C18","v":15},{"$f":"+Ruta!D18","v":"Cali"},{"$f":"+Ruta!E18","v":"Mayorista "},{"$f":"+Ruta!F18","v":"Edwin Polanco"},{"$f":"+Ruta!G18","v":"Los Gemelos "},{"$f":"+Ruta!H18","v":4489216},{"$f":"+Ruta!I18","v":"Marques 3años Botella + Can Agte  - Marques 3años Botella + Can Marques 3años - Marques Can P2 X3"},{"$f":"+Ruta!J18","v":"Calle 44 # 6n-57"},{"$f":"+Ruta!K18","v":0},720,{"$f":"+Ruta!R18","v":1260},{"v":0.041886905355540044,"d":"4.19%"},{"v":41.886905355540044,"d":"42"},40,40,{"v":125.66071606662013,"d":"126"},100,{"v":418.86905355540046,"d":"419"},350,100]
[null,{"$f":"+Ruta!B19","v":"SI"},{"$f":"+Ruta!C19","v":16},{"$f":"+Ruta!D19","v":"Cali "},{"$f":"+Ruta!E19","v":"Mayorista "},{"$f":"+Ruta!F19","v":"Edwin Polanco"},{"$f":"+Ruta!G19","v":"El amigo de la Noche"},{"$f":"+Ruta!H19","v":"App"},{"$f":"+Ruta!I19","v":"Marques 3años Botella + Can Agte  - Marques 3años Botella  + Can Marques 3años -Marques Bot 3años P2 x 3 - Marques Can P2 X3 - Marques 8años + Can 3 años - shot x Bot s,a - 2shock por Garrafa"},{"$f":"+Ruta!J19","v":"App"},{"$f":"+Ruta!K19","v":0},144,{"$f":"+Ruta!R19","v":480},{"v":0.015956916325920015,"d":"1.60%"},{"v":15.956916325920014,"d":"16"},20,20,{"v":47.870748977760044,"d":"48"},50,{"v":159.56916325920014,"d":"160"},160,50]
[null,{"$f":"+Ruta!B20","v":"SI"},{"$f":"+Ruta!C20","v":17},{"$f":"+Ruta!D20","v":"Cali "},{"$f":"+Ruta!E20","v":"Mayorista "},{"$f":"+Ruta!F20","v":"Edwin Polanco"},{"$f":"+Ruta!G20","v":"La Rebaja"},{"$f":"+Ruta!H20","v":"App"},{"$f":"+Ruta!I20","v":"Marques 3años Botella + Can Agte  - Marques 3años Botella + Can Marques 3años - Marques Can P2 X3 - shock x Bot s,a - 2shot por Garrafa"},{"$f":"+Ruta!J20","v":"Carrera 15 #33b-30"},{"$f":"+Ruta!K20","v":0},264,{"$f":"+Ruta!R20","v":1440},{"v":0.04787074897776005,"d":"4.79%"},{"v":47.87074897776005,"d":"48"},50,50,{"v":143.61224693328015,"d":"144"},120,{"v":478.70748977760053,"d":"479"},450,120]
[null,{"$f":"+Ruta!B21","v":"SI"},{"$f":"+Ruta!C21","v":18},{"$f":"+Ruta!D21","v":"Buenaventura"},{"$f":"+Ruta!E21","v":"Mayorista "},{"$f":"+Ruta!F21","v":"Edwin Polanco"},{"$f":"+Ruta!G21","v":"Casablanca"},{"$f":"+Ruta!H21","v":2433412},{"$f":"+Ruta!I21","v":"Marques 3años Botella + Can Agte  - Marques 3años Botella  + Can Marques 3años -Marques Bot 3años P2 x 3 - Marques Can P2 X3 - Marques 8años + Can 3 años"},{"$f":"+Ruta!J21","v":"calle 3 # 18-42"},{"$f":"+Ruta!K21","v":0},576,{"$f":"+Ruta!R21","v":2400},{"v":0.07978458162960007,"d":"7.98%"},{"v":79.78458162960007,"d":"80"},50,50,{"$f":"+R$3*N21","v":{"v":239.3537448888002,"d":"239"}},160,{"v":797.8458162960007,"d":"798"},550,160]
[null,{"$f":"+Ruta!B22","v":"SI"},{"$f":"+Ruta!C22","v":19},{"$f":"+Ruta!D22","v":"Buenaventura"},{"$f":"+Ruta!E22","v":"Mayorista "},{"$f":"+Ruta!F22","v":"Edwin Polanco"},{"$f":"+Ruta!G22","v":"La Rebajona"},{"$f":"+Ruta!H22","v":2416300},{"$f":"+Ruta!I22","v":"Marques 3años Botella + Can Agte  - Marques 3años Botella  + Can Marques 3años"},{"$f":"+Ruta!J22","v":"carrera 6 # 4a-54"},{"$f":"+Ruta!K22","v":0},144,{"$f":"+Ruta!R22","v":168},{"v":0.005584920714072006,"d":"0.56%"},{"v":5.584920714072005,"d":"6"},15,15,{"v":16.754762142216016,"d":"17"},15,{"v":55.849207140720054,"d":"56"},50,15]
[null,{"$f":"+Ruta!B23","v":"SI"},{"$f":"+Ruta!C23","v":20},{"$f":"+Ruta!D23","v":"Tuluá"},{"$f":"+Ruta!E23","v":"Supermercado"},{"$f":"+Ruta!F23","v":"Lina Colonia"},{"$f":"+Ruta!G23","v":"Autoservicio Mi Barrio"},{"$f":"+Ruta!H23","v":"312 806 22 21"},{"$f":"+Ruta!I23","v":0},{"$f":"+Ruta!J23","v":"Carrera 24 # 36 - 04"},{"$f":"+Ruta!K23","v":0},12,{"$f":"+Ruta!R23","v":36},{"v":1.1967687244440013E-3,"d":"0.12%"},{"v":1.1967687244440013,"d":"1"},3,3,{"v":3.590306173332004,"d":"4"},9,{"v":11.967687244440013,"d":"12"},30,9]
[null,{"$f":"+Ruta!B24","v":"SI"},{"$f":"+Ruta!C24","v":21},{"$f":"+Ruta!D24","v":"Tuluá"},{"$f":"+Ruta!E24","v":"Mayorista "},{"$f":"+Ruta!F24","v":"Lina Colonia"},{"$f":"+Ruta!G24","v":"Bodega La Esperanza"},{"$f":"+Ruta!H24","v":"316 253 5816"},{"$f":"+Ruta!I24","v":"Marques 3años Botella + Can Agte   -Marques Bot 3años P2 x 3 "},{"$f":"+Ruta!J24","v":"Carrera 23 # 29-04"},{"$f":"+Ruta!K24","v":0},72,{"$f":"+Ruta!R24","v":230},{"v":0.007646022406170008,"d":"0.76%"},{"v":7.646022406170008,"d":"8"},{"v":8.939746111210441,"d":"9"},{"v":8.939746111210441,"d":"9"},{"v":22.938067218510025,"d":"23"},30,{"v":76.46022406170007,"d":"76"},76,30,{"$f":"+V24/24","v":1.25}]
[null,{"$f":"+Ruta!B25","v":"SI"},{"$f":"+Ruta!C25","v":22},{"$f":"+Ruta!D25","v":"Tuluá"},{"$f":"+Ruta!E25","v":"Mayorista "},{"$f":"+Ruta!F25","v":"Lina Colonia"},{"$f":"+Ruta!G25","v":"Distribuidora Farallón"},{"$f":"+Ruta!H25","v":"311 334 1151"},{"$f":"+Ruta!I25","v":"Marques 3años Botella + Can Agte "},{"$f":"+Ruta!J25","v":"Carrera 22 Calle 28"},{"$f":"+Ruta!K25","v":0},100,{"$f":"+Ruta!R25","v":3000},{"v":0.0997307270370001,"d":"9.97%"},{"v":99.73072703700011,"d":"100"},80,80,{"v":299.1921811110003,"d":"299"},210,{"v":997.307270370001,"d":"997"},700,210,{"$f":"+V25/24","v":8.75}]
[null,{"$f":"+Ruta!B26","v":"SI"},{"$f":"+Ruta!C26","v":23},{"$f":"+Ruta!D26","v":"Tuluá"},{"$f":"+Ruta!E26","v":"Licorera"},{"$f":"+Ruta!F26","v":"Lina Colonia"},{"$f":"+Ruta!G26","v":"Licores Junior La 28"},{"$f":"+Ruta!H26","v":2320073},{"$f":"+Ruta!I26","v":0},{"$f":"+Ruta!J26","v":"Calle 28 # 22-56"},{"$f":"+Ruta!K26","v":0},36,{"$f":"+Ruta!R26","v":240},{"v":0.007978458162960007,"d":"0.80%"},{"v":7.978458162960007,"d":"8"},{"v":8.939746111210441,"d":"9"},{"v":8.939746111210441,"d":"9"},{"v":23.935374488880022,"d":"24"},{"v":26.819238333631326,"d":"27"},{"v":79.78458162960007,"d":"80"},{"v":89.39746111210441,"d":"89"},{"v":26.819238333631326,"d":"27"}]
[null,{"$f":"+Ruta!B27","v":"SI"},{"$f":"+Ruta!C27","v":24},{"$f":"+Ruta!D27","v":"Tuluá"},{"$f":"+Ruta!E27","v":"Mayorista "},{"$f":"+Ruta!F27","v":"Lina Colonia"},{"$f":"+Ruta!G27","v":"Distribuidora La Madeja"},{"$f":"+Ruta!H27","v":"317 789 75 09"},{"$f":"+Ruta!I27","v":"Marques 3años Botella + Can Agte "},{"$f":"+Ruta!J27","v":"Calle 29 # 22-36"},{"$f":"+Ruta!K27","v":0},{"$f":"9*12","v":108},{"$f":"+Ruta!R27","v":165},{"v":5.4851899870350055E-3,"d":"0.55%"},{"v":5.485189987035006,"d":"5"},{"v":6.079027355623101,"d":"6"},{"v":6.079027355623101,"d":"6"},{"v":16.455569961105017,"d":"16"},{"v":18.237082066869302,"d":"18"},{"v":54.85189987035005,"d":"55"},{"v":60.79027355623101,"d":"61"},{"v":18.237082066869302,"d":"18"}]
[null,{"$f":"+Ruta!B28","v":"SI"},{"$f":"+Ruta!C28","v":25},{"$f":"+Ruta!D28","v":"Buga"},{"$f":"+Ruta!E28","v":"Mayorista "},{"$f":"+Ruta!F28","v":"Lina Colonia"},{"$f":"+Ruta!G28","v":"Distribuidora El Madejón"},{"$f":"+Ruta!H28","v":"310 413 95 50"},{"$f":"+Ruta!I28","v":"Marques 3años Botella + Can Agte  - Marques 3años Botella  + Can Marques 3años - Marques Can P2 X3"},{"$f":"+Ruta!J28","v":"Calle 9 # 12 - 10"},{"$f":"+Ruta!K28","v":0},{"$f":"15*12","v":180},{"$f":"+Ruta!R28","v":500},{"v":0.016621787839500017,"d":"1.66%"},{"v":16.621787839500016,"d":"17"},{"v":17.879492222420883,"d":"18"},{"v":17.879492222420883,"d":"18"},{"v":49.865363518500054,"d":"50"},50,{"v":166.21787839500018,"d":"166"},166,50,{"$f":"+V28/24","v":2.0833333333333335}]
[null,{"$f":"+Ruta!B29","v":"SI"},{"$f":"+Ruta!C29","v":26},{"$f":"+Ruta!D29","v":"Andalucía"},{"$f":"+Ruta!E29","v":"Mayorista "},{"$f":"+Ruta!F29","v":"Lina Colonia"},{"$f":"+Ruta!G29","v":"Distribuidora Central de Andalucía"},{"$f":"+Ruta!H29","v":"314 761 70 13"},{"$f":"+Ruta!I29","v":"Marques 3años Botella + Can Agte  - Marques 3años Botella  + Can Marques 3años - Marques Can P2 X3"},{"$f":"+Ruta!J29","v":"Carrera 5 # 12 - 67"},{"$f":"+Ruta!K29","v":0},{"$f":"3*12","v":36},{"$f":"+Ruta!R29","v":750},{"v":0.024932681759250026,"d":"2.49%"},{"v":24.932681759250027,"d":"25"},20,20,{"v":74.79804527775008,"d":"75"},60,{"v":249.32681759250025,"d":"249"},200,60]
[null,{"$f":"+Ruta!B30","v":"SI"},{"$f":"+Ruta!C30","v":27},{"$f":"+Ruta!D30","v":"Tuluá"},{"$f":"+Ruta!E30","v":"Mayorista "},{"$f":"+Ruta!F30","v":"Lina Colonia"},{"$f":"+Ruta!G30","v":"Autoservicio El Campesino"},{"$f":"+Ruta!H30","v":"224 4272"},{"$f":"+Ruta!I30","v":"Marques 3años Botella + Can Agte "},{"$f":"+Ruta!J30","v":"Carrera 22 Calle 29"},{"$f":"+Ruta!K30","v":0},{"$f":"5*12","v":60},{"$f":"+Ruta!R30","v":230},{"v":0.007646022406170008,"d":"0.76%"},{"v":7.646022406170008,"d":"8"},{"v":8.939746111210441,"d":"9"},{"v":8.939746111210441,"d":"9"},{"v":22.938067218510025,"d":"23"},28,{"v":76.46022406170007,"d":"76"},{"v":89.39746111210441,"d":"89"},28]
[null,{"$f":"+Ruta!B31","v":"NO"},{"$f":"+Ruta!C31","v":28},{"$f":"+Ruta!D31","v":"Tuluá"},{"$f":"+Ruta!E31","v":"Licorera"},{"$f":"+Ruta!F31","v":"Lina Colonia"},{"$f":"+Ruta!G31","v":"Licorera del Parque"},{"$f":"+Ruta!H31","v":"317 550 3193"},{"$f":"+Ruta!I31","v":"Marques 3años Botella + Can Agte "},{"$f":"+Ruta!J31","v":"Calle 25 # 26-15"},{"$f":"+Ruta!K31","v":0},0,{"$f":"+Ruta!R31","v":0},{"v":0,"d":"0.00%"},0,null,0,0,0,0,0,0]
[null,{"$f":"+Ruta!B32","v":"SI"},{"$f":"+Ruta!C32","v":29},{"$f":"+Ruta!D32","v":"Trujillo"},{"$f":"+Ruta!E32","v":"Licorera"},{"$f":"+Ruta!F32","v":"Lina Colonia"},{"$f":"+Ruta!G32","v":"Licorera El Alambique"},{"$f":"+Ruta!H32","v":"312 736 9212"},{"$f":"+Ruta!I32","v":"Marques 3años Botella + Can Agte "},{"$f":"+Ruta!J32","v":"Carrera 19 # 19-22"},{"$f":"+Ruta!K32","v":0},{"$f":"5*12","v":60},{"$f":"+Ruta!R32","v":155},{"v":0.005152754230245005,"d":"0.52%"},{"v":5.152754230245005,"d":"5"},{"v":5.721437511174683,"d":"6"},{"v":5.721437511174683,"d":"6"},{"$f":"+R$3*N32","v":{"v":15.458262690735015,"d":"15"}},18,{"v":51.52754230245005,"d":"52"},50,18]
[null,{"$f":"+Ruta!B33","v":"SI"},{"$f":"+Ruta!C33","v":30},{"$f":"+Ruta!D33","v":"San Pedro"},{"$f":"+Ruta!E33","v":"Mayorista "},{"$f":"+Ruta!F33","v":"Lina Colonia"},{"$f":"+Ruta!G33","v":"Distribuidora San Pedro"},{"$f":"+Ruta!H33","v":"311 393 5295"},{"$f":"+Ruta!I33","v":"Marques 3años Botella + Can Agte "},{"$f":"+Ruta!J33","v":"Calle 5 Parque Principal"},{"$f":"+Ruta!K33","v":0},{"$f":"2*12","v":24},{"$f":"+Ruta!R33","v":175},{"v":0.005817625743825006,"d":"0.58%"},{"v":5.817625743825006,"d":"6"},{"v":6.436617200071518,"d":"6"},{"v":6.436617200071518,"d":"6"},{"v":17.452877231475018,"d":"17"},{"v":19.309851600214554,"d":"19"},{"v":58.176257438250055,"d":"58"},55,{"v":19.309851600214554,"d":"19"}]
[null,{"$f":"+Ruta!B34","v":"SI"},{"$f":"+Ruta!C34","v":31},{"$f":"+Ruta!D34","v":"Tuluá"},{"$f":"+Ruta!E34","v":"Supermercado"},{"$f":"+Ruta!F34","v":"Lina Colonia"},{"$f":"+Ruta!G34","v":"Mauro Market"},{"$f":"+Ruta!H34","v":"323 423 8848"},{"$f":"+Ruta!I34","v":"Botella $36.000, Marques 3años Botella + Can Agte "},{"$f":"+Ruta!J34","v":"Calle 34 Carrera 34"},{"$f":"+Ruta!K34","v":0},6,{"$f":"+Ruta!R34","v":12},{"v":3.9892290814800039E-4,"d":"0.04%"},{"v":0.3989229081480004,"d":"0"},3,3,{"v":1.196768724444001,"d":"1"},9,{"v":3.989229081480004,"d":"4"},30,9]
[null,{"$f":"+Ruta!B35","v":"SI"},{"$f":"+Ruta!C35","v":32},{"$f":"+Ruta!D35","v":"Tuluá"},{"$f":"+Ruta!E35","v":"Licorera"},{"$f":"+Ruta!F35","v":"Lina Colonia"},{"$f":"+Ruta!G35","v":"Licores El Estanco"},{"$f":"+Ruta!H35","v":"305 372 46 39"},{"$f":"+Ruta!I35","v":0},{"$f":"+Ruta!J35","v":"Transv 12 # 24-46"},{"$f":"+Ruta!K35","v":0},{"$f":"4*12","v":48},{"$f":"+Ruta!R35","v":175},{"v":0.005817625743825006,"d":"0.58%"},{"v":5.817625743825006,"d":"6"},{"v":6.079027355623101,"d":"6"},{"v":6.079027355623101,"d":"6"},{"v":17.452877231475018,"d":"17"},{"v":18.237082066869302,"d":"18"},{"v":58.176257438250055,"d":"58"},{"v":60.79027355623101,"d":"61"},{"v":18.237082066869302,"d":"18"}]
[null,{"$f":"+Ruta!B36","v":"SI"},{"$f":"+Ruta!C36","v":33},{"$f":"+Ruta!D36","v":"Buga"},{"$f":"+Ruta!E36","v":"Licorera"},{"$f":"+Ruta!F36","v":"Lina Colonia"},{"$f":"+Ruta!G36","v":"Licores La 4ta Avenida"},{"$f":"+Ruta!H36","v":3167142019},{"$f":"+Ruta!I36","v":"Marques 3años Botella + Can Agte   -Marques Bot 3años P2 x 3  - Marques 8años + Can 3 años"},{"$f":"+Ruta!J36","v":"Calle 4 # 6 - 06"},{"$f":"+Ruta!K36","v":0},{"$f":"30*12","v":360},{"$f":"+Ruta!R36","v":1200},{"v":0.03989229081480004,"d":"3.99%"},{"v":39.892290814800035,"d":"40"},30,30,{"v":119.6768724444001,"d":"120"},100,{"v":398.9229081480004,"d":"399"},350,100,{"$f":"+V36/24","v":4.166666666666667}]
[null,{"$f":"+Ruta!B37","v":"SI"},{"$f":"+Ruta!C37","v":34},{"$f":"+Ruta!D37","v":"Cali"},{"$f":"+Ruta!E37","v":"TAT"},{"$f":"+Ruta!F37","v":"Ana Rosa Lopera"},{"$f":"+Ruta!G37","v":"Supermercado Tarzan"},{"$f":"+Ruta!H37","v":3143874179},{"$f":"+Ruta!I37","v":"Marques 3años Botella + Can Agte "},{"$f":"+Ruta!J37","v":"Carrera 82 #5-97"},{"$f":"+Ruta!K37","v":901235591},0,{"$f":"+Ruta!R37","v":18},{"v":5.9838436222200064E-4,"d":"0.06%"},{"v":0.5983843622220006,"d":"1"},3,3,{"v":1.795153086666002,"d":"2"},9,{"v":5.983843622220006,"d":"6"},30,9]
[null,{"$f":"+Ruta!B38","v":"NO"},{"$f":"+Ruta!C38","v":35},{"$f":"+Ruta!D38","v":"Cali"},{"$f":"+Ruta!E38","v":"TAT"},{"$f":"+Ruta!F38","v":"Ana Rosa Lopera"},{"$f":"+Ruta!G38","v":"Miscelanea Viejo Willi"},{"$f":"+Ruta!H38","v":3298558},{"$f":"+Ruta!I38","v":"Marques 3años Botella + Can Agte "},{"$f":"+Ruta!J38","v":"Sector alabama la buitrera"},{"$f":"+Ruta!K38","v":16587698},0,{"$f":"+Ruta!R38","v":0},{"v":0,"d":"0.00%"},0,0,0,0,0,0,0,0]
[null,{"$f":"+Ruta!B39","v":"SI"},{"$f":"+Ruta!C39","v":36},{"$f":"+Ruta!D39","v":"Cali"},{"$f":"+Ruta!E39","v":"TAT"},{"$f":"+Ruta!F39","v":"Ana Rosa Lopera"},{"$f":"+Ruta!G39","v":"Licores La Perla"},{"$f":"+Ruta!H39","v":5216031},{"$f":"+Ruta!I39","v":"Marques 3años Botella + Can Agte "},{"$f":"+Ruta!J39","v":"Polvorines vía ppal"},{"$f":"+Ruta!K39","v":1032363617},0,{"$f":"+Ruta!R39","v":30},{"v":0.000997307270370001,"d":"0.10%"},{"v":0.9973072703700009,"d":"1"},3,3,{"v":2.9919218111100028,"d":"3"},9,{"v":9.973072703700009,"d":"10"},30,9]
[null,{"$f":"+Ruta!B40","v":"NO"},{"$f":"+Ruta!C40","v":37},{"$f":"+Ruta!D40","v":"Cali"},{"$f":"+Ruta!E40","v":"TAT"},{"$f":"+Ruta!F40","v":"Ana Rosa Lopera"},{"$f":"+Ruta!G40","v":"Licores Martha"},{"$f":"+Ruta!H40","v":1130669277},{"$f":"+Ruta!I40","v":"Marques 3años Botella + Can Agte "},{"$f":"+Ruta!J40","v":"Carrera 39 #46-10"},{"$f":"+Ruta!K40","v":1130669277},0,{"$f":"+Ruta!R40","v":0},{"v":0,"d":"0.00%"},0,null,0,0,0,0,0,0]
[null,{"$f":"+Ruta!B41","v":"SI"},{"$f":"+Ruta!C41","v":38},{"$f":"+Ruta!D41","v":"Cali"},{"$f":"+Ruta!E41","v":"TAT"},{"$f":"+Ruta!F41","v":"Ana Rosa Lopera"},{"$f":"+Ruta!G41","v":"Licores Helen"},{"$f":"+Ruta!H41","v":3022491892},{"$f":"+Ruta!I41","v":"Marques 3años Botella + Can Agte "},{"$f":"+Ruta!J41","v":" Carrera 25 #19-02"},{"$f":"+Ruta!K41","v":31971928},20,{"$f":"+Ruta!R41","v":38},{"v":1.2632558758020013E-3,"d":"0.13%"},{"v":1.2632558758020012,"d":"1"},3,3,{"v":3.789767627406004,"d":"4"},9,{"v":12.632558758020012,"d":"13"},30,9]
[null,{"$f":"+Ruta!B42","v":"SI"},{"$f":"+Ruta!C42","v":39},{"$f":"+Ruta!D42","v":"Cali"},{"$f":"+Ruta!E42","v":"TAT"},{"$f":"+Ruta!F42","v":"Ana Rosa Lopera"},{"$f":"+Ruta!G42","v":"Mini Market 7"},{"$f":"+Ruta!H42","v":3134661206},{"$f":"+Ruta!I42","v":"Marques 3años Botella + Can Agte "},{"$f":"+Ruta!J42","v":"Calle 7 #31-09"},{"$f":"+Ruta!K42","v":1088006300},0,{"$f":"+Ruta!R42","v":10},{"v":3.3243575679000031E-4,"d":"0.03%"},{"v":0.3324357567900003,"d":"0"},3,3,{"v":0.9973072703700009,"d":"1"},9,{"v":3.324357567900003,"d":"3"},30,9]
[null,{"$f":"+Ruta!B43","v":"SI"},{"$f":"+Ruta!C43","v":40},{"$f":"+Ruta!D43","v":"Cali"},{"$f":"+Ruta!E43","v":"TAT"},{"$f":"+Ruta!F43","v":"Ana Rosa Lopera"},{"$f":"+Ruta!G43","v":"Alvaro Prado"},{"$f":"+Ruta!H43","v":4207110},{"$f":"+Ruta!I43","v":"Marques 3años Botella + Can Agte "},{"$f":"+Ruta!J43","v":"Carrera 26 u #122=94"},{"$f":"+Ruta!K43","v":94300252},0,{"$f":"+Ruta!R43","v":26},{"v":8.6433296765400086E-4,"d":"0.09%"},{"v":0.8643329676540009,"d":"1"},3,3,{"v":2.5929989029620026,"d":"3"},9,{"v":8.64332967654001,"d":"9"},30,9]
[null,{"$f":"+Ruta!B44","v":"SI"},{"$f":"+Ruta!C44","v":41},{"$f":"+Ruta!D44","v":"Cali"},{"$f":"+Ruta!E44","v":"TAT"},{"$f":"+Ruta!F44","v":"Ana Rosa Lopera"},{"$f":"+Ruta!G44","v":"Carlos Lopez"},{"$f":"+Ruta!H44","v":4201897},{"$f":"+Ruta!I44","v":"Marques 3años Botella + Can Agte "},{"$f":"+Ruta!J44","v":" Carrera 25 c # 123-01"},{"$f":"+Ruta!K44","v":70829838},0,{"$f":"+Ruta!R44","v":26},{"v":8.6433296765400086E-4,"d":"0.09%"},{"v":0.8643329676540009,"d":"1"},3,3,{"v":2.5929989029620026,"d":"3"},9,{"v":8.64332967654001,"d":"9"},30,9]
[null,{"$f":"+Ruta!B45","v":"NO"},{"$f":"+Ruta!C45","v":42},{"$f":"+Ruta!D45","v":"Cali"},{"$f":"+Ruta!E45","v":"TAT"},{"$f":"+Ruta!F45","v":"Ana Rosa Lopera"},{"$f":"+Ruta!G45","v":"Licores El Calidoso"},{"$f":"+Ruta!H45","v":4056996},{"$f":"+Ruta!I45","v":"Marques 3años Botella + Can Agte "},{"$f":"+Ruta!J45","v":" Carrera 26L 123 06"},{"$f":"+Ruta!K45","v":16833231},0,{"$f":"+Ruta!R45","v":0},{"v":0,"d":"0.00%"},0,null,0,0,0,0,0,0]
[null,{"$f":"+Ruta!B46","v":"SI"},{"$f":"+Ruta!C46","v":43},{"$f":"+Ruta!D46","v":"Cali"},{"$f":"+Ruta!E46","v":"TAT"},{"$f":"+Ruta!F46","v":"Ana Rosa Lopera"},{"$f":"+Ruta!G46","v":"Granero y Estanco Martinez"},{"$f":"+Ruta!H46","v":4306553},{"$f":"+Ruta!I46","v":"Marques 3años Botella + Can Agte "},{"$f":"+Ruta!J46","v":"Carrera 4 A #60 - 82"},{"$f":"+Ruta!K46","v":42116594},10,{"$f":"+Ruta!R46","v":18},{"v":5.9838436222200064E-4,"d":"0.06%"},{"v":0.5983843622220006,"d":"1"},3,3,{"v":1.795153086666002,"d":"2"},9,{"v":5.983843622220006,"d":"6"},30,9]
[null,{"$f":"+Ruta!B47","v":"NO"},{"$f":"+Ruta!C47","v":44},{"$f":"+Ruta!D47","v":"Cali"},{"$f":"+Ruta!E47","v":"TAT"},{"$f":"+Ruta!F47","v":"Ana Rosa Lopera"},{"$f":"+Ruta!G47","v":"Grupo Empresarial JF"},{"$f":"+Ruta!H47","v":5529929},{"$f":"+Ruta!I47","v":"Marques 3años Botella + Can Agte "},{"$f":"+Ruta!J47","v":" Carrera 95 # 3-20"},{"$f":"+Ruta!K47","v":901133087},0,{"$f":"+Ruta!R47","v":0},{"v":0,"d":"0.00%"},0,null,0,0,0,0,0,0]
[null,{"$f":"+Ruta!B48","v":"NO"},{"$f":"+Ruta!C48","v":45},{"$f":"+Ruta!D48","v":"Cali"},{"$f":"+Ruta!E48","v":"TAT"},{"$f":"+Ruta!F48","v":"Ana Rosa Lopera"},{"$f":"+Ruta!G48","v":"Giovanny Molina"},{"$f":"+Ruta!H48","v":4035308},{"$f":"+Ruta!I48","v":"Marques 3años Botella + Can Agte "},{"$f":"+Ruta!J48","v":"Carrera 94 A  # 2 A 102"},{"$f":"+Ruta!K48","v":4722270},0,{"$f":"+Ruta!R48","v":0},{"v":0,"d":"0.00%"},0,null,0,0,0,0,0,0]
[null,{"$f":"+Ruta!B49","v":"SI"},{"$f":"+Ruta!C49","v":46},{"$f":"+Ruta!D49","v":"Cali"},{"$f":"+Ruta!E49","v":"TAT"},{"$f":"+Ruta!F49","v":"Ana Rosa Lopera"},{"$f":"+Ruta!G49","v":"Supertienda Carvajal"},{"$f":"+Ruta!H49","v":3015493138},{"$f":"+Ruta!I49","v":"Marques 3años Botella + Can Agte "},{"$f":"+Ruta!J49","v":"Calle 13 # 34 - 33"},{"$f":"+Ruta!K49","v":1144040229},0,{"$f":"+Ruta!R49","v":8},{"v":2.6594860543200028E-4,"d":"0.03%"},{"v":0.2659486054320003,"d":"0"},3,3,{"v":0.7978458162960008,"d":"1"},9,{"v":2.659486054320003,"d":"3"},30,9]
[null,{"$f":"+Ruta!B50","v":"SI"},{"$f":"+Ruta!C50","v":47},{"$f":"+Ruta!D50","v":"Cali"},{"$f":"+Ruta!E50","v":"TAT"},{"$f":"+Ruta!F50","v":"Ana Rosa Lopera"},{"$f":"+Ruta!G50","v":"Licores La Sucursal"},{"$f":"+Ruta!H50","v":4482670},{"$f":"+Ruta!I50","v":"Marques 3años Botella + Can Agte "},{"$f":"+Ruta!J50","v":"Calle 44 #5-26"},{"$f":"+Ruta!K50","v":1107103712},0,{"$f":"+Ruta!R50","v":25},{"v":8.3108939197500088E-4,"d":"0.08%"},{"v":0.8310893919750009,"d":"1"},3,3,{"v":2.4932681759250026,"d":"2"},9,{"v":8.31089391975001,"d":"8"},30,9]
[null,{"$f":"+Ruta!B51","v":"NO"},{"$f":"+Ruta!C51","v":48},{"$f":"+Ruta!D51","v":"Cali"},{"$f":"+Ruta!E51","v":"TAT"},{"$f":"+Ruta!F51","v":"Ana Rosa Lopera"},{"$f":"+Ruta!G51","v":"Richard Cundar Benavides"},{"$f":"+Ruta!H51","v":3153399094},{"$f":"+Ruta!I51","v":0},{"$f":"+Ruta!J51","v":"Cll54#47-05"},{"$f":"+Ruta!K51","v":1082657940},0,{"$f":"+Ruta!R51","v":0},{"v":0,"d":"0.00%"},0,null,0,0,0,0,0,0]
[null,{"$f":"+Ruta!B52","v":"SI"},{"$f":"+Ruta!C52","v":49},{"$f":"+Ruta!D52","v":"Cali"},{"$f":"+Ruta!E52","v":"TAT"},{"$f":"+Ruta!F52","v":"Ana Rosa Lopera"},{"$f":"+Ruta!G52","v":"Mercaplaza Mariano"},{"$f":"+Ruta!H52","v":374330575},{"$f":"+Ruta!I52","v":"Marques 3años Botella + Can Agte "},{"$f":"+Ruta!J52","v":"CLL 46 # 49-03"},{"$f":"+Ruta!K52","v":1143836583},0,{"$f":"+Ruta!R52","v":14},{"v":4.6541005950600047E-4,"d":"0.05%"},{"v":0.46541005950600045,"d":"0"},3,3,{"v":1.3962301785180014,"d":"1"},9,{"v":4.6541005950600045,"d":"5"},30,9]
[null,{"$f":"+Ruta!B53","v":"NO"},{"$f":"+Ruta!C53","v":50},{"$f":"+Ruta!D53","v":"Cali"},{"$f":"+Ruta!E53","v":"TAT"},{"$f":"+Ruta!F53","v":"Ana Rosa Lopera"},{"$f":"+Ruta!G53","v":"Licores Yeya"},{"$f":"+Ruta!H53","v":3178465387},{"$f":"+Ruta!I53","v":"Marques 3años Botella + Can Agte "},{"$f":"+Ruta!J53","v":"CR 49A # 43-85"},{"$f":"+Ruta!K53","v":51693168},0,{"$f":"+Ruta!R53","v":0},{"v":0,"d":"0.00%"},0,null,0,0,0,0,0,0]
[null,{"$f":"+Ruta!B54","v":"NO"},{"$f":"+Ruta!C54","v":51},{"$f":"+Ruta!D54","v":"Cali"},{"$f":"+Ruta!E54","v":"TAT"},{"$f":"+Ruta!F54","v":"Ana Rosa Lopera"},{"$f":"+Ruta!G54","v":"supermercado Marce"},{"$f":"+Ruta!H54","v":3113684406},{"$f":"+Ruta!I54","v":"Marques 3años Botella + Can Agte "},{"$f":"+Ruta!J54","v":"CLL 83C # 20-74"},{"$f":"+Ruta!K54","v":44007376},0,{"$f":"+Ruta!R54","v":0},{"v":0,"d":"0.00%"},0,null,0,0,0,0,0,0]
[null,{"$f":"+Ruta!B55","v":"NO"},{"$f":"+Ruta!C55","v":52},{"$f":"+Ruta!D55","v":"Cali"},{"$f":"+Ruta!E55","v":"TAT"},{"$f":"+Ruta!F55","v":"Ana Rosa Lopera"},{"$f":"+Ruta!G55","v":"Granero Rey"},{"$f":"+Ruta!H55","v":3750248},{"$f":"+Ruta!I55","v":"Marques 3años Botella + Can Agte "},{"$f":"+Ruta!J55","v":"CLL 81A # 22-134"},{"$f":"+Ruta!K55","v":94399540},0,{"$f":"+Ruta!R55","v":0},{"v":0,"d":"0.00%"},0,null,0,0,0,0,0,0]
[null,{"$f":"+Ruta!B56","v":"SI"},{"$f":"+Ruta!C56","v":53},{"$f":"+Ruta!D56","v":"Cali"},{"$f":"+Ruta!E56","v":"TAT"},{"$f":"+Ruta!F56","v":"Ana Rosa Lopera"},{"$f":"+Ruta!G56","v":"supermercado Nuevo Progreso"},{"$f":"+Ruta!H56","v":3760861},{"$f":"+Ruta!I56","v":"Marques 3años Botella + Can Agte "},{"$f":"+Ruta!J56","v":"CR 34 # 26A-03"},{"$f":"+Ruta!K56","v":15905205},0,{"$f":"+Ruta!R56","v":14},{"v":4.6541005950600047E-4,"d":"0.05%"},{"v":0.46541005950600045,"d":"0"},3,3,{"v":1.3962301785180014,"d":"1"},9,{"v":4.6541005950600045,"d":"5"},30,9]
[null,{"$f":"+Ruta!B57","v":"SI"},{"$f":"+Ruta!C57","v":54},{"$f":"+Ruta!D57","v":"Cali"},{"$f":"+Ruta!E57","v":"TAT"},{"$f":"+Ruta!F57","v":"Ana Rosa Lopera"},{"$f":"+Ruta!G57","v":"Rapitienda Caldas"},{"$f":"+Ruta!H57","v":3137974910},{"$f":"+Ruta!I57","v":"Marques 3años Botella + Can Agte "},{"$f":"+Ruta!J57","v":"CLL 26A # 38-09"},{"$f":"+Ruta!K57","v":79887872},0,{"$f":"+Ruta!R57","v":14},{"v":4.6541005950600047E-4,"d":"0.05%"},{"v":0.46541005950600045,"d":"0"},3,3,{"v":1.3962301785180014,"d":"1"},9,{"v":4.6541005950600045,"d":"5"},30,9]
[null,{"$f":"+Ruta!B58","v":"NO"},{"$f":"+Ruta!C58","v":55},{"$f":"+Ruta!D58","v":"Cali"},{"$f":"+Ruta!E58","v":"TAT"},{"$f":"+Ruta!F58","v":"Ana Rosa Lopera"},{"$f":"+Ruta!G58","v":"Supermercado El Oasis"},{"$f":"+Ruta!H58","v":4469845},{"$f":"+Ruta!I58","v":"Marques 3años Botella + Can Agte "},{"$f":"+Ruta!J58","v":"CR 7N # 67N-42"},{"$f":"+Ruta!K58","v":4485384},0,{"$f":"+Ruta!R58","v":0},{"v":0,"d":"0.00%"},0,null,0,0,0,0,0,0]
[null,{"$f":"+Ruta!B59","v":"SI"},{"$f":"+Ruta!C59","v":56},{"$f":"+Ruta!D59","v":"Cali"},{"$f":"+Ruta!E59","v":"TAT"},{"$f":"+Ruta!F59","v":"Ana Rosa Lopera"},{"$f":"+Ruta!G59","v":"Nicolas Elias"},{"$f":"+Ruta!H59","v":6662306},{"$f":"+Ruta!I59","v":"Marques 3años Botella + Can Agte "},{"$f":"+Ruta!J59","v":"AV 3 E # 47C-20"},{"$f":"+Ruta!K59","v":71371926},0,{"$f":"+Ruta!R59","v":7},{"v":2.3270502975300024E-4,"d":"0.02%"},{"v":0.23270502975300023,"d":"0"},3,3,{"v":0.6981150892590007,"d":"1"},9,{"v":2.3270502975300023,"d":"2"},30,9]
[null,{"$f":"+Ruta!B60","v":"SI"},{"$f":"+Ruta!C60","v":57},{"$f":"+Ruta!D60","v":"Cali"},{"$f":"+Ruta!E60","v":"TAT"},{"$f":"+Ruta!F60","v":"Ana Rosa Lopera"},{"$f":"+Ruta!G60","v":"Minarket 1000 y Mas"},{"$f":"+Ruta!H60","v":3178814634},{"$f":"+Ruta!I60","v":"Marques 3años Botella + Can Agte "},{"$f":"+Ruta!J60","v":"CLL 44N # 3-111"},{"$f":"+Ruta!K60","v":16943799},0,{"$f":"+Ruta!R60","v":14},{"v":4.6541005950600047E-4,"d":"0.05%"},{"v":0.46541005950600045,"d":"0"},3,3,{"v":1.3962301785180014,"d":"1"},9,{"v":4.6541005950600045,"d":"5"},30,9]
[null,{"$f":"+Ruta!B61","v":"SI"},{"$f":"+Ruta!C61","v":58},{"$f":"+Ruta!D61","v":"Cali"},{"$f":"+Ruta!E61","v":"TAT"},{"$f":"+Ruta!F61","v":"Ana Rosa Lopera"},{"$f":"+Ruta!G61","v":"Brandon Carvajal"},{"$f":"+Ruta!H61","v":3136372746},{"$f":"+Ruta!I61","v":"Marques 3años Botella + Can Agte "},{"$f":"+Ruta!J61","v":"CLL 27 # 41C-37"},{"$f":"+Ruta!K61","v":1107074996},0,{"$f":"+Ruta!R61","v":0},{"v":0,"d":"0.00%"},0,null,0,0,0,0,0,0]
[null,{"$f":"+Ruta!B62","v":"SI"},{"$f":"+Ruta!C62","v":59},{"$f":"+Ruta!D62","v":"Cali"},{"$f":"+Ruta!E62","v":"TAT"},{"$f":"+Ruta!F62","v":"Ana Rosa Lopera"},{"$f":"+Ruta!G62","v":"Carolina Espinosa"},{"$f":"+Ruta!H62","v":3132614285},{"$f":"+Ruta!I62","v":"Marques 3años Botella + Can Agte "},{"$f":"+Ruta!J62","v":"CR 67 # 1A 0STE 07"},{"$f":"+Ruta!K62","v":38644553},0,{"$f":"+Ruta!R62","v":0},{"v":0,"d":"0.00%"},0,null,0,0,0,0,0,0]
[null,{"$f":"+Ruta!B63","v":"SI"},{"$f":"+Ruta!C63","v":60},{"$f":"+Ruta!D63","v":"Cali"},{"$f":"+Ruta!E63","v":"TAT"},{"$f":"+Ruta!F63","v":"Ana Rosa Lopera"},{"$f":"+Ruta!G63","v":"Licores Los Cerros"},{"$f":"+Ruta!H63","v":3204796646},{"$f":"+Ruta!I63","v":"Marques 3años Botella + Can Agte "},{"$f":"+Ruta!J63","v":"CLL1 #69-44"},{"$f":"+Ruta!K63","v":94543390},0,{"$f":"+Ruta!R63","v":21},{"v":6.9811508925900071E-4,"d":"0.07%"},{"v":0.6981150892590007,"d":"1"},null,0,{"v":2.094345267777002,"d":"2"},9,{"v":6.981150892590007,"d":"7"},30,9]
[null,{"$f":"+Ruta!B64","v":"SI"},{"$f":"+Ruta!C64","v":61},{"$f":"+Ruta!D64","v":"Cali"},{"$f":"+Ruta!E64","v":"TAT"},{"$f":"+Ruta!F64","v":"Ana Rosa Lopera"},{"$f":"+Ruta!G64","v":"La Rebajona"},{"$f":"+Ruta!H64","v":3734192},{"$f":"+Ruta!I64","v":"Marques 3años Botella + Can Agte "},{"$f":"+Ruta!J64","v":"CL 14A 53 03"},{"$f":"+Ruta!K64","v":9855053},0,{"$f":"+Ruta!R64","v":7},{"v":2.3270502975300024E-4,"d":"0.02%"},{"v":0.23270502975300023,"d":"0"},3,3,{"v":0.6981150892590007,"d":"1"},9,{"v":2.3270502975300023,"d":"2"},30,9]
[null,{"$f":"+Ruta!B65","v":"NO"},{"$f":"+Ruta!C65","v":62},{"$f":"+Ruta!D65","v":"Cali"},{"$f":"+Ruta!E65","v":"TAT"},{"$f":"+Ruta!F65","v":"Ana Rosa Lopera"},{"$f":"+Ruta!G65","v":"Willian Urrea"},{"$f":"+Ruta!H65","v":3776919},{"$f":"+Ruta!I65","v":"Marques 3años Botella + Can Agte "},{"$f":"+Ruta!J65","v":"Kra 44 # 18 32"},{"$f":"+Ruta!K65","v":10115498},0,{"$f":"+Ruta!R65","v":0},{"v":0,"d":"0.00%"},0,null,0,0,0,0,0,0]
[null,{"$f":"+Ruta!B66","v":"SI"},{"$f":"+Ruta!C66","v":63},{"$f":"+Ruta!D66","v":"Cali"},{"$f":"+Ruta!E66","v":"TAT"},{"$f":"+Ruta!F66","v":"Ana Rosa Lopera"},{"$f":"+Ruta!G66","v":"Licores El Baratisimo"},{"$f":"+Ruta!H66","v":4339595},{"$f":"+Ruta!I66","v":"Marques 3años Botella + Can Agte "},{"$f":"+Ruta!J66","v":"Kra 1 kn # 80 74"},{"$f":"+Ruta!K66","v":1118296911},2,{"$f":"+Ruta!R66","v":14},{"v":4.6541005950600047E-4,"d":"0.05%"},{"v":0.46541005950600045,"d":"0"},3,3,{"v":1.3962301785180014,"d":"1"},9,{"v":4.6541005950600045,"d":"5"},30,9]
[null,{"$f":"+Ruta!B67","v":"NO"},{"$f":"+Ruta!C67","v":64},{"$f":"+Ruta!D67","v":"Cali"},{"$f":"+Ruta!E67","v":"TAT"},{"$f":"+Ruta!F67","v":"Ana Rosa Lopera"},{"$f":"+Ruta!G67","v":"Licores El Progreso"},{"$f":"+Ruta!H67","v":3185227444},{"$f":"+Ruta!I67","v":"Marques 3años Botella + Can Agte "},{"$f":"+Ruta!J67","v":"Kra 1D  # 74  25"},{"$f":"+Ruta!K67","v":0},0,{"$f":"+Ruta!R67","v":0},{"v":0,"d":"0.00%"},0,null,0,0,0,0,0,0]
[null,{"$f":"+Ruta!B68","v":"SI"},{"$f":"+Ruta!C68","v":65},{"$f":"+Ruta!D68","v":"Cali"},{"$f":"+Ruta!E68","v":"TAT"},{"$f":"+Ruta!F68","v":"Ana Rosa Lopera"},{"$f":"+Ruta!G68","v":"Marco Tulio Giraldo"},{"$f":"+Ruta!H68","v":4333355},{"$f":"+Ruta!I68","v":"Marques 3años Botella + Can Agte "},{"$f":"+Ruta!J68","v":"Cl 76A # 1D 03"},{"$f":"+Ruta!K68","v":70830067},0,{"$f":"+Ruta!R68","v":7},{"v":2.3270502975300024E-4,"d":"0.02%"},{"v":0.23270502975300023,"d":"0"},3,3,{"v":0.6981150892590007,"d":"1"},9,{"v":2.3270502975300023,"d":"2"},30,9]
[null,{"$f":"+Ruta!B69","v":"SI"},{"$f":"+Ruta!C69","v":66},{"$f":"+Ruta!D69","v":"Cali"},{"$f":"+Ruta!E69","v":"TAT"},{"$f":"+Ruta!F69","v":"Ana Rosa Lopera"},{"$f":"+Ruta!G69","v":"Licores Sanchez"},{"$f":"+Ruta!H69","v":3184662902},{"$f":"+Ruta!I69","v":"Marques 3años Botella + Can Agte "},{"$f":"+Ruta!J69","v":"Kra 27 # 33 E 39"},{"$f":"+Ruta!K69","v":66818508},0,{"$f":"+Ruta!R69","v":0},{"v":0,"d":"0.00%"},{"$f":"+O$3*N69","v":0},3,3,{"$f":"+R$3*N69","v":0},{"$f":"+P69*3","v":9},{"$f":"+T$3*N69","v":0},{"$f":"+Q69*10","v":30},{"$f":"+S69","v":9}]
[null,{"$f":"+Ruta!B70","v":"SI"},{"$f":"+Ruta!C70","v":67},{"$f":"+Ruta!D70","v":"Cali"},{"$f":"+Ruta!E70","v":"TAT"},{"$f":"+Ruta!F70","v":"Ana Rosa Lopera"},{"$f":"+Ruta!G70","v":"Granero El Buen Precio"},{"$f":"+Ruta!H70","v":4412666},{"$f":"+Ruta!I70","v":"Marques 3años Botella + Can Agte "},{"$f":"+Ruta!J70","v":"CLL 34 # 25A-03"},{"$f":"+Ruta!K70","v":6162317},0,{"$f":"+Ruta!R70","v":5},{"v":1.6621787839500015E-4,"d":"0.02%"},{"v":0.16621787839500016,"d":"0"},3,3,{"v":0.49865363518500044,"d":"0"},9,{"v":1.6621787839500015,"d":"2"},30,9]
[null,{"$f":"+Ruta!B71","v":"NO"},{"$f":"+Ruta!C71","v":68},{"$f":"+Ruta!D71","v":"Cali"},{"$f":"+Ruta!E71","v":"TAT"},{"$f":"+Ruta!F71","v":"Ana Rosa Lopera"},{"$f":"+Ruta!G71","v":"Clara Esperanza Ardila"},{"$f":"+Ruta!H71","v":4441530},{"$f":"+Ruta!I71","v":"Marques 3años Botella + Can Agte "},{"$f":"+Ruta!J71","v":"Kra 24# 43 65"},{"$f":"+Ruta!K71","v":31272995},0,{"$f":"+Ruta!R71","v":0},{"v":0,"d":"0.00%"},0,null,0,0,0,0,0,0]
[null,{"$f":"+Ruta!B72","v":"NO"},{"$f":"+Ruta!C72","v":69},{"$f":"+Ruta!D72","v":"Cali"},{"$f":"+Ruta!E72","v":"TAT"},{"$f":"+Ruta!F72","v":"Ana Rosa Lopera"},{"$f":"+Ruta!G72","v":"Licores Las Morochas"},{"$f":"+Ruta!H72","v":4454407},{"$f":"+Ruta!I72","v":"Marques 3años Botella + Can Agte "},{"$f":"+Ruta!J72","v":"CL 50# 28 A 28"},{"$f":"+Ruta!K72","v":41474010},0,{"$f":"+Ruta!R72","v":0},{"v":0,"d":"0.00%"},0,null,0,0,0,0,0,0]
[null,{"$f":"+Ruta!B73","v":"SI"},{"$f":"+Ruta!C73","v":70},{"$f":"+Ruta!D73","v":"Cali"},{"$f":"+Ruta!E73","v":"TAT"},{"$f":"+Ruta!F73","v":"Ana Rosa Lopera"},{"$f":"+Ruta!G73","v":"Licores La Abundancia"},{"$f":"+Ruta!H73","v":3154673318},{"$f":"+Ruta!I73","v":"Marques 3años Botella + Can Agte "},{"$f":"+Ruta!J73","v":"CL 72B# 28D3- 123"},{"$f":"+Ruta!K73","v":31988790},0,{"$f":"+Ruta!R73","v":7},{"v":2.3270502975300024E-4,"d":"0.02%"},{"v":0.23270502975300023,"d":"0"},3,3,{"v":0.6981150892590007,"d":"1"},9,{"v":2.3270502975300023,"d":"2"},30,9]
[null,{"$f":"+Ruta!B74","v":"NO"},{"$f":"+Ruta!C74","v":71},{"$f":"+Ruta!D74","v":"Cali"},{"$f":"+Ruta!E74","v":"TAT"},{"$f":"+Ruta!F74","v":"Ana Rosa Lopera"},{"$f":"+Ruta!G74","v":"Campo Alegre"},{"$f":"+Ruta!H74","v":3174705696},{"$f":"+Ruta!I74","v":"Marques 3años Botella + Can Agte "},{"$f":"+Ruta!J74","v":"CL 12 OESTE #36-42"},{"$f":"+Ruta!K74","v":967023320},0,{"$f":"+Ruta!R74","v":0},{"v":0,"d":"0.00%"},0,null,0,0,0,0,0,0]
[null,{"$f":"+Ruta!B75","v":"SI"},{"$f":"+Ruta!C75","v":72},{"$f":"+Ruta!D75","v":"Cali"},{"$f":"+Ruta!E75","v":"TAT"},{"$f":"+Ruta!F75","v":"Ana Rosa Lopera"},{"$f":"+Ruta!G75","v":"Tienda Rojo y Verde"},{"$f":"+Ruta!H75","v":3113630033},{"$f":"+Ruta!I75","v":"Marques 3años Botella + Can Agte "},{"$f":"+Ruta!J75","v":"oeste santa teresita, Av. 2 Oe"},{"$f":"+Ruta!K75","v":16713789},0,{"$f":"+Ruta!R75","v":7},{"v":2.3270502975300024E-4,"d":"0.02%"},{"v":0.23270502975300023,"d":"0"},3,3,{"v":0.6981150892590007,"d":"1"},9,{"v":2.3270502975300023,"d":"2"},30,9]
[null,{"$f":"+Ruta!B76","v":"SI"},{"$f":"+Ruta!C76","v":73},{"$f":"+Ruta!D76","v":"Poblado Campestre"},{"$f":"+Ruta!E76","v":"TAT"},{"$f":"+Ruta!F76","v":"Ana Rosa Lopera"},{"$f":"+Ruta!G76","v":"Tienda y Licores Mas Barato"},{"$f":"+Ruta!H76","v":3006673631},{"$f":"+Ruta!I76","v":"Marques 3años Botella + Can Agte "},{"$f":"+Ruta!J76","v":"MANZANA 28 CASA 22-05"},{"$f":"+Ruta!K76","v":1130679015},0,{"$f":"+Ruta!R76","v":7},{"v":2.3270502975300024E-4,"d":"0.02%"},{"v":0.23270502975300023,"d":"0"},3,3,{"v":0.6981150892590007,"d":"1"},9,{"v":2.3270502975300023,"d":"2"},30,9]
[null,{"$f":"+Ruta!B77","v":"SI"},{"$f":"+Ruta!C77","v":74},{"$f":"+Ruta!D77","v":"Poblado Campestre"},{"$f":"+Ruta!E77","v":"TAT"},{"$f":"+Ruta!F77","v":"Ana Rosa Lopera"},{"$f":"+Ruta!G77","v":"Minimarket El Majo"},{"$f":"+Ruta!H77","v":3174559610},{"$f":"+Ruta!I77","v":"Marques 3años Botella + Can Agte "},{"$f":"+Ruta!J77","v":"Calle 22 con carrera 41 oeste, manzana 30 casa 24,"},{"$f":"+Ruta!K77","v":66993437},0,{"$f":"+Ruta!R77","v":3},{"v":9.97307270370001e-05,"d":"0.01%"},{"v":0.0997307270370001,"d":"0"},3,3,{"v":0.29919218111100027,"d":"0"},9,{"v":0.997307270370001,"d":"1"},30,9]
[null,{"$f":"+Ruta!B78","v":"SI"},{"$f":"+Ruta!C78","v":75},{"$f":"+Ruta!D78","v":"Poblado Campestre"},{"$f":"+Ruta!E78","v":"TAT"},{"$f":"+Ruta!F78","v":"Ana Rosa Lopera"},{"$f":"+Ruta!G78","v":"Rendimercado Las 2 Palmas"},{"$f":"+Ruta!H78","v":3122879341},{"$f":"+Ruta!I78","v":"Marques 3años Botella + Can Agte "},{"$f":"+Ruta!J78","v":"Carrera 4 #9-09 "},{"$f":"+Ruta!K78","v":10389034},0,{"$f":"+Ruta!R78","v":0},{"v":0,"d":"0.00%"},0,3,3,0,9,0,30,9]
[null,{"$f":"+Ruta!B79","v":"NO"},{"$f":"+Ruta!C79","v":76},{"$f":"+Ruta!D79","v":"Cali"},{"$f":"+Ruta!E79","v":"TAT"},{"$f":"+Ruta!F79","v":"Ana Rosa Lopera"},{"$f":"+Ruta!G79","v":"Rapitienda Leonardo"},{"$f":"+Ruta!H79","v":3122765236},{"$f":"+Ruta!I79","v":"Marques 3años Botella + Can Agte "},{"$f":"+Ruta!J79","v":"Cll 1oeste #52-380 "},{"$f":"+Ruta!K79","v":67013451},0,{"$f":"+Ruta!R79","v":0},{"v":0,"d":"0.00%"},0,null,0,0,0,0,0,0]
[null,{"$f":"+Ruta!B80","v":"NO"},{"$f":"+Ruta!C80","v":77},{"$f":"+Ruta!D80","v":"Cali"},{"$f":"+Ruta!E80","v":"TAT"},{"$f":"+Ruta!F80","v":"Ana Rosa Lopera"},{"$f":"+Ruta!G80","v":"Rancho y Llicores El Regalon"},{"$f":"+Ruta!H80","v":5528043},{"$f":"+Ruta!I80","v":"Marques 3años Botella + Can Agte "},{"$f":"+Ruta!J80","v":"Dg 51 #4oeste 47"},{"$f":"+Ruta!K80","v":94507583},0,{"$f":"+Ruta!R80","v":0},{"v":0,"d":"0.00%"},0,null,0,0,0,0,0,0]
[null,{"$f":"+Ruta!B81","v":"NO"},{"$f":"+Ruta!C81","v":78},{"$f":"+Ruta!D81","v":"Cali"},{"$f":"+Ruta!E81","v":"TAT"},{"$f":"+Ruta!F81","v":"Ana Rosa Lopera"},{"$f":"+Ruta!G81","v":"Rapitienda Rivera Express"},{"$f":"+Ruta!H81","v":3153169323},{"$f":"+Ruta!I81","v":"Marques 3años Botella + Can Agte "},{"$f":"+Ruta!J81","v":"Cra 54  cll1d esquina"},{"$f":"+Ruta!K81","v":66983025},0,{"$f":"+Ruta!R81","v":0},{"v":0,"d":"0.00%"},0,null,0,0,0,0,0,0]
[null,{"$f":"+Ruta!B82","v":"NO"},{"$f":"+Ruta!C82","v":79},{"$f":"+Ruta!D82","v":"Cali"},{"$f":"+Ruta!E82","v":"TAT"},{"$f":"+Ruta!F82","v":"Ana Rosa Lopera"},{"$f":"+Ruta!G82","v":"Mercatoño"},{"$f":"+Ruta!H82","v":5523530},{"$f":"+Ruta!I82","v":"Marques 3años Botella + Can Agte "},{"$f":"+Ruta!J82","v":"Dg 50 oeste 5 119"},{"$f":"+Ruta!K82","v":1130591583},0,{"$f":"+Ruta!R82","v":3},{"v":9.97307270370001e-05,"d":"0.01%"},{"v":0.0997307270370001,"d":"0"},null,0,{"v":0.29919218111100027,"d":"0"},9,{"v":0.997307270370001,"d":"1"},30,9]
[null,{"$f":"+Ruta!B83","v":"NO"},{"$f":"+Ruta!C83","v":80},{"$f":"+Ruta!D83","v":"Cali"},{"$f":"+Ruta!E83","v":"TAT"},{"$f":"+Ruta!F83","v":"Ana Rosa Lopera"},{"$f":"+Ruta!G83","v":"Rapitienda El Sol"},{"$f":"+Ruta!H83","v":5524171},{"$f":"+Ruta!I83","v":"Marques 3años Botella + Can Agte "},{"$f":"+Ruta!J83","v":"Cra 39 2 37"},{"$f":"+Ruta!K83","v":94517200},0,{"$f":"+Ruta!R83","v":0},{"v":0,"d":"0.00%"},0,null,0,0,0,0,0,0]
[null,{"$f":"+Ruta!B84","v":"NO"},{"$f":"+Ruta!C84","v":81},{"$f":"+Ruta!D84","v":"Cali"},{"$f":"+Ruta!E84","v":"TAT"},{"$f":"+Ruta!F84","v":"Ana Rosa Lopera"},{"$f":"+Ruta!G84","v":"Rapiexpress"},{"$f":"+Ruta!H84","v":5132654},{"$f":"+Ruta!I84","v":"Marques 3años Botella + Can Agte "},{"$f":"+Ruta!J84","v":"Cra 55 6a09"},{"$f":"+Ruta!K84","v":31220703},0,{"$f":"+Ruta!R84","v":0},{"v":0,"d":"0.00%"},0,null,0,0,0,0,0,0]
[null,{"$f":"+Ruta!B85","v":"SI"},{"$f":"+Ruta!C85","v":82},{"$f":"+Ruta!D85","v":"Cali"},{"$f":"+Ruta!E85","v":"TAT"},{"$f":"+Ruta!F85","v":"Ana Rosa Lopera"},{"$f":"+Ruta!G85","v":"Autoservicio y Panadería Caribe"},{"$f":"+Ruta!H85","v":5136160},{"$f":"+Ruta!I85","v":"Marques 3años Botella + Can Agte "},{"$f":"+Ruta!J85","v":"Cra 56 1.ª 16 oeste "},{"$f":"+Ruta!K85","v":6102380},0,{"$f":"+Ruta!R85","v":0},{"v":0,"d":"0.00%"},0,3,3,0,9,0,30,9]
[null,{"$f":"+Ruta!B86","v":"NO"},{"$f":"+Ruta!C86","v":83},{"$f":"+Ruta!D86","v":"Cali"},{"$f":"+Ruta!E86","v":"TAT"},{"$f":"+Ruta!F86","v":"Ana Rosa Lopera"},{"$f":"+Ruta!G86","v":"Autoservicio El Único"},{"$f":"+Ruta!H86","v":3157691554},{"$f":"+Ruta!I86","v":"Marques 3años Botella + Can Agte "},{"$f":"+Ruta!J86","v":"Mz D casa 24 sector  la sirena"},{"$f":"+Ruta!K86","v":1117016699},0,{"$f":"+Ruta!R86","v":0},{"v":0,"d":"0.00%"},0,null,0,0,0,0,0,0]
[null,{"$f":"+Ruta!B87","v":"NO"},{"$f":"+Ruta!C87","v":84},{"$f":"+Ruta!D87","v":"Cali"},{"$f":"+Ruta!E87","v":"TAT"},{"$f":"+Ruta!F87","v":"Ana Rosa Lopera"},{"$f":"+Ruta!G87","v":"Merca Bien"},{"$f":"+Ruta!H87","v":3122226944},{"$f":"+Ruta!I87","v":"Marques 3años Botella + Can Agte "},{"$f":"+Ruta!J87","v":"Mz D casa 24 sector  la sirena"},{"$f":"+Ruta!K87","v":1117016699},0,{"$f":"+Ruta!R87","v":0},{"v":0,"d":"0.00%"},0,null,0,0,0,0,0,0]
[null,{"$f":"+Ruta!B88","v":"SI"},{"$f":"+Ruta!C88","v":85},{"$f":"+Ruta!D88","v":"Cali"},{"$f":"+Ruta!E88","v":"TAT"},{"$f":"+Ruta!F88","v":"Ana Rosa Lopera"},{"$f":"+Ruta!G88","v":"Supermercado La Ganguita"},{"$f":"+Ruta!H88","v":4468365},{"$f":"+Ruta!I88","v":"Marques 3años Botella + Can Agte "},{"$f":"+Ruta!J88","v":"Cra 1c4  64A 14  bloque 15"},{"$f":"+Ruta!K88","v":12985122},0,{"$f":"+Ruta!R88","v":0},{"v":0,"d":"0.00%"},0,3,3,0,9,0,30,9]
[null,{"$f":"+Ruta!B89","v":"NO"},{"$f":"+Ruta!C89","v":86},{"$f":"+Ruta!D89","v":"Cali"},{"$f":"+Ruta!E89","v":"TAT"},{"$f":"+Ruta!F89","v":"Ana Rosa Lopera"},{"$f":"+Ruta!G89","v":"Supermercado Mega Líder"},{"$f":"+Ruta!H89","v":3726226},{"$f":"+Ruta!I89","v":"Marques 3años Botella + Can Agte "},{"$f":"+Ruta!J89","v":"Cll 66 1bis 70"},{"$f":"+Ruta!K89","v":6548730},0,{"$f":"+Ruta!R89","v":0},{"v":0,"d":"0.00%"},0,null,0,0,0,0,0,0]
[null,{"$f":"+Ruta!B90","v":"NO"},{"$f":"+Ruta!C90","v":87},{"$f":"+Ruta!D90","v":"Cali"},{"$f":"+Ruta!E90","v":"TAT"},{"$f":"+Ruta!F90","v":"Ana Rosa Lopera"},{"$f":"+Ruta!G90","v":"Megalider Veracruz"},{"$f":"+Ruta!H90","v":3217340706},{"$f":"+Ruta!I90","v":"Marques 3años Botella + Can Agte "},{"$f":"+Ruta!J90","v":"Cra 1b1 58.ª 09"},{"$f":"+Ruta!K90","v":1130656816},4,{"$f":"+Ruta!R90","v":0},{"v":0,"d":"0.00%"},0,null,0,0,0,0,0,0]
[null,{"$f":"+Ruta!B91","v":"NO"},{"$f":"+Ruta!C91","v":88},{"$f":"+Ruta!D91","v":"Cali"},{"$f":"+Ruta!E91","v":"TAT"},{"$f":"+Ruta!F91","v":"Ana Rosa Lopera"},{"$f":"+Ruta!G91","v":"Autoservicio El Vencedor"},{"$f":"+Ruta!H91","v":3780230},{"$f":"+Ruta!I91","v":"Marques 3años Botella + Can Agte "},{"$f":"+Ruta!J91","v":"CR 25b 25 05"},{"$f":"+Ruta!K91","v":31987561},0,{"$f":"+Ruta!R91","v":0},{"v":0,"d":"0.00%"},0,null,0,0,0,0,0,0]
[null,{"$f":"+Ruta!B92","v":"SI"},{"$f":"+Ruta!C92","v":89},{"$f":"+Ruta!D92","v":"Cali"},{"$f":"+Ruta!E92","v":"TAT"},{"$f":"+Ruta!F92","v":"Ana Rosa Lopera"},{"$f":"+Ruta!G92","v":"Rapitienda La Esperanza"},{"$f":"+Ruta!H92","v":3137849701},{"$f":"+Ruta!I92","v":"Marques 3años Botella + Can Agte "},{"$f":"+Ruta!J92","v":"Cll 27 29b 18"},{"$f":"+Ruta!K92","v":38671009},0,{"$f":"+Ruta!R92","v":0},{"v":0,"d":"0.00%"},0,3,3,0,9,0,30,9]
[null,{"$f":"+Ruta!B93","v":"NO"},{"$f":"+Ruta!C93","v":90},{"$f":"+Ruta!D93","v":"Cali"},{"$f":"+Ruta!E93","v":"TAT"},{"$f":"+Ruta!F93","v":"Ana Rosa Lopera"},{"$f":"+Ruta!G93","v":"Granero el Progreso"},{"$f":"+Ruta!H93","v":3348473},{"$f":"+Ruta!I93","v":"Marques 3años Botella + Can Agte "},{"$f":"+Ruta!J93","v":"CR 31.ª 34 02"},{"$f":"+Ruta!K93","v":15903476},0,{"$f":"+Ruta!R93","v":0},{"v":0,"d":"0.00%"},0,null,0,0,0,0,0,0]
[null,{"$f":"+Ruta!B94","v":"NO"},{"$f":"+Ruta!C94","v":91},{"$f":"+Ruta!D94","v":"Cali"},{"$f":"+Ruta!E94","v":"TAT"},{"$f":"+Ruta!F94","v":"Ana Rosa Lopera"},{"$f":"+Ruta!G94","v":"Estanco Medallo"},{"$f":"+Ruta!H94","v":3937543},{"$f":"+Ruta!I94","v":"Marques 3años Botella + Can Agte "},{"$f":"+Ruta!J94","v":"Cll 112 27g 24"},{"$f":"+Ruta!K94","v":16759330},0,{"$f":"+Ruta!R94","v":0},{"v":0,"d":"0.00%"},0,null,0,0,0,0,0,0]
[null,{"$f":"+Ruta!B95","v":"NO"},{"$f":"+Ruta!C95","v":92},{"$f":"+Ruta!D95","v":"Cali"},{"$f":"+Ruta!E95","v":"TAT"},{"$f":"+Ruta!F95","v":"Ana Rosa Lopera"},{"$f":"+Ruta!G95","v":"Autoservicio Monterrey"},{"$f":"+Ruta!H95","v":4205905},{"$f":"+Ruta!I95","v":"Marques 3años Botella + Can Agte "},{"$f":"+Ruta!J95","v":"CR 43.ª 56b07"},{"$f":"+Ruta!K95","v":94192456},0,{"$f":"+Ruta!R95","v":0},{"v":0,"d":"0.00%"},0,null,0,0,0,0,0,0]
[null,{"$f":"+Ruta!B96","v":"SI"},{"$f":"+Ruta!C96","v":93},{"$f":"+Ruta!D96","v":"Cali"},{"$f":"+Ruta!E96","v":"TAT"},{"$f":"+Ruta!F96","v":"Ana Rosa Lopera"},{"$f":"+Ruta!G96","v":"El Rebajon"},{"$f":"+Ruta!H96","v":5579626},{"$f":"+Ruta!I96","v":"Marques 3años Botella + Can Agte "},{"$f":"+Ruta!J96","v":"Cll 9e 22a12"},{"$f":"+Ruta!K96","v":9850773},0,{"$f":"+Ruta!R96","v":0},{"v":0,"d":"0.00%"},0,3,3,0,9,0,30,9]
[null,{"$f":"+Ruta!B97","v":"NO"},{"$f":"+Ruta!C97","v":94},{"$f":"+Ruta!D97","v":"Cali"},{"$f":"+Ruta!E97","v":"TAT"},{"$f":"+Ruta!F97","v":"Ana Rosa Lopera"},{"$f":"+Ruta!G97","v":"Minimarket La Fortuna"},{"$f":"+Ruta!H97","v":3207002704},{"$f":"+Ruta!I97","v":"Marques 3años Botella + Can Agte "},{"$f":"+Ruta!J97","v":"CL 10 # 18-61"},{"$f":"+Ruta!K97","v":16712936},0,{"$f":"+Ruta!R97","v":0},{"v":0,"d":"0.00%"},0,null,0,0,0,0,0,0]
[null,{"$f":"+Ruta!B98","v":"SI"},{"$f":"+Ruta!C98","v":95},{"$f":"+Ruta!D98","v":"Cali"},{"$f":"+Ruta!E98","v":"TAT"},{"$f":"+Ruta!F98","v":"Ana Rosa Lopera"},{"$f":"+Ruta!G98","v":"Minimarket Matecaña"},{"$f":"+Ruta!H98","v":5582197},{"$f":"+Ruta!I98","v":"Marques 3años Botella + Can Agte "},{"$f":"+Ruta!J98","v":"CR 23 12.ª 03"},{"$f":"+Ruta!K98","v":98391364},0,{"$f":"+Ruta!R98","v":0},{"v":0,"d":"0.00%"},0,null,0,0,0,0,0,0]
[null,{"$f":"+Ruta!B99","v":"NO"},{"$f":"+Ruta!C99","v":96},{"$f":"+Ruta!D99","v":"Tulua "},{"$f":"+Ruta!E99","v":"Supermercado"},{"$f":"+Ruta!F99","v":"Lina Colonia"},{"$f":"+Ruta!G99","v":"Tulua Centro Surtifamiliar "},{"$f":"+Ruta!H99","v":3108461826},{"$f":"+Ruta!I99","v":"Marques 3años Botella + Can Agte  - Marques 3años Botella  + Can Marques 3años -Marques Bot 3años P2 x 3 - Marques Can P2 X3 -"},{"$f":"+Ruta!J99","v":"CRA 21N° 25 – 76 "},{"$f":"+Ruta!K99","v":0},null,{"$f":"+Ruta!R99","v":0},{"v":0,"d":"0.00%"},0,null,0,0,0,0,0,0]
[null,{"$f":"+Ruta!B100","v":"NO"},{"$f":"+Ruta!C100","v":97},{"$f":"+Ruta!D100","v":"Tulua "},{"$f":"+Ruta!E100","v":"Supermercado"},{"$f":"+Ruta!F100","v":"Lina Colonia"},{"$f":"+Ruta!G100","v":"Tulua Porveir Surtifamiliar "},{"$f":"+Ruta!H100","v":3207178634},{"$f":"+Ruta!I100","v":"Marques 3años Botella + Can Agte  - Marques 3años Botella  + Can Marques 3años -Marques Bot 3años P2 x 3 - Marques Can P2 X3 -"},{"$f":"+Ruta!J100","v":"DIAG. 23N° 9 – 28 "},{"$f":"+Ruta!K100","v":0},null,{"$f":"+Ruta!R100","v":0},{"v":0,"d":"0.00%"},0,null,0,0,0,0,0,0]
[null,{"$f":"+Ruta!B101","v":"NO"},{"$f":"+Ruta!C101","v":98},{"$f":"+Ruta!D101","v":"Buga "},{"$f":"+Ruta!E101","v":"Supermercado"},{"$f":"+Ruta!F101","v":"Lina Colonia"},{"$f":"+Ruta!G101","v":"Buga Centro Surtifamiliar "},{"$f":"+Ruta!H101","v":3108461821},{"$f":"+Ruta!I101","v":"Marques 3años Botella + Can Agte  - Marques 3años Botella  + Can Marques 3años -Marques Bot 3años P2 x 3 - Marques Can P2 X3 -"},{"$f":"+Ruta!J101","v":"CRA 12N° 8 – 34 "},{"$f":"+Ruta!K101","v":0},null,{"$f":"+Ruta!R101","v":0},{"v":0,"d":"0.00%"},0,null,0,0,0,0,0,0]
[null,{"$f":"+Ruta!B102","v":"NO"},{"$f":"+Ruta!C102","v":99},{"$f":"+Ruta!D102","v":"Buga "},{"$f":"+Ruta!E102","v":"Supermercado"},{"$f":"+Ruta!F102","v":"Lina Colonia"},{"$f":"+Ruta!G102","v":"Buga Valle real Surtifamiliar "},{"$f":"+Ruta!H102","v":3108497538},{"$f":"+Ruta!I102","v":"Marques 3años Botella + Can Agte  - Marques 3años Botella  + Can Marques 3años -Marques Bot 3años P2 x 3 - Marques Can P2 X3 -"},{"$f":"+Ruta!J102","v":"CRA 30N° 12 – 64 "},{"$f":"+Ruta!K102","v":0},null,{"$f":"+Ruta!R102","v":0},{"v":0,"d":"0.00%"},0,null,0,0,0,0,0,0]
[null,{"$f":"+Ruta!B103","v":"NO"},{"$f":"+Ruta!C103","v":100},{"$f":"+Ruta!D103","v":"Guacarí"},{"$f":"+Ruta!E103","v":"Supermercado"},{"$f":"+Ruta!F103","v":"Lina Colonia"},{"$f":"+Ruta!G103","v":"Guacari Surtifamiliar "},{"$f":"+Ruta!H103","v":3202545256},{"$f":"+Ruta!I103","v":"Marques 3años Botella + Can Agte  - Marques 3años Botella  + Can Marques 3años -Marques Bot 3años P2 x 3 - Marques Can P2 X3 -"},{"$f":"+Ruta!J103","v":"CRA 7 N° 6 – 52"},{"$f":"+Ruta!K103","v":0},null,{"$f":"+Ruta!R103","v":0},{"v":0,"d":"0.00%"},0,null,0,0,0,0,0,0]
[null,{"$f":"+Ruta!B104","v":"NO"},{"$f":"+Ruta!C104","v":101},{"$f":"+Ruta!D104","v":"Cerrito"},{"$f":"+Ruta!E104","v":"Supermercado"},{"$f":"+Ruta!F104","v":"Katherine Rengifo"},{"$f":"+Ruta!G104","v":"SurtiFamiliar"},{"$f":"+Ruta!H104","v":3113580948},{"$f":"+Ruta!I104","v":"Marques 3años Botella + Can Agte  - Marques 3años Botella  + Can Marques 3años -Marques Bot 3años P2 x 3 - Marques Can P2 X3 -"},{"$f":"+Ruta!J104","v":"CALLE 8N° 13 – 52"},{"$f":"+Ruta!K104","v":0},null,{"$f":"+Ruta!R104","v":0},{"v":0,"d":"0.00%"},0,null,0,0,0,0,0,0]
[null,{"$f":"+Ruta!B105","v":"NO"},{"$f":"+Ruta!C105","v":102},{"$f":"+Ruta!D105","v":"Vijes "},{"$f":"+Ruta!E105","v":"Supermercado"},{"$f":"+Ruta!F105","v":"Miriam Mejia"},{"$f":"+Ruta!G105","v":"SurtiFamiliar"},{"$f":"+Ruta!H105","v":3207162674},{"$f":"+Ruta!I105","v":"Marques 3años Botella + Can Agte  - Marques 3años Botella  + Can Marques 3años -Marques Bot 3años P2 x 3 - Marques Can P2 X3 -"},{"$f":"+Ruta!J105","v":"CALLE 7 N°4 – 80 ESQUINA"},{"$f":"+Ruta!K105","v":0},null,{"$f":"+Ruta!R105","v":0},{"v":0,"d":"0.00%"},0,null,0,0,0,0,0,0]
[null,{"$f":"+Ruta!B106","v":"NO"},{"$f":"+Ruta!C106","v":103},{"$f":"+Ruta!D106","v":"Acopi "},{"$f":"+Ruta!E106","v":"Supermercado"},{"$f":"+Ruta!F106","v":"Miriam Mejia"},{"$f":"+Ruta!G106","v":"SurtiFamiliar"},{"$f":"+Ruta!H106","v":3136709023},{"$f":"+Ruta!I106","v":"Marques 3años Botella + Can Agte  - Marques 3años Botella  + Can Marques 3años -Marques Bot 3años P2 x 3 - Marques Can P2 X3 -"},{"$f":"+Ruta!J106","v":"CRA 40N° 12A – 237"},{"$f":"+Ruta!K106","v":0},null,{"$f":"+Ruta!R106","v":0},{"v":0,"d":"0.00%"},0,null,0,0,0,0,0,0]
[null,{"$f":"+Ruta!B107","v":"NO"},{"$f":"+Ruta!C107","v":104},{"$f":"+Ruta!D107","v":"Alcazres"},{"$f":"+Ruta!E107","v":"Supermercado"},{"$f":"+Ruta!F107","v":"Miriam Mejia"},{"$f":"+Ruta!G107","v":"SurtiFamiliar"},{"$f":"+Ruta!H107","v":3206931192},{"$f":"+Ruta!I107","v":"Marques 3años Botella + Can Agte  - Marques 3años Botella  + Can Marques 3años -Marques Bot 3años P2 x 3 - Marques Can P2 X3 -"},{"$f":"+Ruta!J107","v":"CRA 1A5N° 71 – 46"},{"$f":"+Ruta!K107","v":0},null,{"$f":"+Ruta!R107","v":0},{"v":0,"d":"0.00%"},0,null,0,0,0,0,0,0]
[null,{"$f":"+Ruta!B108","v":"NO"},{"$f":"+Ruta!C108","v":105},{"$f":"+Ruta!D108","v":"Alameda"},{"$f":"+Ruta!E108","v":"Supermercado"},{"$f":"+Ruta!F108","v":"Miriam Mejia"},{"$f":"+Ruta!G108","v":"SurtiFamiliar"},{"$f":"+Ruta!H108","v":3217007997},{"$f":"+Ruta!I108","v":"Marques 3años Botella + Can Agte  - Marques 3años Botella  + Can Marques 3años -Marques Bot 3años P2 x 3 - Marques Can P2 X3 -"},{"$f":"+Ruta!J108","v":"CL 9 B 23 C 65"},{"$f":"+Ruta!K108","v":0},null,{"$f":"+Ruta!R108","v":0},{"v":0,"d":"0.00%"},0,null,0,0,0,0,0,0]
[null,{"$f":"+Ruta!B109","v":"NO"},{"$f":"+Ruta!C109","v":106},{"$f":"+Ruta!D109","v":"Caney "},{"$f":"+Ruta!E109","v":"Supermercado"},{"$f":"+Ruta!F109","v":"Miriam Mejia"},{"$f":"+Ruta!G109","v":"SurtiFamiliar"},{"$f":"+Ruta!H109","v":3216249142},{"$f":"+Ruta!I109","v":"Marques 3años Botella + Can Agte  - Marques 3años Botella  + Can Marques 3años -Marques Bot 3años P2 x 3 - Marques Can P2 X3 -"},{"$f":"+Ruta!J109","v":"CALLE 48N° – 83E ESQUINA"},{"$f":"+Ruta!K109","v":0},null,{"$f":"+Ruta!R109","v":0},{"v":0,"d":"0.00%"},0,null,0,0,0,0,0,0]
[null,{"$f":"+Ruta!B110","v":"NO"},{"$f":"+Ruta!C110","v":107},{"$f":"+Ruta!D110","v":"Cali"},{"$f":"+Ruta!E110","v":"Supermercado"},{"$f":"+Ruta!F110","v":"Miriam Mejia"},{"$f":"+Ruta!G110","v":"comfandi Guadalupe "},{"$f":"+Ruta!H110","v":3176365583},{"$f":"+Ruta!I110","v":"Marques 3años Botella + Can Agte  - Marques 3años Botella  + Can Marques 3años -Marques Bot 3años P2 x 3 - Marques Can P2 X3 -"},{"$f":"+Ruta!J110","v":"Cl. 10 ##56,"},{"$f":"+Ruta!K110","v":0},null,{"$f":"+Ruta!R110","v":0},{"v":0,"d":"0.00%"},0,null,0,0,0,0,0,0]
[null,{"$f":"+Ruta!B111","v":"NO"},{"$f":"+Ruta!C111","v":108},{"$f":"+Ruta!D111","v":"Cali"},{"$f":"+Ruta!E111","v":"Supermercado"},{"$f":"+Ruta!F111","v":"Miriam Mejia"},{"$f":"+Ruta!G111","v":"comfandi torres "},{"$f":"+Ruta!H111","v":3184153685},{"$f":"+Ruta!I111","v":"Marques 3años Botella + Can Agte  - Marques 3años Botella  + Can Marques 3años -Marques Bot 3años P2 x 3 - Marques Can P2 X3 -"},{"$f":"+Ruta!J111","v":"Cra. 1 #56-20"},{"$f":"+Ruta!K111","v":0},null,{"$f":"+Ruta!R111","v":0},{"v":0,"d":"0.00%"},0,null,0,0,0,0,0,0]
[null,{"$f":"+Ruta!B112","v":"NO"},{"$f":"+Ruta!C112","v":109},{"$f":"+Ruta!D112","v":"Cali"},{"$f":"+Ruta!E112","v":"Supermercado"},{"$f":"+Ruta!F112","v":"Miriam Mejia"},{"$f":"+Ruta!G112","v":"comfandi san fernando "},{"$f":"+Ruta!H112","v":3174284930},{"$f":"+Ruta!I112","v":"Marques 3años Botella + Can Agte  - Marques 3años Botella  + Can Marques 3años -Marques Bot 3años P2 x 3 - Marques Can P2 X3 -"},{"$f":"+Ruta!J112","v":"Cra. 36 #68"},{"$f":"+Ruta!K112","v":0},null,{"$f":"+Ruta!R112","v":0},{"v":0,"d":"0.00%"},0,null,0,0,0,0,0,0]
[null,{"$f":"+Ruta!B113","v":"NO"},{"$f":"+Ruta!C113","v":110},{"$f":"+Ruta!D113","v":"Cali"},{"$f":"+Ruta!E113","v":"Supermercado"},{"$f":"+Ruta!F113","v":"Miriam Mejia"},{"$f":"+Ruta!G113","v":"super A "},{"$f":"+Ruta!H113","v":3172930374},{"$f":"+Ruta!I113","v":0},{"$f":"+Ruta!J113","v":"oeste santa teresita, Av. 2 Oe"},{"$f":"+Ruta!K113","v":0},null,{"$f":"+Ruta!R113","v":0},{"v":0,"d":"0.00%"},0,null,0,0,0,0,0,0]
[null,{"$f":"+Ruta!B114","v":"SI"},{"$f":"+Ruta!C114","v":111},{"$f":"+Ruta!D114","v":"Cartago "},{"$f":"+Ruta!E114","v":"Mayorista "},{"$f":"+Ruta!F114","v":"Jhenny Romero"},{"$f":"+Ruta!G114","v":" Garces"},{"$f":"+Ruta!H114","v":2133333},{"$f":"+Ruta!I114","v":0},{"$f":"+Ruta!J114","v":"Carrera 4 # 19-38"},{"$f":"+Ruta!K114","v":0},36,{"$f":"+Ruta!R114","v":60},{"v":0.001994614540740002,"d":"0.20%"},{"v":1.9946145407400018,"d":"2"},3,3,{"v":5.9838436222200055,"d":"6"},9,{"v":19.946145407400017,"d":"20"},30,9]
[null,{"$f":"+Ruta!B115","v":"SI"},{"$f":"+Ruta!C115","v":112},{"$f":"+Ruta!D115","v":"Zarzal"},{"$f":"+Ruta!E115","v":"Mayorista "},{"$f":"+Ruta!F115","v":"Jhenny Romero"},{"$f":"+Ruta!G115","v":"Cigarrería La Andina"},{"$f":"+Ruta!H115","v":3152228870},{"$f":"+Ruta!I115","v":"Marques 3años Botella + Can Agte "},{"$f":"+Ruta!J115","v":"Calle 9 # 8 - 76"},{"$f":"+Ruta!K115","v":0},50,{"$f":"+Ruta!R115","v":66},{"v":0.002194075994814002,"d":"0.22%"},{"v":2.194075994814002,"d":"2"},3,3,{"v":6.582227984442007,"d":"7"},9,{"v":21.940759948140023,"d":"22"},30,9]
[null,{"$f":"+Ruta!B116","v":"SI"},{"$f":"+Ruta!C116","v":113},{"$f":"+Ruta!D116","v":"Cartago "},{"$f":"+Ruta!E116","v":"Mayorista "},{"$f":"+Ruta!F116","v":"Jhenny Romero"},{"$f":"+Ruta!G116","v":"Licores Raulette"},{"$f":"+Ruta!H116","v":2125411},{"$f":"+Ruta!I116","v":"Marques 3años Botella + Can Agte "},{"$f":"+Ruta!J116","v":"Carrera 4 # 11-30"},{"$f":"+Ruta!K116","v":0},120,{"$f":"+Ruta!R116","v":86},{"v":0.002858947508394003,"d":"0.29%"},{"v":2.858947508394003,"d":"3"},{"v":2.8607187555873415,"d":"3"},{"v":2.8607187555873415,"d":"3"},{"v":8.576842525182009,"d":"9"},{"v":8.582156266762023,"d":"9"},{"v":28.589475083940027,"d":"29"},{"v":28.607187555873416,"d":"29"},{"v":8.582156266762023,"d":"9"}]
[null,{"$f":"+Ruta!B117","v":"SI"},{"$f":"+Ruta!C117","v":114},{"$f":"+Ruta!D117","v":"La Unión "},{"$f":"+Ruta!E117","v":"Licorera"},{"$f":"+Ruta!F117","v":"Jhenny Romero"},{"$f":"+Ruta!G117","v":"Estanquillo La 16"},{"$f":"+Ruta!H117","v":2292935},{"$f":"+Ruta!I117","v":"Marques 3años Botella + Can Agte "},{"$f":"+Ruta!J117","v":"Carrera 16 # 17 - 44"},{"$f":"+Ruta!K117","v":0},36,{"$f":"+Ruta!R117","v":70},{"v":0.002327050297530002,"d":"0.23%"},{"v":2.3270502975300023,"d":"2"},3,3,{"v":6.981150892590007,"d":"7"},9,{"v":23.270502975300023,"d":"23"},30,9]
[null,{"$f":"+Ruta!B118","v":"SI"},{"$f":"+Ruta!C118","v":115},{"$f":"+Ruta!D118","v":"Roldanillo"},{"$f":"+Ruta!E118","v":"Mayorista "},{"$f":"+Ruta!F118","v":"Jhenny Romero"},{"$f":"+Ruta!G118","v":"Estanquillo Muñoz"},{"$f":"+Ruta!H118","v":2297172},{"$f":"+Ruta!I118","v":"Marques 3años Botella + Can Agte  - Marques 3años Botella  + Can Marques 3años -Marques Bot 3años P2 x 3 - Marques Can P2 X3 - Marques 8años + Can 3 años"},{"$f":"+Ruta!J118","v":"Calle 8 # 7 - 67"},{"$f":"+Ruta!K118","v":0},24,{"$f":"+Ruta!R118","v":68},{"v":0.002260563146172002,"d":"0.23%"},{"v":2.2605631461720024,"d":"2"},3,3,{"v":6.781689438516007,"d":"7"},9,{"v":22.605631461720023,"d":"23"},30,9]
[null,{"$f":"+Ruta!B119","v":"SI"},{"$f":"+Ruta!C119","v":116},{"$f":"+Ruta!D119","v":"Cartago "},{"$f":"+Ruta!E119","v":"Mayorista "},{"$f":"+Ruta!F119","v":"Jhenny Romero"},{"$f":"+Ruta!G119","v":"Comercializadora Don Jimmy"},{"$f":"+Ruta!H119","v":2139099},{"$f":"+Ruta!I119","v":"Marques 3años Botella + Can Agte  - Marques 3años Botella  + Can Marques 3años -Marques Bot 3años P2 x 3 - Marques Can P2 X3 - Marques 8años + Can 3 años"},{"$f":"+Ruta!J119","v":"Carrera / # 11-51"},{"$f":"+Ruta!K119","v":0},60,{"$f":"+Ruta!R119","v":280},{"v":0.009308201190120009,"d":"0.93%"},{"v":9.308201190120009,"d":"9"},{"v":10.72769533345253,"d":"11"},{"v":10.72769533345253,"d":"11"},{"v":27.924603570360027,"d":"28"},{"v":32.18308600035759,"d":"32"},{"v":93.08201190120009,"d":"93"},90,{"v":32.18308600035759,"d":"32"}]
[null,{"$f":"+Ruta!B120","v":"NO"},{"$f":"+Ruta!C120","v":117},{"$f":"+Ruta!D120","v":"Alcalá"},{"$f":"+Ruta!E120","v":"Licorera"},{"$f":"+Ruta!F120","v":"Jhenny Romero"},{"$f":"+Ruta!G120","v":"Distribuciones El Imán"},{"$f":"+Ruta!H120","v":3113183498},{"$f":"+Ruta!I120","v":"Marques 3años Botella + Can Agte "},{"$f":"+Ruta!J120","v":"Calle 5 # 8-36"},{"$f":"+Ruta!K120","v":0},10,{"$f":"+Ruta!R120","v":3},{"v":9.97307270370001e-05,"d":"0.01%"},{"v":0.0997307270370001,"d":"0"},3,3,{"v":0.29919218111100027,"d":"0"},9,{"v":0.997307270370001,"d":"1"},30,9]
[null,{"$f":"+Ruta!B121","v":"SI"},{"$f":"+Ruta!C121","v":118},{"$f":"+Ruta!D121","v":"Cartago "},{"$f":"+Ruta!E121","v":"Mayorista "},{"$f":"+Ruta!F121","v":"Jhenny Romero"},{"$f":"+Ruta!G121","v":"Saloon Licores"},{"$f":"+Ruta!H121","v":3175131166},{"$f":"+Ruta!I121","v":"Marques 3años Botella + Can Agte "},{"$f":"+Ruta!J121","v":"Calle 10 # 15 - 20"},{"$f":"+Ruta!K121","v":0},120,{"$f":"+Ruta!R121","v":75},{"v":2.4932681759250023E-3,"d":"0.25%"},{"v":2.493268175925002,"d":"2"},{"v":3.218308600035759,"d":"3"},{"v":3.218308600035759,"d":"3"},{"v":7.4798045277750065,"d":"7"},{"v":9.654925800107277,"d":"10"},{"v":24.932681759250023,"d":"25"},{"v":32.18308600035759,"d":"32"},{"v":9.654925800107277,"d":"10"}]
[null,{"$f":"+Ruta!B122","v":"SI"},{"$f":"+Ruta!C122","v":119},{"$f":"+Ruta!D122","v":"Palmira"},{"$f":"+Ruta!E122","v":"Mayorista "},{"$f":"+Ruta!F122","v":"Katherine Rengifo"},{"$f":"+Ruta!G122","v":"Licores Palmira "},{"$f":"+Ruta!H122","v":"2859975-3218677680"},{"$f":"+Ruta!I122","v":"Marques 3años Botella + Can Agte  - Marques 3años Botella  + Can Marques 3años -Marques Bot 3años P2 x 3 - Marques Can P2 X3 - Marques 8años + Can 3 años"},{"$f":"+Ruta!J122","v":"Calle 31 # 37 - 56"},{"$f":"+Ruta!K122","v":0},{"$f":"15*12","v":180},{"$f":"+Ruta!R122","v":1200},{"v":0.03989229081480004,"d":"3.99%"},{"v":39.892290814800035,"d":"40"},{"v":25.74646880028607,"d":"26"},{"v":25.74646880028607,"d":"26"},{"v":119.6768724444001,"d":"120"},100,{"v":398.9229081480004,"d":"399"},350,100]
[null,{"$f":"+Ruta!B123","v":"SI"},{"$f":"+Ruta!C123","v":120},{"$f":"+Ruta!D123","v":"El Placer"},{"$f":"+Ruta!E123","v":"Mayorista "},{"$f":"+Ruta!F123","v":"Katherine Rengifo"},{"$f":"+Ruta!G123","v":"Granero Los Paisas"},{"$f":"+Ruta!H123","v":"3173171258-2548145"},{"$f":"+Ruta!I123","v":"Marques 3años Botella + Can Agte "},{"$f":"+Ruta!J123","v":"Carrera 8 # 6 -12"},{"$f":"+Ruta!K123","v":0},{"$f":"6*12","v":72},{"$f":"+Ruta!R123","v":300},{"v":0.00997307270370001,"d":"1.00%"},{"v":9.973072703700009,"d":"10"},{"v":8.582156266762025,"d":"9"},{"v":8.582156266762025,"d":"9"},{"v":29.919218111100026,"d":"30"},30,{"v":99.7307270370001,"d":"100"},100,30]
[null,{"$f":"+Ruta!B124","v":"SI"},{"$f":"+Ruta!C124","v":121},{"$f":"+Ruta!D124","v":"Cerrito"},{"$f":"+Ruta!E124","v":"Licorera"},{"$f":"+Ruta!F124","v":"Katherine Rengifo"},{"$f":"+Ruta!G124","v":"Estanco Punto Blanco"},{"$f":"+Ruta!H124","v":3146620834},{"$f":"+Ruta!I124","v":"Marques 3años Botella + Can Agte "},{"$f":"+Ruta!J124","v":"Calle 7 # 12 - 08"},{"$f":"+Ruta!K124","v":0},{"$f":"4*12","v":48},{"$f":"+Ruta!R124","v":300},{"v":0.00997307270370001,"d":"1.00%"},{"v":9.973072703700009,"d":"10"},{"v":8.582156266762025,"d":"9"},{"v":8.582156266762025,"d":"9"},{"v":29.919218111100026,"d":"30"},30,{"v":99.7307270370001,"d":"100"},100,30]
[null,{"$f":"+Ruta!B125","v":"SI"},{"$f":"+Ruta!C125","v":122},{"$f":"+Ruta!D125","v":"Pradera"},{"$f":"+Ruta!E125","v":"Licorera"},{"$f":"+Ruta!F125","v":"Katherine Rengifo"},{"$f":"+Ruta!G125","v":"El Barril de la 6"},{"$f":"+Ruta!H125","v":"3163471484-2670572-3187944106"},{"$f":"+Ruta!I125","v":"Marques 3años Botella + Can Agte "},{"$f":"+Ruta!J125","v":"Calle 6 # 11-03"},{"$f":"+Ruta!K125","v":0},{"$f":"10*12","v":120},{"$f":"+Ruta!R125","v":840},{"v":0.02792460357036003,"d":"2.79%"},{"v":27.92460357036003,"d":"28"},{"v":21.45539066690506,"d":"21"},{"v":21.45539066690506,"d":"21"},{"v":83.77381071108009,"d":"84"},80,{"v":279.2460357036003,"d":"279"},260,80]
[null,{"$f":"+Ruta!B126","v":"SI"},{"$f":"+Ruta!C126","v":123},{"$f":"+Ruta!D126","v":"Pradera"},{"$f":"+Ruta!E126","v":"Supermercado"},{"$f":"+Ruta!F126","v":"Katherine Rengifo"},{"$f":"+Ruta!G126","v":"Mercapava"},{"$f":"+Ruta!H126","v":2834030},{"$f":"+Ruta!I126","v":"Marques 3años Botella + Can Agte "},{"$f":"+Ruta!J126","v":"Calle 7 # 9-59"},{"$f":"+Ruta!K126","v":0},null,{"$f":"+Ruta!R126","v":420},{"v":0.013962301785180015,"d":"1.40%"},{"v":13.962301785180015,"d":"14"},{"v":4.291078133381013,"d":"4"},{"v":4.291078133381013,"d":"4"},{"v":41.886905355540044,"d":"42"},40,{"v":139.62301785180014,"d":"140"},120,40]
[null,{"$f":"+Ruta!B127","v":"SI"},{"$f":"+Ruta!C127","v":124},{"$f":"+Ruta!D127","v":"Candelaria "},{"$f":"+Ruta!E127","v":"Mayorista "},{"$f":"+Ruta!F127","v":"Katherine Rengifo"},{"$f":"+Ruta!G127","v":"Estanco y Dulcería Los Paisas"},{"$f":"+Ruta!H127","v":3136518541},{"$f":"+Ruta!I127","v":"Marques 3años Botella + Can Agte "},{"$f":"+Ruta!J127","v":"Carrera 7 # 4-80"},{"$f":"+Ruta!K127","v":0},{"$f":"8*12","v":96},{"$f":"+Ruta!R127","v":240},{"v":0.007978458162960007,"d":"0.80%"},{"v":7.978458162960007,"d":"8"},{"v":9.869479706776326,"d":"10"},{"v":9.869479706776326,"d":"10"},{"v":23.935374488880022,"d":"24"},{"v":29.60843912032898,"d":"30"},{"v":79.78458162960007,"d":"80"},80,{"v":29.60843912032898,"d":"30"}]
[null,{"$f":"+Ruta!B128","v":"SI"},{"$f":"+Ruta!C128","v":125},{"$f":"+Ruta!D128","v":"Florida"},{"$f":"+Ruta!E128","v":"Mayorista "},{"$f":"+Ruta!F128","v":"Katherine Rengifo"},{"$f":"+Ruta!G128","v":"Distribuidora Cordillera Central"},{"$f":"+Ruta!H128","v":3117666820},{"$f":"+Ruta!I128","v":0},{"$f":"+Ruta!J128","v":"Carrera 14 # 8 - 61"},{"$f":"+Ruta!K128","v":0},0,{"$f":"+Ruta!R128","v":180},{"v":0.005983843622220006,"d":"0.60%"},{"v":5.983843622220006,"d":"6"},{"v":2.5746468800286073,"d":"3"},{"v":2.5746468800286073,"d":"3"},{"v":17.95153086666002,"d":"18"},18,{"v":59.838436222200066,"d":"60"},50,18]
[null,{"$f":"+Ruta!B129","v":"SI"},{"$f":"+Ruta!C129","v":126},{"$f":"+Ruta!D129","v":"Palmira"},{"$f":"+Ruta!E129","v":"Supermercado"},{"$f":"+Ruta!F129","v":"Katherine Rengifo"},{"$f":"+Ruta!G129","v":"Supermercado La Gran Colombia"},{"$f":"+Ruta!H129","v":3004377555},{"$f":"+Ruta!I129","v":"Marques 3años Botella + Can Agte "},{"$f":"+Ruta!J129","v":"Carrera 28 # 66A - 86"},{"$f":"+Ruta!K129","v":0},null,{"$f":"+Ruta!R129","v":24},{"v":7.9784581629600078E-4,"d":"0.08%"},{"v":0.7978458162960008,"d":"1"},3,3,{"v":2.393537448888002,"d":"2"},9,{"v":7.978458162960008,"d":"8"},30,9]
[null,{"$f":"+Ruta!B130","v":"SI"},{"$f":"+Ruta!C130","v":127},{"$f":"+Ruta!D130","v":"Palmira"},{"$f":"+Ruta!E130","v":"Supermercado"},{"$f":"+Ruta!F130","v":"Katherine Rengifo"},{"$f":"+Ruta!G130","v":"SuperInter La Cometa"},{"$f":"+Ruta!H130","v":3113775927},{"$f":"+Ruta!I130","v":"Marques 3años Botella + Can Agte "},{"$f":"+Ruta!J130","v":"Carrera 19 # 42A - 23"},{"$f":"+Ruta!K130","v":0},null,{"$f":"+Ruta!R130","v":120},{"v":0.003989229081480004,"d":"0.40%"},{"v":3.9892290814800035,"d":"4"},{"v":2.5746468800286073,"d":"3"},{"v":2.5746468800286073,"d":"3"},{"v":11.967687244440011,"d":"12"},{"v":7.7239406400858215,"d":"8"},{"v":39.892290814800035,"d":"40"},{"v":25.746468800286074,"d":"26"},{"v":7.7239406400858215,"d":"8"}]
[null,{"$f":"+Ruta!B131","v":"NO"},{"$f":"+Ruta!C131","v":128},{"$f":"+Ruta!D131","v":"Palmira"},{"$f":"+Ruta!E131","v":"Supermercado"},{"$f":"+Ruta!F131","v":"Katherine Rengifo"},{"$f":"+Ruta!G131","v":"SuperInter Centro"},{"$f":"+Ruta!H131","v":3215638563},{"$f":"+Ruta!I131","v":"Marques 3años Botella + Can Agte "},{"$f":"+Ruta!J131","v":"Calle31 #  27 - 37"},{"$f":"+Ruta!K131","v":0},null,{"$f":"+Ruta!R131","v":0},{"v":0,"d":"0.00%"},0,{"v":2.5746468800286073,"d":"3"},{"v":2.5746468800286073,"d":"3"},0,{"v":7.7239406400858215,"d":"8"},0,{"v":25.746468800286074,"d":"26"},{"v":7.7239406400858215,"d":"8"}]
[null,{"$f":"+Ruta!B132","v":"SI"},{"$f":"+Ruta!C132","v":129},{"$f":"+Ruta!D132","v":"Palmira"},{"$f":"+Ruta!E132","v":"Supermercado"},{"$f":"+Ruta!F132","v":"Katherine Rengifo"},{"$f":"+Ruta!G132","v":"Olimpica Versalles "},{"$f":"+Ruta!H132","v":2896657},{"$f":"+Ruta!I132","v":"Marques 3años Botella + Can Agte "},{"$f":"+Ruta!J132","v":"Calle 42 # 28 Esquina"},{"$f":"+Ruta!K132","v":0},null,{"$f":"+Ruta!R132","v":120},{"v":0.003989229081480004,"d":"0.40%"},{"v":3.9892290814800035,"d":"4"},3,3,{"v":11.967687244440011,"d":"12"},9,{"v":39.892290814800035,"d":"40"},30,9]
[null,{"$f":"+Ruta!B133","v":"SI"},{"$f":"+Ruta!C133","v":130},{"$f":"+Ruta!D133","v":"Tuluá"},{"$f":"+Ruta!E133","v":"Mayorista "},{"$f":"+Ruta!F133","v":"Lina Colonia"},{"$f":"+Ruta!G133","v":"Distri Jota SAS"},{"$f":"+Ruta!H133","v":"(2) 224 9488"},{"$f":"+Ruta!I133","v":"Marques 3años Botella + Can Agte "},{"$f":"+Ruta!J133","v":"Calle 29 # 22-23"},{"$f":"+Ruta!K133","v":0},null,{"$f":"+Ruta!R133","v":80},{"v":2.6594860543200025E-3,"d":"0.27%"},{"$f":"+O$3*N133","v":{"v":2.6594860543200025,"d":"3"}},{"v":3.0395136778115504,"d":"3"},{"v":3.0395136778115504,"d":"3"},{"$f":"+R$3*N133","v":{"v":7.978458162960007,"d":"8"}},{"$f":"+P133*3","v":{"v":9.118541033434651,"d":"9"}},{"$f":"+T$3*N133","v":{"v":26.594860543200024,"d":"27"}},{"$f":"+Q133*10","v":{"v":30.395136778115504,"d":"30"}},{"$f":"+S133","v":{"v":9.118541033434651,"d":"9"}}]
[null,{"$f":"+Ruta!B134","v":"SI"},{"$f":"+Ruta!C134","v":131},{"$f":"+Ruta!D134","v":"Tuluá"},{"$f":"+Ruta!E134","v":"Mayorista "},{"$f":"+Ruta!F134","v":"Lina Colonia"},{"$f":"+Ruta!G134","v":"Depósito La Ganga"},{"$f":"+Ruta!H134","v":"(2) 225 7742"},{"$f":"+Ruta!I134","v":"Marques 3años Botella + Can Agte "},{"$f":"+Ruta!J134","v":"Carrera 22 # 28 - 49"},{"$f":"+Ruta!K134","v":0},{"$f":"8*12","v":96},{"$f":"+Ruta!R134","v":270},{"v":0.00897576543333001,"d":"0.90%"},{"v":8.97576543333001,"d":"9"},{"v":8.939746111210441,"d":"9"},{"v":8.939746111210441,"d":"9"},{"v":26.927296299990026,"d":"27"},{"v":26.819238333631326,"d":"27"},{"v":89.7576543333001,"d":"90"},90,{"v":26.819238333631326,"d":"27"}]
[null,{"$f":"+Ruta!B135","v":"SI"},{"$f":"+Ruta!C135","v":132},{"$f":"+Ruta!D135","v":"Tuluá"},{"$f":"+Ruta!E135","v":"Mayorista "},{"$f":"+Ruta!F135","v":"Lina Colonia"},{"$f":"+Ruta!G135","v":"Cacharrería yDist. JM "},{"$f":"+Ruta!H135","v":"318 369 2722"},{"$f":"+Ruta!I135","v":"Marques 3años Botella + Can Agte "},{"$f":"+Ruta!J135","v":0},{"$f":"+Ruta!K135","v":0},null,{"$f":"+Ruta!R135","v":36},{"v":1.1967687244440013E-3,"d":"0.12%"},{"v":1.1967687244440013,"d":"1"},3,3,{"v":3.590306173332004,"d":"4"},9,{"v":11.967687244440013,"d":"12"},{"$f":"+Q135*10","v":30},9]
[null,{"$f":"+Ruta!B136","v":"SI"},{"$f":"+Ruta!C136","v":133},{"$f":"+Ruta!D136","v":"Tuluá"},{"$f":"+Ruta!E136","v":"Mayorista "},{"$f":"+Ruta!F136","v":"Lina Colonia"},{"$f":"+Ruta!G136","v":"Almacén Ossa"},{"$f":"+Ruta!H136","v":"317 513 4129"},{"$f":"+Ruta!I136","v":"Marques 3años Botella + Can Agte "},{"$f":"+Ruta!J136","v":"Carrera 22 # 29A - 04"},{"$f":"+Ruta!K136","v":0},null,{"$f":"+Ruta!R136","v":170},{"v":0.005651407865430005,"d":"0.57%"},{"v":5.651407865430005,"d":"6"},{"v":6.436617200071518,"d":"6"},{"v":6.436617200071518,"d":"6"},{"v":16.954223596290017,"d":"17"},15,{"v":56.51407865430005,"d":"57"},55,15]
[null,{"$f":"+Ruta!B137","v":"NO"},{"$f":"+Ruta!C137","v":134},{"$f":"+Ruta!D137","v":"Buga"},{"$f":"+Ruta!E137","v":"Mayorista "},{"$f":"+Ruta!F137","v":"Lina Colonia"},{"$f":"+Ruta!G137","v":"Licores La Cuarta"},{"$f":"+Ruta!H137","v":"316 714 2019"},{"$f":"+Ruta!I137","v":"Marques 3años Botella + Can Agte "},{"$f":"+Ruta!J137","v":"Calle 4 # 6-06"},{"$f":"+Ruta!K137","v":0},null,{"$f":"+Ruta!R137","v":0},{"v":0,"d":"0.00%"},0,null,0,0,0,0,{"$f":"+Q137*10","v":0},0]
[null,{"$f":"+Ruta!B138","v":"SI"},{"$f":"+Ruta!C138","v":135},{"$f":"+Ruta!D138","v":"Restrepo"},{"$f":"+Ruta!E138","v":"Mayorista "},{"$f":"+Ruta!F138","v":"Lina Colonia"},{"$f":"+Ruta!G138","v":"Los Paisas  "},{"$f":"+Ruta!H138","v":"321 482 7231"},{"$f":"+Ruta!I138","v":"Marques 3años Botella + Can Agte "},{"$f":"+Ruta!J138","v":"Carrera 10 # 9-50 Plaza de mercado"},{"$f":"+Ruta!K138","v":0},null,{"$f":"+Ruta!R138","v":220},{"v":0.007313586649380008,"d":"0.73%"},{"v":7.3135866493800075,"d":"7"},{"v":8.582156266762025,"d":"9"},{"v":8.582156266762025,"d":"9"},{"v":21.940759948140023,"d":"22"},22,{"v":73.13586649380008,"d":"73"},70,22]
[null,{"$f":"+Ruta!B139","v":"SI"},{"$f":"+Ruta!C139","v":136},{"$f":"+Ruta!D139","v":"Buga"},{"$f":"+Ruta!E139","v":"Mayorista "},{"$f":"+Ruta!F139","v":"Lina Colonia"},{"$f":"+Ruta!G139","v":"Depóstito El Triunfo "},{"$f":"+Ruta!H139","v":"(2) 227 1824"},{"$f":"+Ruta!I139","v":"Marques 3años Botella + Can Agte "},{"$f":"+Ruta!J139","v":"Calle 21 # 12-59"},{"$f":"+Ruta!K139","v":0},null,{"$f":"+Ruta!R139","v":260},{"v":8.643329676540008E-3,"d":"0.86%"},{"v":8.643329676540008,"d":"9"},{"v":9.440371893438225,"d":"9"},{"v":9.440371893438225,"d":"9"},{"v":25.929989029620025,"d":"26"},{"v":28.321115680314676,"d":"28"},{"v":86.43329676540009,"d":"86"},80,{"v":28.321115680314676,"d":"28"},{"$f":"+V139/24","v":1.1800464866797782}]
[null,{"$f":"+Ruta!B140","v":"SI"},{"$f":"+Ruta!C140","v":137},{"$f":"+Ruta!D140","v":"Palmira"},{"$f":"+Ruta!E140","v":"Mayorista "},{"$f":"+Ruta!F140","v":"Katherine Rengifo"},{"$f":"+Ruta!G140","v":"Miscelanea La Unión "},{"$f":"+Ruta!H140","v":"3157030966 - 2836460"},{"$f":"+Ruta!I140","v":"Marques 3años Botella + Can Agte "},{"$f":"+Ruta!J140","v":"cra 25 #27-44"},{"$f":"+Ruta!K140","v":0},null,{"$f":"+Ruta!R140","v":360},{"v":0.011967687244440013,"d":"1.20%"},{"v":11.967687244440013,"d":"12"},null,0,{"v":35.90306173332004,"d":"36"},30,{"v":119.67687244440013,"d":"120"},100,30]
[null,{"$f":"+Ruta!B141","v":"SI"},{"$f":"+Ruta!C141","v":138},{"$f":"+Ruta!D141","v":"Cali"},{"$f":"+Ruta!E141","v":"TAT"},{"$f":"+Ruta!F141","v":"Ana Rosa Lopera"},{"$f":"+Ruta!G141","v":"Luz marina zuluaga"},{"$f":"+Ruta!H141","v":3207412307},{"$f":"+Ruta!I141","v":"Marques 3años Botella + Can Agte "},{"$f":"+Ruta!J141","v":"AV 15 OESTE # 7 03"},{"$f":"+Ruta!K141","v":31523227},null,{"$f":"+Ruta!R141","v":0},{"v":0,"d":"0.00%"},0,3,3,0,9,0,{"$f":"+Q141*10","v":30},9]
[null,{"$f":"+Ruta!B142","v":"SI"},{"$f":"+Ruta!C142","v":139},{"$f":"+Ruta!D142","v":"Cali"},{"$f":"+Ruta!E142","v":"TAT"},{"$f":"+Ruta!F142","v":"Ana Rosa Lopera"},{"$f":"+Ruta!G142","v":"Ramon giraldo"},{"$f":"+Ruta!H142","v":3113754878},{"$f":"+Ruta!I142","v":"Marques 3años Botella + Can Agte "},{"$f":"+Ruta!J142","v":"CLL 12 OESTE # 39-06"},{"$f":"+Ruta!K142","v":94422261},null,{"$f":"+Ruta!R142","v":5},{"v":1.6621787839500015E-4,"d":"0.02%"},{"v":0.16621787839500016,"d":"0"},3,3,{"v":0.49865363518500044,"d":"0"},9,{"v":1.6621787839500015,"d":"2"},30,9]
[null,{"$f":"+Ruta!B143","v":"NO"},{"$f":"+Ruta!C143","v":140},{"$f":"+Ruta!D143","v":"Cali"},{"$f":"+Ruta!E143","v":"TAT"},{"$f":"+Ruta!F143","v":"Ana Rosa Lopera"},{"$f":"+Ruta!G143","v":"Victor mosquera"},{"$f":"+Ruta!H143","v":6622328},{"$f":"+Ruta!I143","v":"Marques 3años Botella + Can Agte "},{"$f":"+Ruta!J143","v":"CL 72A # 7B BIS 09"},{"$f":"+Ruta!K143","v":166659803},null,{"$f":"+Ruta!R143","v":6},{"v":1.994614540740002E-4,"d":"0.02%"},{"v":0.1994614540740002,"d":"0"},3,3,{"v":0.5983843622220005,"d":"1"},9,{"v":1.994614540740002,"d":"2"},30,9]
[null,{"$f":"+Ruta!B144","v":"SI"},{"$f":"+Ruta!C144","v":141},{"$f":"+Ruta!D144","v":"Cali"},{"$f":"+Ruta!E144","v":"TAT"},{"$f":"+Ruta!F144","v":"Ana Rosa Lopera"},{"$f":"+Ruta!G144","v":"Doly hortencia"},{"$f":"+Ruta!H144","v":5514843},{"$f":"+Ruta!I144","v":"Marques 3años Botella + Can Agte "},{"$f":"+Ruta!J144","v":"CR 40A # 9C 20"},{"$f":"+Ruta!K144","v":66814208},null,{"$f":"+Ruta!R144","v":7},{"v":2.3270502975300024E-4,"d":"0.02%"},{"v":0.23270502975300023,"d":"0"},3,3,{"v":0.6981150892590007,"d":"1"},9,{"v":2.3270502975300023,"d":"2"},30,9]
[null,{"$f":"+Ruta!B145","v":"SI"},{"$f":"+Ruta!C145","v":142},{"$f":"+Ruta!D145","v":"Cali"},{"$f":"+Ruta!E145","v":"TAT"},{"$f":"+Ruta!F145","v":"Ana Rosa Lopera"},{"$f":"+Ruta!G145","v":"Jonny salazar giraldo"},{"$f":"+Ruta!H145","v":3117636936},{"$f":"+Ruta!I145","v":"Marques 3años Botella + Can Agte "},{"$f":"+Ruta!J145","v":"CLL 13 # 47 04"},{"$f":"+Ruta!K145","v":1038405574},null,{"$f":"+Ruta!R145","v":3},{"v":9.97307270370001e-05,"d":"0.01%"},{"v":0.0997307270370001,"d":"0"},3,3,{"v":0.29919218111100027,"d":"0"},9,{"v":0.997307270370001,"d":"1"},30,9]
[null,{"$f":"+Ruta!B146","v":"SI"},{"$f":"+Ruta!C146","v":143},{"$f":"+Ruta!D146","v":"Cali"},{"$f":"+Ruta!E146","v":"TAT"},{"$f":"+Ruta!F146","v":"Ana Rosa Lopera"},{"$f":"+Ruta!G146","v":"Carlos alberto lopez"},{"$f":"+Ruta!H146","v":5531616},{"$f":"+Ruta!I146","v":"Marques 3años Botella + Can Agte "},{"$f":"+Ruta!J146","v":"CR 47A # 10-83"},{"$f":"+Ruta!K146","v":15429690},null,{"$f":"+Ruta!R146","v":7},{"v":2.3270502975300024E-4,"d":"0.02%"},{"v":0.23270502975300023,"d":"0"},3,3,{"v":0.6981150892590007,"d":"1"},9,{"v":2.3270502975300023,"d":"2"},30,9]
[null,{"$f":"+Ruta!B147","v":"SI"},{"$f":"+Ruta!C147","v":144},{"$f":"+Ruta!D147","v":"Cali"},{"$f":"+Ruta!E147","v":"TAT"},{"$f":"+Ruta!F147","v":"Ana Rosa Lopera"},{"$f":"+Ruta!G147","v":"Yakeline ospina"},{"$f":"+Ruta!H147","v":3053624703},{"$f":"+Ruta!I147","v":"Marques 3años Botella + Can Agte "},{"$f":"+Ruta!J147","v":"CLL 52A # 29B 17"},{"$f":"+Ruta!K147","v":1144176021},null,{"$f":"+Ruta!R147","v":0},{"v":0,"d":"0.00%"},0,3,3,0,9,0,30,9]
[null,{"$f":"+Ruta!B148","v":"SI"},{"$f":"+Ruta!C148","v":145},{"$f":"+Ruta!D148","v":"Cali"},{"$f":"+Ruta!E148","v":"TAT"},{"$f":"+Ruta!F148","v":"Ana Rosa Lopera"},{"$f":"+Ruta!G148","v":"Jaime ocampo valencia"},{"$f":"+Ruta!H148","v":3103953082},{"$f":"+Ruta!I148","v":"Marques 3años Botella + Can Agte "},{"$f":"+Ruta!J148","v":"CLL 51 # 29A 118"},{"$f":"+Ruta!K148","v":1058844991},null,{"$f":"+Ruta!R148","v":7},{"v":2.3270502975300024E-4,"d":"0.02%"},{"v":0.23270502975300023,"d":"0"},11,11,{"v":0.6981150892590007,"d":"1"},9,{"v":2.3270502975300023,"d":"2"},30,9]
[null,{"$f":"+Ruta!B149","v":"SI"},{"$f":"+Ruta!C149","v":146},{"$f":"+Ruta!D149","v":"Cali"},{"$f":"+Ruta!E149","v":"TAT"},{"$f":"+Ruta!F149","v":"Ana Rosa Lopera"},{"$f":"+Ruta!G149","v":"Jesus antonio barles"},{"$f":"+Ruta!H149","v":3931110},{"$f":"+Ruta!I149","v":"Marques 3años Botella + Can Agte "},{"$f":"+Ruta!J149","v":"CR 32A # 51A 20"},{"$f":"+Ruta!K149","v":3493913},null,{"$f":"+Ruta!R149","v":3},{"v":9.97307270370001e-05,"d":"0.01%"},{"v":0.0997307270370001,"d":"0"},3,3,{"v":0.29919218111100027,"d":"0"},9,{"v":0.997307270370001,"d":"1"},{"$f":"+Q149*10","v":30},9]
[null,{"$f":"+Ruta!B150","v":"SI"},{"$f":"+Ruta!C150","v":147},{"$f":"+Ruta!D150","v":"Cali"},{"$f":"+Ruta!E150","v":"TAT"},{"$f":"+Ruta!F150","v":"Ana Rosa Lopera"},{"$f":"+Ruta!G150","v":"Ciro solis"},{"$f":"+Ruta!H150","v":3217534183},{"$f":"+Ruta!I150","v":"Marques 3años Botella + Can Agte "},{"$f":"+Ruta!J150","v":"CR 29B # 46 00"},{"$f":"+Ruta!K150","v":1144137846},null,{"$f":"+Ruta!R150","v":3},{"v":9.97307270370001e-05,"d":"0.01%"},{"v":0.0997307270370001,"d":"0"},3,3,{"v":0.29919218111100027,"d":"0"},9,{"v":0.997307270370001,"d":"1"},30,9]
[null,{"$f":"+Ruta!B151","v":"SI"},{"$f":"+Ruta!C151","v":148},{"$f":"+Ruta!D151","v":"Cali"},{"$f":"+Ruta!E151","v":"TAT"},{"$f":"+Ruta!F151","v":"Ana Rosa Lopera"},{"$f":"+Ruta!G151","v":"Jaime jaramillo"},{"$f":"+Ruta!H151","v":3146940159},{"$f":"+Ruta!I151","v":"Marques 3años Botella + Can Agte "},{"$f":"+Ruta!J151","v":"CR 29 B # 40 99"},{"$f":"+Ruta!K151","v":1107514677},null,{"$f":"+Ruta!R151","v":3},{"v":9.97307270370001e-05,"d":"0.01%"},{"v":0.0997307270370001,"d":"0"},3,3,{"v":0.29919218111100027,"d":"0"},9,{"v":0.997307270370001,"d":"1"},30,9]
[null,{"$f":"+Ruta!B152","v":"SI"},{"$f":"+Ruta!C152","v":149},{"$f":"+Ruta!D152","v":"Cali"},{"$f":"+Ruta!E152","v":"TAT"},{"$f":"+Ruta!F152","v":"Ana Rosa Lopera"},{"$f":"+Ruta!G152","v":"Carlos alberto lopez"},{"$f":"+Ruta!H152","v":3137671699},{"$f":"+Ruta!I152","v":"Marques 3años Botella + Can Agte "},{"$f":"+Ruta!J152","v":"CLL 49# 8A 23"},{"$f":"+Ruta!K152","v":16681943},null,{"$f":"+Ruta!R152","v":3},{"v":9.97307270370001e-05,"d":"0.01%"},{"v":0.0997307270370001,"d":"0"},3,3,{"v":0.29919218111100027,"d":"0"},9,{"v":0.997307270370001,"d":"1"},30,9]
[null,{"$f":"+Ruta!B153","v":"SI"},{"$f":"+Ruta!C153","v":150},{"$f":"+Ruta!D153","v":"Cali"},{"$f":"+Ruta!E153","v":"TAT"},{"$f":"+Ruta!F153","v":"Ana Rosa Lopera"},{"$f":"+Ruta!G153","v":"Olga pelaez"},{"$f":"+Ruta!H153","v":4337053},{"$f":"+Ruta!I153","v":"Marques 3años Botella + Can Agte "},{"$f":"+Ruta!J153","v":"CLL 71C # 3BN 70"},{"$f":"+Ruta!K153","v":29185357},null,{"$f":"+Ruta!R153","v":0},{"v":0,"d":"0.00%"},0,3,3,0,9,0,30,9]
[null,{"$f":"+Ruta!B154","v":"SI"},{"$f":"+Ruta!C154","v":151},{"$f":"+Ruta!D154","v":"Cali"},{"$f":"+Ruta!E154","v":"TAT"},{"$f":"+Ruta!F154","v":"Ana Rosa Lopera"},{"$f":"+Ruta!G154","v":"Alba nora"},{"$f":"+Ruta!H154","v":3207552888},{"$f":"+Ruta!I154","v":"Marques 3años Botella + Can Agte "},{"$f":"+Ruta!J154","v":"CLL 45 # 98A 28"},{"$f":"+Ruta!K154","v":66978222},null,{"$f":"+Ruta!R154","v":6},{"v":1.994614540740002E-4,"d":"0.02%"},{"v":0.1994614540740002,"d":"0"},3,3,{"v":0.5983843622220005,"d":"1"},9,{"v":1.994614540740002,"d":"2"},30,9]
[null,{"$f":"+Ruta!B155","v":"SI"},{"$f":"+Ruta!C155","v":152},{"$f":"+Ruta!D155","v":"Cali"},{"$f":"+Ruta!E155","v":"TAT"},{"$f":"+Ruta!F155","v":"Ana Rosa Lopera"},{"$f":"+Ruta!G155","v":"Diliana españa"},{"$f":"+Ruta!H155","v":3162451945},{"$f":"+Ruta!I155","v":"Marques 3años Botella + Can Agte "},{"$f":"+Ruta!J155","v":"CR 83C # 48 223"},{"$f":"+Ruta!K155","v":1144084729},null,{"$f":"+Ruta!R155","v":3},{"v":9.97307270370001e-05,"d":"0.01%"},{"v":0.0997307270370001,"d":"0"},3,3,{"v":0.29919218111100027,"d":"0"},9,{"v":0.997307270370001,"d":"1"},30,9]
[null,{"$f":"+Ruta!B156","v":"SI"},{"$f":"+Ruta!C156","v":153},{"$f":"+Ruta!D156","v":"Cali"},{"$f":"+Ruta!E156","v":"TAT"},{"$f":"+Ruta!F156","v":"Ana Rosa Lopera"},{"$f":"+Ruta!G156","v":"Supermercado aranjuez"},{"$f":"+Ruta!H156","v":3722002},{"$f":"+Ruta!I156","v":"Marques 3años Botella + Can Agte "},{"$f":"+Ruta!J156","v":"CR 23 15B 44"},{"$f":"+Ruta!K156","v":1130598374},null,{"$f":"+Ruta!R156","v":7},{"v":2.3270502975300024E-4,"d":"0.02%"},{"v":0.23270502975300023,"d":"0"},3,3,{"v":0.6981150892590007,"d":"1"},9,{"v":2.3270502975300023,"d":"2"},30,9]
[null,{"$f":"+Ruta!B157","v":"SI"},{"$f":"+Ruta!C157","v":154},{"$f":"+Ruta!D157","v":"Cali"},{"$f":"+Ruta!E157","v":"TAT"},{"$f":"+Ruta!F157","v":"Ana Rosa Lopera"},{"$f":"+Ruta!G157","v":"Licores sarasty"},{"$f":"+Ruta!H157","v":3104156267},{"$f":"+Ruta!I157","v":"Marques 3años Botella + Can Agte "},{"$f":"+Ruta!J157","v":"CLL 58A 1B 06"},{"$f":"+Ruta!K157","v":16796483},null,{"$f":"+Ruta!R157","v":5},{"v":1.6621787839500015E-4,"d":"0.02%"},{"v":0.16621787839500016,"d":"0"},3,3,{"v":0.49865363518500044,"d":"0"},9,{"v":1.6621787839500015,"d":"2"},30,9]
[null,{"$f":"+Ruta!B158","v":"SI"},{"$f":"+Ruta!C158","v":155},{"$f":"+Ruta!D158","v":"Cali"},{"$f":"+Ruta!E158","v":"TAT"},{"$f":"+Ruta!F158","v":"Ana Rosa Lopera"},{"$f":"+Ruta!G158","v":"Licores  baratillo"},{"$f":"+Ruta!H158","v":3187914323},{"$f":"+Ruta!I158","v":"Marques 3años Botella + Can Agte "},{"$f":"+Ruta!J158","v":"CR 26U # 122 94"},{"$f":"+Ruta!K158","v":94300252},null,{"$f":"+Ruta!R158","v":6},{"v":1.994614540740002E-4,"d":"0.02%"},{"v":0.1994614540740002,"d":"0"},3,3,{"v":0.5983843622220005,"d":"1"},9,{"v":1.994614540740002,"d":"2"},30,9]
[null,{"$f":"+Ruta!B159","v":"SI"},{"$f":"+Ruta!C159","v":156},{"$f":"+Ruta!D159","v":"Cali"},{"$f":"+Ruta!E159","v":"TAT"},{"$f":"+Ruta!F159","v":"Ana Rosa Lopera"},{"$f":"+Ruta!G159","v":"Giovanny duque"},{"$f":"+Ruta!H159","v":3153471142},{"$f":"+Ruta!I159","v":"Marques 3años Botella + Can Agte "},{"$f":"+Ruta!J159","v":"CR 23 12.ª 03"},{"$f":"+Ruta!K159","v":98391364},null,{"$f":"+Ruta!R159","v":3},{"v":9.97307270370001e-05,"d":"0.01%"},{"v":0.0997307270370001,"d":"0"},3,3,{"v":0.29919218111100027,"d":"0"},9,{"v":0.997307270370001,"d":"1"},30,9]
[null,{"$f":"+Ruta!B160","v":"SI"},{"$f":"+Ruta!C160","v":157},{"$f":"+Ruta!D160","v":"Cali"},{"$f":"+Ruta!E160","v":"TAT"},{"$f":"+Ruta!F160","v":"Ana Rosa Lopera"},{"$f":"+Ruta!G160","v":"Dulceria y licores JL"},{"$f":"+Ruta!H160","v":3218729505},{"$f":"+Ruta!I160","v":"Marques 3años Botella + Can Agte "},{"$f":"+Ruta!J160","v":"CLL 11 # 8 19"},{"$f":"+Ruta!K160","v":1113522977},null,{"$f":"+Ruta!R160","v":25},{"v":8.3108939197500088E-4,"d":"0.08%"},{"v":0.8310893919750009,"d":"1"},3,3,{"v":2.4932681759250026,"d":"2"},9,{"v":8.31089391975001,"d":"8"},30,9]
[null,{"$f":"+Ruta!B161","v":"SI"},{"$f":"+Ruta!C161","v":158},{"$f":"+Ruta!D161","v":"Palmira"},{"$f":"+Ruta!E161","v":"Mayorista "},{"$f":"+Ruta!F161","v":"Katherine Rengifo"},{"$f":"+Ruta!G161","v":"miscelanea San Agustin"},{"$f":"+Ruta!H161","v":2734001},{"$f":"+Ruta!I161","v":"Marques 3 años + caneca agte-marques botella pague 2 lleve 3 - marques caneca 3 años pague 2 lleve 3"},{"$f":"+Ruta!J161","v":"Cra 28 # 35 - 43"},{"$f":"+Ruta!K161","v":0},null,{"$f":"+Ruta!R161","v":300},{"v":0.00997307270370001,"d":"1.00%"},{"v":9.973072703700009,"d":"10"},{"v":7.7239406400858215,"d":"8"},{"v":7.7239406400858215,"d":"8"},{"v":29.919218111100026,"d":"30"},30,{"v":99.7307270370001,"d":"100"},100,30]
[null,{"$f":"+Ruta!B162","v":"SI"},{"$f":"+Ruta!C162","v":159},{"$f":"+Ruta!D162","v":"Ginebra"},{"$f":"+Ruta!E162","v":"Mayorista "},{"$f":"+Ruta!F162","v":"Katherine Rengifo"},{"$f":"+Ruta!G162","v":"Estanco Luz "},{"$f":"+Ruta!H162","v":2561280},{"$f":"+Ruta!I162","v":"Marques 3 años + caneca agte-marques botella pague 2 lleve 3 - marques caneca 3 años pague 2 lleve 3"},{"$f":"+Ruta!J162","v":"Calle 4 # 3 - 58"},{"$f":"+Ruta!K162","v":0},null,{"$f":"+Ruta!R162","v":192},{"v":0.006382766530368006,"d":"0.64%"},{"v":6.382766530368007,"d":"6"},{"v":4.291078133381013,"d":"4"},{"v":4.291078133381013,"d":"4"},{"v":19.148299591104017,"d":"19"},20,{"v":63.827665303680064,"d":"64"},60,20]
[null,{"$f":"+Ruta!B163","v":"SI"},{"$f":"+Ruta!C163","v":160},{"$f":"+Ruta!D163","v":"Villagorgona"},{"$f":"+Ruta!E163","v":"Mayorista "},{"$f":"+Ruta!F163","v":"Katherine Rengifo"},{"$f":"+Ruta!G163","v":"Comercializadora La Berraquera"},{"$f":"+Ruta!H163","v":2607952},{"$f":"+Ruta!I163","v":"oferta ron marques 3 años + caneca de aguardiente"},{"$f":"+Ruta!J163","v":"Calle 16 # 10 - 16"},{"$f":"+Ruta!K163","v":0},null,{"$f":"+Ruta!R163","v":360},{"v":0.011967687244440013,"d":"1.20%"},{"v":11.967687244440013,"d":"12"},{"v":6.436617200071518,"d":"6"},{"v":6.436617200071518,"d":"6"},{"v":35.90306173332004,"d":"36"},40,{"v":119.67687244440013,"d":"120"},120,40]
[null,{"$f":"+Ruta!B164","v":"SI"},{"$f":"+Ruta!C164","v":161},{"$f":"+Ruta!D164","v":"Buga"},{"$f":"+Ruta!E164","v":"Mayorista "},{"$f":"+Ruta!F164","v":"Lina Colonia"},{"$f":"+Ruta!G164","v":"Licores La 21"},{"$f":"+Ruta!H164","v":"316 7156198"},{"$f":"+Ruta!I164","v":0},{"$f":"+Ruta!J164","v":"Calle 21 # 13 - 04"},{"$f":"+Ruta!K164","v":0},null,{"$f":"+Ruta!R164","v":24},{"v":7.9784581629600078E-4,"d":"0.08%"},{"v":0.7978458162960008,"d":"1"},3,3,{"v":2.393537448888002,"d":"2"},9,{"v":7.978458162960008,"d":"8"},{"$f":"+Q164*10","v":30},9]
[null,{"$f":"+Ruta!B165","v":"SI"},{"$f":"+Ruta!C165","v":162},{"$f":"+Ruta!D165","v":"Buga"},{"$f":"+Ruta!E165","v":"Mayorista "},{"$f":"+Ruta!F165","v":"Lina Colonia"},{"$f":"+Ruta!G165","v":"Licores Estambul"},{"$f":"+Ruta!H165","v":"316 6154526"},{"$f":"+Ruta!I165","v":0},{"$f":"+Ruta!J165","v":"Calle 11 # 11-18"},{"$f":"+Ruta!K165","v":0},{"$f":"+Ruta!L165","v":0},{"$f":"+Ruta!R165","v":90},{"v":0.002991921811110003,"d":"0.30%"},{"v":2.991921811110003,"d":"3"},3,3,{"$f":"+R$3*N165","v":{"v":8.97576543333001,"d":"9"}},{"$f":"+P165*3","v":9},{"v":29.919218111100033,"d":"30"},{"$f":"+Q165*10","v":30},9]
[null,{"$f":"+Ruta!B166","v":"SI"},{"$f":"+Ruta!C166","v":163},{"$f":"+Ruta!D166","v":"Buga"},{"$f":"+Ruta!E166","v":"Mayorista "},{"$f":"+Ruta!F166","v":"Lina Colonia"},{"$f":"+Ruta!G166","v":"Distrikopas"},{"$f":"+Ruta!H166","v":0},{"$f":"+Ruta!I166","v":0},{"$f":"+Ruta!J166","v":0},{"$f":"+Ruta!K166","v":0},null,{"$f":"+Ruta!R166","v":0},{"v":0,"d":"0.00%"},0,3,3,0,null,0]
[null,{"$f":"+Ruta!B167","v":"SI"},{"$f":"+Ruta!C167","v":164},{"$f":"+Ruta!D167","v":"La Paila "},{"$f":"+Ruta!E167","v":"Mayorista "},{"$f":"+Ruta!F167","v":"Jhenny Romero"},{"$f":"+Ruta!G167","v":"Miscelanea Melany"},{"$f":"+Ruta!H167","v":3022880752},{"$f":"+Ruta!I167","v":0},{"$f":"+Ruta!J167","v":"Carrera 4 # 12-61"},{"$f":"+Ruta!K167","v":0},null,{"$f":"+Ruta!R167","v":0},{"v":0,"d":"0.00%"},0,3,3,0,null,0]
[null,{"$f":"+Ruta!B184","v":"SI"},{"$f":"+Ruta!C184","v":181},{"$f":"+Ruta!D184","v":"Tuluá"},{"$f":"+Ruta!E184","v":"Licorera"},{"$f":"+Ruta!F184","v":"Lina Colonia"},{"$f":"+Ruta!G184","v":"Licores VIP"},{"$f":"+Ruta!H184","v":3216605343},{"$f":"+Ruta!I184","v":0},{"$f":"+Ruta!J184","v":"Calle 40 # 24 - 78"},{"$f":"+Ruta!K184","v":0},null,{"$f":"+Ruta!R184","v":0},{"v":0,"d":"0.00%"},0,3,3,0,null,0]
[null,{"$f":"+Ruta!B185","v":0},{"$f":"+Ruta!C185","v":0},{"$f":"+Ruta!D185","v":0},{"$f":"+Ruta!E185","v":0},{"$f":"+Ruta!F185","v":0},{"$f":"+Ruta!G185","v":0},{"$f":"+Ruta!H185","v":0},{"$f":"+Ruta!I185","v":0},{"$f":"+Ruta!J185","v":0},{"$f":"+Ruta!K185","v":0},null,{"$f":"+Ruta!R185","v":0},{"v":0,"d":"0.00%"},0,3,3,0,null,0]
[{"$nulls":12},{"$f":"+Ruta!R186","v":0},{"v":0,"d":"0.00%"},{"$nulls":4},0,0,0,{"$f":"+S170*10","v":0}]
[]
[]
[{"$nulls":12},{"$f":"SUBTOTAL(9,M4:M172)","v":{"v":2074,"d":"2,074"}},{"$f":"SUBTOTAL(9,N4:N172)","v":{"v":0.06894717595824607,"d":"7%"}},{"$f":"SUBTOTAL(9,O4:O172)","v":{"v":68.94717595824606,"d":"69"}},{"$f":"SUBTOTAL(9,P4:P172)","v":{"v":66.3198641158591,"d":"66"}},null,{"$f":"SUBTOTAL(9,R4:R172)","v":{"v":206.84152787473818,"d":"207"}},{"$f":"SUBTOTAL(9,S4:S172)","v":{"v":196.32111568031468,"d":"196"}},{"$f":"SUBTOTAL(9,T4:T172)","v":{"v":689.4717595824607,"d":"689"}},{"$f":"SUBTOTAL(9,U4:U172)","v":656},{"$f":"SUBTOTAL(9,V4:V172)","v":{"v":196.32111568031468,"d":"196"}}]

{"sheet":"Hoja1","index":3,"n_rows":89,"n_cols":11,"rows_kept":89,"hidden":true}
[]
[]
["Suma de Total","Etiquetas de columna"]
["Etiquetas de fila",1,2,3,"(en blanco)","Total general","ok",null,null,"Etiquetas de fila","ok"]
[2685975,null,null,10,null,10,{"$f":"+VLOOKUP(A5,Ruta!$K$38:$K$98,1,0)","v":{"$error":"#N/A"}},null,null,2685975,{"$error":"#N/A"}]
[3494086,2,{"$nulls":3},2,{"$f":"+VLOOKUP(A6,Ruta!$K$38:$K$98,1,0)","v":{"$error":"#N/A"}},null,null,3494086,{"$error":"#N/A"}]
[4453658,null,2,null,null,2,{"$f":"+VLOOKUP(A7,Ruta!$K$38:$K$98,1,0)","v":{"$error":"#N/A"}},null,null,4453658,{"$error":"#N/A"}]
[4653824,null,20,null,null,20,{"$f":"+VLOOKUP(A8,Ruta!$K$38:$K$98,1,0)","v":{"$error":"#N/A"}},null,null,4653824,{"$error":"#N/A"}]
[6334121,null,20,null,null,20,{"$f":"+VLOOKUP(A9,Ruta!$K$38:$K$98,1,0)","v":{"$error":"#N/A"}},null,null,6334121,{"$error":"#N/A"}]
[9850773,null,2,null,null,2,{"$f":"+VLOOKUP(A10,Ruta!$K$38:$K$98,1,0)","v":9850773},null,null,9850773,9850773]
[9855053,null,2,null,null,2,{"$f":"+VLOOKUP(A11,Ruta!$K$38:$K$98,1,0)","v":9855053},null,null,9855053,9855053]
[10115498,null,2,null,null,2,{"$f":"+VLOOKUP(A12,Ruta!$K$38:$K$98,1,0)","v":10115498},null,null,10115498,10115498]
[10224700,null,2,null,null,2,{"$f":"+VLOOKUP(A13,Ruta!$K$38:$K$98,1,0)","v":{"$error":"#N/A"}},null,null,10224700,{"$error":"#N/A"}]
[10517213,2,{"$nulls":3},2,{"$f":"+VLOOKUP(A14,Ruta!$K$38:$K$98,1,0)","v":{"$error":"#N/A"}},null,null,10517213,{"$error":"#N/A"}]
[13644003,null,4,null,null,4,{"$f":"+VLOOKUP(A15,Ruta!$K$38:$K$98,1,0)","v":{"$error":"#N/A"}},null,null,13644003,{"$error":"#N/A"}]
[14981868,2,{"$nulls":3},2,{"$f":"+VLOOKUP(A16,Ruta!$K$38:$K$98,1,0)","v":{"$error":"#N/A"}},null,null,14981868,{"$error":"#N/A"}]
[14998749,null,2,null,null,2,{"$f":"+VLOOKUP(A17,Ruta!$K$38:$K$98,1,0)","v":{"$error":"#N/A"}},null,null,14998749,{"$error":"#N/A"}]
[15429690,null,4,null,null,4,{"$f":"+VLOOKUP(A18,Ruta!$K$38:$K$98,1,0)","v":{"$error":"#N/A"}},null,null,15429690,{"$error":"#N/A"}]
[16377467,null,4,null,null,4,{"$f":"+VLOOKUP(A19,Ruta!$K$38:$K$98,1,0)","v":{"$error":"#N/A"}},null,null,16377467,{"$error":"#N/A"}]
[16536358,null,20,null,null,20,{"$f":"+VLOOKUP(A20,Ruta!$K$38:$K$98,1,0)","v":{"$error":"#N/A"}},null,null,16536358,{"$error":"#N/A"}]
[16545153,null,2,null,null,2,{"$f":"+VLOOKUP(A21,Ruta!$K$38:$K$98,1,0)","v":{"$error":"#N/A"}},null,null,16545153,{"$error":"#N/A"}]
[16738410,null,null,20,null,20,{"$f":"+VLOOKUP(A22,Ruta!$K$38:$K$98,1,0)","v":{"$error":"#N/A"}},null,null,16738410,{"$error":"#N/A"}]
[16796483,4,{"$nulls":3},4,{"$f":"+VLOOKUP(A23,Ruta!$K$38:$K$98,1,0)","v":{"$error":"#N/A"}},null,null,16796483,{"$error":"#N/A"}]
[21873936,null,2,null,null,2,{"$f":"+VLOOKUP(A24,Ruta!$K$38:$K$98,1,0)","v":{"$error":"#N/A"}},null,null,21873936,{"$error":"#N/A"}]
[24720136,2,{"$nulls":3},2,{"$f":"+VLOOKUP(A25,Ruta!$K$38:$K$98,1,0)","v":{"$error":"#N/A"}},null,null,24720136,{"$error":"#N/A"}]
[25529383,null,2,null,null,2,{"$f":"+VLOOKUP(A26,Ruta!$K$38:$K$98,1,0)","v":{"$error":"#N/A"}},null,null,25529383,{"$error":"#N/A"}]
[29108561,4,{"$nulls":3},4,{"$f":"+VLOOKUP(A27,Ruta!$K$38:$K$98,1,0)","v":{"$error":"#N/A"}},null,null,29108561,{"$error":"#N/A"}]
[29122250,null,20,null,null,20,{"$f":"+VLOOKUP(A28,Ruta!$K$38:$K$98,1,0)","v":{"$error":"#N/A"}},null,null,29122250,{"$error":"#N/A"}]
[29124640,2,{"$nulls":3},2,{"$f":"+VLOOKUP(A29,Ruta!$K$38:$K$98,1,0)","v":{"$error":"#N/A"}},null,null,29124640,{"$error":"#N/A"}]
[29185357,2,{"$nulls":3},2,{"$f":"+VLOOKUP(A30,Ruta!$K$38:$K$98,1,0)","v":{"$error":"#N/A"}},null,null,29185357,{"$error":"#N/A"}]
[29495749,null,2,null,null,2,{"$f":"+VLOOKUP(A31,Ruta!$K$38:$K$98,1,0)","v":{"$error":"#N/A"}},null,null,29495749,{"$error":"#N/A"}]
[29655305,2,{"$nulls":3},2,{"$f":"+VLOOKUP(A32,Ruta!$K$38:$K$98,1,0)","v":{"$error":"#N/A"}},null,null,29655305,{"$error":"#N/A"}]
[30306298,null,null,20,null,20,{"$f":"+VLOOKUP(A33,Ruta!$K$38:$K$98,1,0)","v":{"$error":"#N/A"}},null,null,30306298,{"$error":"#N/A"}]
[31263536,null,2,null,null,2,{"$f":"+VLOOKUP(A34,Ruta!$K$38:$K$98,1,0)","v":{"$error":"#N/A"}},null,null,31263536,{"$error":"#N/A"}]
[31483542,null,10,null,null,10,{"$f":"+VLOOKUP(A35,Ruta!$K$38:$K$98,1,0)","v":{"$error":"#N/A"}},null,null,31483542,{"$error":"#N/A"}]
[31523227,null,2,null,null,2,{"$f":"+VLOOKUP(A36,Ruta!$K$38:$K$98,1,0)","v":{"$error":"#N/A"}},null,null,31523227,{"$error":"#N/A"}]
[31533755,null,20,null,null,20,{"$f":"+VLOOKUP(A37,Ruta!$K$38:$K$98,1,0)","v":{"$error":"#N/A"}},null,null,31533755,{"$error":"#N/A"}]
[31905517,2,{"$nulls":3},2,{"$f":"+VLOOKUP(A38,Ruta!$K$38:$K$98,1,0)","v":{"$error":"#N/A"}},null,null,31905517,{"$error":"#N/A"}]
[31971928,20,{"$nulls":3},20,{"$f":"+VLOOKUP(A39,Ruta!$K$38:$K$98,1,0)","v":31971928},null,null,31971928,31971928]
[38555629,null,20,null,null,20,{"$f":"+VLOOKUP(A40,Ruta!$K$38:$K$98,1,0)","v":{"$error":"#N/A"}},null,null,38555629,{"$error":"#N/A"}]
[38644553,null,20,null,null,20,{"$f":"+VLOOKUP(A41,Ruta!$K$38:$K$98,1,0)","v":38644553},null,null,38644553,38644553]
[38684955,null,20,null,null,20,{"$f":"+VLOOKUP(A42,Ruta!$K$38:$K$98,1,0)","v":{"$error":"#N/A"}},null,null,38684955,{"$error":"#N/A"}]
[38989090,null,2,null,null,2,{"$f":"+VLOOKUP(A43,Ruta!$K$38:$K$98,1,0)","v":{"$error":"#N/A"}},null,null,38989090,{"$error":"#N/A"}]
[42116594,10,{"$nulls":3},10,{"$f":"+VLOOKUP(A44,Ruta!$K$38:$K$98,1,0)","v":42116594},null,null,42116594,{"$error":"#N/A"}]
[43475437,null,10,null,null,10,{"$f":"+VLOOKUP(A45,Ruta!$K$38:$K$98,1,0)","v":{"$error":"#N/A"}},null,null,43475437,{"$error":"#N/A"}]
[43642694,20,{"$nulls":3},20,{"$f":"+VLOOKUP(A46,Ruta!$K$38:$K$98,1,0)","v":{"$error":"#N/A"}},null,null,43642694,{"$error":"#N/A"}]
[66978529,null,20,null,null,20,{"$f":"+VLOOKUP(A47,Ruta!$K$38:$K$98,1,0)","v":{"$error":"#N/A"}},null,null,66978529,{"$error":"#N/A"}]
[66993437,null,4,null,null,4,{"$f":"+VLOOKUP(A48,Ruta!$K$38:$K$98,1,0)","v":66993437},null,null,66993437,{"$error":"#N/A"}]
[67002900,null,20,null,null,20,{"$f":"+VLOOKUP(A49,Ruta!$K$38:$K$98,1,0)","v":{"$error":"#N/A"}},null,null,67002900,{"$error":"#N/A"}]
[67003801,null,10,null,null,10,{"$f":"+VLOOKUP(A50,Ruta!$K$38:$K$98,1,0)","v":{"$error":"#N/A"}},null,null,67003801,{"$error":"#N/A"}]
[67026466,2,{"$nulls":3},2,{"$f":"+VLOOKUP(A51,Ruta!$K$38:$K$98,1,0)","v":{"$error":"#N/A"}},null,null,67026466,{"$error":"#N/A"}]
[70386383,null,2,null,null,2,{"$f":"+VLOOKUP(A52,Ruta!$K$38:$K$98,1,0)","v":{"$error":"#N/A"}},null,null,70386383,{"$error":"#N/A"}]
[70753695,null,20,null,null,20,{"$f":"+VLOOKUP(A53,Ruta!$K$38:$K$98,1,0)","v":{"$error":"#N/A"}},null,null,70753695,{"$error":"#N/A"}]
[70828284,null,2,null,null,2,{"$f":"+VLOOKUP(A54,Ruta!$K$38:$K$98,1,0)","v":{"$error":"#N/A"}},null,null,70828284,{"$error":"#N/A"}]
[71142237,4,{"$nulls":3},4,{"$f":"+VLOOKUP(A55,Ruta!$K$38:$K$98,1,0)","v":{"$error":"#N/A"}},null,null,71142237,{"$error":"#N/A"}]
[71371926,null,20,null,null,20,{"$f":"+VLOOKUP(A56,Ruta!$K$38:$K$98,1,0)","v":71371926},null,null,71371926,71371926]
[94071006,null,20,null,null,20,{"$f":"+VLOOKUP(A57,Ruta!$K$38:$K$98,1,0)","v":{"$error":"#N/A"}},null,null,94071006,{"$error":"#N/A"}]
[94193276,2,{"$nulls":3},2,{"$f":"+VLOOKUP(A58,Ruta!$K$38:$K$98,1,0)","v":{"$error":"#N/A"}},null,null,94193276,{"$error":"#N/A"}]
[94386842,null,2,null,null,2,{"$f":"+VLOOKUP(A59,Ruta!$K$38:$K$98,1,0)","v":{"$error":"#N/A"}},null,null,94386842,{"$error":"#N/A"}]
[94400940,null,2,null,null,2,{"$f":"+VLOOKUP(A60,Ruta!$K$38:$K$98,1,0)","v":{"$error":"#N/A"}},null,null,94400940,{"$error":"#N/A"}]
[94417963,null,2,null,null,2,{"$f":"+VLOOKUP(A61,Ruta!$K$38:$K$98,1,0)","v":{"$error":"#N/A"}},null,null,94417963,{"$error":"#N/A"}]
[94422261,null,2,null,null,2,{"$f":"+VLOOKUP(A62,Ruta!$K$38:$K$98,1,0)","v":{"$error":"#N/A"}},null,null,94422261,{"$error":"#N/A"}]
[94506728,null,2,null,null,2,{"$f":"+VLOOKUP(A63,Ruta!$K$38:$K$98,1,0)","v":{"$error":"#N/A"}},null,null,94506728,{"$error":"#N/A"}]
[94517200,null,4,null,null,4,{"$f":"+VLOOKUP(A64,Ruta!$K$38:$K$98,1,0)","v":94517200},null,null,94517200,94517200]
[94543390,null,20,null,null,20,{"$f":"+VLOOKUP(A65,Ruta!$K$38:$K$98,1,0)","v":94543390},null,null,94543390,94543390]
[901235591,null,20,10,null,30,{"$f":"+VLOOKUP(A66,Ruta!$K$38:$K$98,1,0)","v":{"$error":"#N/A"}},null,null,901235591,{"$error":"#N/A"}]
[967023320,null,2,null,null,2,{"$f":"+VLOOKUP(A67,Ruta!$K$38:$K$98,1,0)","v":967023320},null,null,967023320,967023320]
[1024518932,null,20,null,null,20,{"$f":"+VLOOKUP(A68,Ruta!$K$38:$K$98,1,0)","v":{"$error":"#N/A"}},null,null,1024518932,{"$error":"#N/A"}]
[1032363617,null,20,null,null,20,{"$f":"+VLOOKUP(A69,Ruta!$K$38:$K$98,1,0)","v":1032363617},null,null,1032363617,1032363617]
[1041328694,null,20,null,null,20,{"$f":"+VLOOKUP(A70,Ruta!$K$38:$K$98,1,0)","v":{"$error":"#N/A"}},null,null,1041328694,{"$error":"#N/A"}]
[1047410654,null,10,null,null,10,{"$f":"+VLOOKUP(A71,Ruta!$K$38:$K$98,1,0)","v":{"$error":"#N/A"}},null,null,1047410654,{"$error":"#N/A"}]
[1058843345,null,2,null,null,2,{"$f":"+VLOOKUP(A72,Ruta!$K$38:$K$98,1,0)","v":{"$error":"#N/A"}},null,null,1058843345,{"$error":"#N/A"}]
[1098337533,4,{"$nulls":3},4,{"$f":"+VLOOKUP(A73,Ruta!$K$38:$K$98,1,0)","v":{"$error":"#N/A"}},null,null,1098337533,{"$error":"#N/A"}]
[1113068055,2,{"$nulls":3},2,{"$f":"+VLOOKUP(A74,Ruta!$K$38:$K$98,1,0)","v":{"$error":"#N/A"}},null,null,1113068055,{"$error":"#N/A"}]
[1118296911,2,{"$nulls":3},2,{"$f":"+VLOOKUP(A75,Ruta!$K$38:$K$98,1,0)","v":1118296911},null,null,1118296911,1118296911]
[1130590173,null,4,null,null,4,{"$f":"+VLOOKUP(A76,Ruta!$K$38:$K$98,1,0)","v":{"$error":"#N/A"}},null,null,1130590173,{"$error":"#N/A"}]
[1130591583,null,4,null,null,4,{"$f":"+VLOOKUP(A77,Ruta!$K$38:$K$98,1,0)","v":1130591583},null,null,1130591583,1130591583]
[1130598374,null,10,null,null,10,{"$f":"+VLOOKUP(A78,Ruta!$K$38:$K$98,1,0)","v":{"$error":"#N/A"}},null,null,1130598374,{"$error":"#N/A"}]
[1130656816,4,{"$nulls":3},4,{"$f":"+VLOOKUP(A79,Ruta!$K$38:$K$98,1,0)","v":1130656816},null,null,1130656816,1130656816]
[1130679015,null,2,null,null,2,{"$f":"+VLOOKUP(A80,Ruta!$K$38:$K$98,1,0)","v":1130679015},null,null,1130679015,{"$error":"#N/A"}]
[1143830559,null,2,null,null,2,{"$f":"+VLOOKUP(A81,Ruta!$K$38:$K$98,1,0)","v":{"$error":"#N/A"}},null,null,1143830559,{"$error":"#N/A"}]
[1143848323,2,{"$nulls":3},2,{"$f":"+VLOOKUP(A82,Ruta!$K$38:$K$98,1,0)","v":{"$error":"#N/A"}},null,null,1143848323,{"$error":"#N/A"}]
[1143856219,2,{"$nulls":3},2,{"$f":"+VLOOKUP(A83,Ruta!$K$38:$K$98,1,0)","v":{"$error":"#N/A"}},null,null,1143856219,{"$error":"#N/A"}]
[1143981647,10,{"$nulls":3},10,{"$f":"+VLOOKUP(A84,Ruta!$K$38:$K$98,1,0)","v":{"$error":"#N/A"}},null,null,1143981647,{"$error":"#N/A"}]
[1144025746,null,4,null,null,4,{"$f":"+VLOOKUP(A85,Ruta!$K$38:$K$98,1,0)","v":{"$error":"#N/A"}},null,null,1144025746,{"$error":"#N/A"}]
[1144073992,null,4,null,null,4,{"$f":"+VLOOKUP(A86,Ruta!$K$38:$K$98,1,0)","v":{"$error":"#N/A"}},null,null,1144073992,{"$error":"#N/A"}]
[1151943206,null,20,null,null,20,{"$f":"+VLOOKUP(A87,Ruta!$K$38:$K$98,1,0)","v":{"$error":"#N/A"}},null,null,1151943206,{"$error":"#N/A"}]
["(en blanco)"]
["Total general",108,514,60,null,682]

{"sheet":"Encuesta","index":4,"n_rows":85,"n_cols":11,"rows_kept":85,"hidden":true}
["ENCUESTA_ID","ASESOR_ID","CODIGO_CLIENTE","FECHA_INICIO","Fecha","Semana","DE 30.000 A 50.000","DE 50.001 A 100.000","DE 100.001 A 300.000","DE 300.001 EN ADELANTE","Total"]
["A126-39","DBL55",31971928,"2020/05/02  1:10PM",{"$f":"+MID(D2,1,11)","v":"2020/05/02 "},1,{"$nulls":3},20,{"$f":"+SUM(G2:J2)","v":20}]
["A125-51","DBL51",29655305,"2020/04/29  8:30AM","2020/04/29 ",1,2,{"$nulls":3},{"$f":"+SUM(G3:J3)","v":2}]
["A125-76","DBL51",1143848323,"2020/04/29 12:13PM","2020/04/29 ",1,2,{"$nulls":3},2]
["A125-4","DBL51",10517213,"2020/04/28  8:20AM","2020/04/28 ",1,2,{"$nulls":3},2]
["A118-251","DBL53",3494086,"2020/04/28  8:26AM","2020/04/28 ",1,2,{"$nulls":3},2]
["A116-244","DBL56",67026466,"2020/04/28  8:51AM","2020/04/28 ",1,2,{"$nulls":3},2]
["A116-245","DBL56",14981868,"2020/04/28  8:52AM","2020/04/28 ",1,2,{"$nulls":3},2]
["A118-254","DBL53",24720136,"2020/04/28  9:04AM","2020/04/28 ",1,2,{"$nulls":3},2]
["A116-246","DBL56",31905517,"2020/04/28  9:24AM","2020/04/28 ",1,2,{"$nulls":3},2]
["A116-247","DBL56",1098337533,"2020/04/28  9:24AM","2020/04/28 ",1,null,4,null,null,4]
["A116-248","DBL56",1113068055,"2020/04/28  9:24AM","2020/04/28 ",1,2,{"$nulls":3},2]
["A116-249","DBL56",1143856219,"2020/04/28  9:24AM","2020/04/28 ",1,2,{"$nulls":3},2]
["A116-250","DBL56",29108561,"2020/04/28  9:27AM","2020/04/28 ",1,null,4,null,null,4]
["A118-258","DBL53",1143981647,"2020/04/28  9:41AM","2020/04/28 ",1,null,null,10,null,10]
["A118-260","DBL53",94193276,"2020/04/28  9:54AM","2020/04/28 ",1,2,{"$nulls":3},2]
["A118-265","DBL53",16796483,"2020/04/28 11:08AM","2020/04/28 ",1,null,4,null,null,4]
["A118-266","DBL53",1130656816,"2020/04/28 11:26AM","2020/04/28 ",1,null,4,null,null,4]
["A103-454","DBL52",29185357,"2020/04/28 12:46PM","2020/04/28 ",1,2,{"$nulls":3},2]
["A118-271","DBL53",71142237,"2020/04/28 12:46PM","2020/04/28 ",1,null,4,null,null,4]
["A114-368","DBL50",1118296911,"2020/04/28 12:51PM","2020/04/28 ",1,2,{"$nulls":3},2]
["A123-303","DBL55",42116594,"2020/04/28  1:06PM","2020/04/28 ",1,null,null,10,null,10]
["A103-458","DBL52",43642694,"2020/04/28  1:12PM","2020/04/28 ",1,{"$nulls":3},20,20]
["A118-274","DBL53",29124640,"2020/04/28  1:18PM","2020/04/28 ",1,2,{"$nulls":3},2]
["A118-385","DBL53",9850773,"2020/05/09 10:11AM","2020/05/09 ",2,2,{"$nulls":3},2]
["A126-225","DBL55",29495749,"2020/05/09  1:19PM","2020/05/09 ",2,2,{"$nulls":3},2]
["A114-531","DBL50",31523227,"2020/05/08  8:41AM","2020/05/08 ",2,2,{"$nulls":3},2]
["A118-379","DBL53",1130598374,"2020/05/08 11:02AM","2020/05/08 ",2,null,null,10,null,10]
["A114-552","DBL50",967023320,"2020/05/08  1:55PM","2020/05/08 ",2,2,{"$nulls":3},2]
["A114-554","DBL50",94422261,"2020/05/08  1:57PM","2020/05/08 ",2,2,{"$nulls":3},2]
["A114-505","DBL50",25529383,"2020/05/07 10:36AM","2020/05/07 ",2,2,{"$nulls":3},2]
["A109-329","DBL54",16536358,"2020/05/06 10:52AM","2020/05/06 ",2,{"$nulls":3},20,20]
["A109-290","DBL54",70753695,"2020/05/05  9:17AM","2020/05/05 ",2,{"$nulls":3},20,20]
["A109-293","DBL54",1041328694,"2020/05/05  9:19AM",{"$f":"+MID(D34,1,11)","v":"2020/05/05 "},2,{"$nulls":3},20,20]
["A109-295","DBL54",1024518932,"2020/05/05  9:25AM","2020/05/05 ",2,{"$nulls":3},20,20]
["A109-297","DBL54",43475437,"2020/05/05  9:30AM","2020/05/05 ",2,null,null,10,null,10]
["A109-301","DBL54",1047410654,"2020/05/05 10:08AM","2020/05/05 ",2,null,null,10,null,10]
["A109-304","DBL54",1151943206,"2020/05/05 10:26AM","2020/05/05 ",2,{"$nulls":3},20,20]
["A109-306","DBL54",66978529,"2020/05/05 10:36AM","2020/05/05 ",2,{"$nulls":3},20,20]
["A114-490","DBL50",94417963,"2020/05/05 10:40AM","2020/05/05 ",2,2,{"$nulls":3},2]
["A109-309","DBL54",29122250,"2020/05/05 11:32AM","2020/05/05 ",2,{"$nulls":3},20,20]
["A114-496","DBL50",14998749,"2020/05/05 12:08PM","2020/05/05 ",2,2,{"$nulls":3},2]
["A109-318","DBL54",71371926,"2020/05/05  1:11PM","2020/05/05 ",2,{"$nulls":3},20,20]
["A109-320","DBL54",38684955,"2020/05/05  1:19PM","2020/05/05 ",2,{"$nulls":3},20,20]
["A109-322","DBL54",94071006,"2020/05/05  1:30PM","2020/05/05 ",2,{"$nulls":3},20,20]
["A126-63","DBL55",1144025746,"2020/05/04  8:12AM","2020/05/04 ",2,null,4,null,null,4]
["A118-300","DBL53",10224700,"2020/05/04  8:27AM","2020/05/04 ",2,2,{"$nulls":3},2]
["A118-303","DBL53",94517200,"2020/05/04  8:35AM","2020/05/04 ",2,null,4,null,null,4]
["A125-88","DBL51",94400940,"2020/05/04  8:35AM","2020/05/04 ",2,2,{"$nulls":3},2]
["A126-67","DBL55",901235591,"2020/05/04  8:36AM","2020/05/04 ",2,{"$nulls":3},20,20]
["A125-90","DBL51",1143830559,"2020/05/04  8:37AM","2020/05/04 ",2,2,{"$nulls":3},2]
["A125-92","DBL51",94386842,"2020/05/04  8:39AM","2020/05/04 ",2,2,{"$nulls":3},2]
["A125-94","DBL51",1130590173,"2020/05/04  8:42AM","2020/05/04 ",2,null,4,null,null,4]
["A118-306","DBL53",13644003,"2020/05/04  8:48AM","2020/05/04 ",2,null,4,null,null,4]
["A125-97","DBL51",15429690,"2020/05/04  8:50AM","2020/05/04 ",2,null,4,null,null,4]
["A106-348","DBL58",66993437,"2020/05/04  8:55AM","2020/05/04 ",2,null,4,null,null,4]
["A109-254","DBL54",16545153,"2020/05/04  8:57AM","2020/05/04 ",2,2,{"$nulls":3},2]
["A114-445","DBL50",21873936,"2020/05/04  9:22AM","2020/05/04 ",2,2,{"$nulls":3},2]
["A106-356","DBL58",1130679015,"2020/05/04  9:29AM","2020/05/04 ",2,2,{"$nulls":3},2]
["A118-313","DBL53",38555629,"2020/05/04  9:49AM","2020/05/04 ",2,{"$nulls":3},20,20]
["A109-261","DBL54",6334121,"2020/05/04 10:02AM","2020/05/04 ",2,{"$nulls":3},20,20]
["A118-316","DBL53",16377467,"2020/05/04 10:20AM","2020/05/04 ",2,null,4,null,null,4]
["A109-264","DBL54",38644553,"2020/05/04 10:57AM","2020/05/04 ",2,{"$nulls":3},20,20]
["A118-320","DBL53",1130591583,"2020/05/04 11:03AM","2020/05/04 ",2,null,4,null,null,4]
["A114-458","DBL50",70386383,"2020/05/04 11:24AM","2020/05/04 ",2,2,{"$nulls":3},2]
["A109-267","DBL54",94543390,"2020/05/04 11:38AM",{"$f":"+MID(D66,1,11)","v":"2020/05/04 "},2,{"$nulls":3},20,20]
["A114-461","DBL50",10115498,"2020/05/04 11:43AM","2020/05/04 ",2,2,{"$nulls":3},{"$f":"+SUM(G67:J67)","v":2}]
["A118-327","DBL53",1144073992,"2020/05/04 11:49AM","2020/05/04 ",2,null,4,null,null,4]
["A114-467","DBL50",38989090,"2020/05/04 12:24PM","2020/05/04 ",2,2,{"$nulls":3},2]
["A125-115","DBL51",31263536,"2020/05/04 12:27PM","2020/05/04 ",2,2,{"$nulls":3},2]
["A118-334","DBL53",94506728,"2020/05/04 12:42PM","2020/05/04 ",2,2,{"$nulls":3},2]
["A109-273","DBL54",4653824,"2020/05/04 12:55PM","2020/05/04 ",2,{"$nulls":3},20,20]
["A103-521","DBL52",31483542,"2020/05/04  1:33PM","2020/05/04 ",2,null,null,10,null,10]
["A126-81","DBL55",1032363617,"2020/05/04  1:35PM","2020/05/04 ",2,{"$nulls":3},20,20]
["A114-478","DBL50",9855053,"2020/05/04  1:38PM","2020/05/04 ",2,2,{"$nulls":3},2]
["A118-338","DBL53",4453658,"2020/05/04  1:48PM","2020/05/04 ",2,2,{"$nulls":3},2]
["A109-277","DBL54",31533755,"2020/05/04  2:00PM","2020/05/04 ",2,{"$nulls":3},20,20]
["A109-279","DBL54",67003801,"2020/05/04  2:04PM","2020/05/04 ",2,null,null,10,null,10]
["A109-282","DBL54",67002900,"2020/05/04  2:24PM","2020/05/04 ",2,{"$nulls":3},20,20]
["A114-486","DBL50",1058843345,"2020/05/04  3:07PM","2020/05/04 ",2,2,{"$nulls":3},2]
["A106-386","DBL58",70828284,"2020/05/04  3:15PM","2020/05/04 ",2,2,{"$nulls":3},2]
["A126-253","DBL55",901235591,"2020/05/11  8:29AM","2020/05/11 ",3,null,null,10,null,10]
["A103-557","DBL52",2685975,"2020/05/11 10:53AM","2020/05/11 ",3,null,null,10,null,10]
["A109-355","DBL54",16738410,"2020/05/11 11:15AM","2020/05/11 ",3,{"$nulls":3},20,20]
["A103-562","DBL52",30306298,"2020/05/11 11:31AM","2020/05/11 ",3,{"$nulls":3},20,20]